BEGIN:VCALENDAR
VERSION:2.0
PRODID:-//Scandinavia House - ECPv6.15.3//NONSGML v1.0//EN
CALSCALE:GREGORIAN
METHOD:PUBLISH
X-ORIGINAL-URL:https://www.scandinaviahouse.org
X-WR-CALDESC:Events for Scandinavia House
REFRESH-INTERVAL;VALUE=DURATION:PT1H
X-Robots-Tag:noindex
X-PUBLISHED-TTL:PT1H
BEGIN:VTIMEZONE
TZID:America/New_York
BEGIN:DAYLIGHT
TZOFFSETFROM:-0500
TZOFFSETTO:-0400
TZNAME:EDT
DTSTART:20230312T070000
END:DAYLIGHT
BEGIN:STANDARD
TZOFFSETFROM:-0400
TZOFFSETTO:-0500
TZNAME:EST
DTSTART:20231105T060000
END:STANDARD
END:VTIMEZONE
BEGIN:VEVENT
DTSTART;TZID=America/New_York:20231007T143000
DTEND;TZID=America/New_York:20231007T160000
DTSTAMP:20260420T163621
CREATED:20230829T184152Z
LAST-MODIFIED:20240521T191125Z
UID:10002288-1696689000-1696694400@www.scandinaviahouse.org
SUMMARY:EDVARD MUNCH: TRANSFORMING NATURE
DESCRIPTION:On October 7\, join us for the discussion Edvard Munch: Transforming Nature. Jay A. Clarke\, who received a grant from the American-Scandinavian Foundation to conduct research for the current exhibition and publication Edvard Munch: Trembling Earth on view now at the Clark Art Institution through October 15\, is Rothman Family Curator of Prints and Drawings at the Art Institute of Chicago. In today’s discussion\, Clarke will examine how Munch animated nature to bring meaning to his work. Known primarily as a figure painter\, Munch’s best-known images are connected to themes of love\, anxiety\, longing\, and death; yet a large portion of his works feature landscape. \nThis talk will consider his iconic images from a new perspective\, one that resonates with current anxieties around climate instability. His depictions of the natural world celebrate the fecundity of the earth in farming practice and garden cultivation\, question the mysteries of the forest\, and address psychological states. The lecture will also explore how Munch developed his own pantheistic and philosophical views of nature and used them to transform his surroundings. \nRegister
URL:https://www.scandinaviahouse.org/event/edvard-munch-transforming-nature/
LOCATION:Scandinavia House\, 58 Park Avenue\, New York\, NY\, 10016\, United States
ATTACH;FMTTYPE=image/jpeg:https://www.scandinaviahouse.org/wp-content/uploads/2023/08/Jay-Clark-NEW-WEB-scaled.jpg
END:VEVENT
END:VCALENDAR