BEGIN:VCALENDAR
VERSION:2.0
PRODID:-//Scandinavia House - ECPv6.15.3//NONSGML v1.0//EN
CALSCALE:GREGORIAN
METHOD:PUBLISH
X-WR-CALNAME:Scandinavia House
X-ORIGINAL-URL:https://www.scandinaviahouse.org
X-WR-CALDESC:Events for Scandinavia House
REFRESH-INTERVAL;VALUE=DURATION:PT1H
X-Robots-Tag:noindex
X-PUBLISHED-TTL:PT1H
BEGIN:VTIMEZONE
TZID:America/New_York
BEGIN:DAYLIGHT
TZOFFSETFROM:-0500
TZOFFSETTO:-0400
TZNAME:EDT
DTSTART:20230312T070000
END:DAYLIGHT
BEGIN:STANDARD
TZOFFSETFROM:-0400
TZOFFSETTO:-0500
TZNAME:EST
DTSTART:20231105T060000
END:STANDARD
END:VTIMEZONE
BEGIN:VEVENT
DTSTART;TZID=America/New_York:20231022T120000
DTEND;TZID=America/New_York:20231022T180000
DTSTAMP:20260420T074638
CREATED:20231017T004347Z
LAST-MODIFIED:20231017T004347Z
UID:10003005-1697976000-1697997600@www.scandinaviahouse.org
SUMMARY:OPEN HOUSE NEW YORK 2023
DESCRIPTION:Scandinavia House is delighted to once again be participating in Open House New York! We will be opening our doors for self-guided tours on Saturday and Sunday\, October 21 & 22\, with special weekend hours both days for our new exhibition Narrative Threads: Works by Eight Nordic Artists. \nExplore spaces in the building on a self-guided tour\, including the third-floor gallery and the current exhibition\, Narrative Threads: Works by Eight Nordic Artists\, which presents multi-media artwork by Nordic artists who are distinguished by their innovative use of natural\, synthetic\, and digital materials (open Saturday & Sunday\, 12-6 PM); the lower-level Victor Borge Hall\, dedicated to the legendary Danish entertainer\, which features films\, concerts\, and performing arts (Saturday open lobby only\, 12-6 PM; Sunday\, 1-6 PM); the second floor Volvo Hall event and reception space (Sunday only\, 1-6 PM); the interactive Heimbold Family Children’s Playing and Learning Center (Sunday only); and the Halldór Laxness Library (Saturday & Sunday\, 12-6 PM). Björk Cafe & Bistro will also be open for dining both days\, as well as the Shop at Scandinavia House.
URL:https://www.scandinaviahouse.org/event/open-house-new-york-2023/2023-10-22/
LOCATION:Scandinavia House\, 58 Park Avenue\, New York\, NY\, 10016\, United States
ATTACH;FMTTYPE=image/jpeg:https://www.scandinaviahouse.org/wp-content/uploads/2023/10/OHNY-2023-scaled.jpg
END:VEVENT
END:VCALENDAR