BEGIN:VCALENDAR
VERSION:2.0
PRODID:-//Scandinavia House - ECPv6.15.3//NONSGML v1.0//EN
CALSCALE:GREGORIAN
METHOD:PUBLISH
X-ORIGINAL-URL:https://www.scandinaviahouse.org
X-WR-CALDESC:Events for Scandinavia House
REFRESH-INTERVAL;VALUE=DURATION:PT1H
X-Robots-Tag:noindex
X-PUBLISHED-TTL:PT1H
BEGIN:VTIMEZONE
TZID:America/New_York
BEGIN:DAYLIGHT
TZOFFSETFROM:-0500
TZOFFSETTO:-0400
TZNAME:EDT
DTSTART:20230312T070000
END:DAYLIGHT
BEGIN:STANDARD
TZOFFSETFROM:-0400
TZOFFSETTO:-0500
TZNAME:EST
DTSTART:20231105T060000
END:STANDARD
END:VTIMEZONE
BEGIN:VEVENT
DTSTART;TZID=America/New_York:20231108T174500
DTEND;TZID=America/New_York:20231108T184500
DTSTAMP:20260421T051313
CREATED:20230830T193945Z
LAST-MODIFIED:20240516T174224Z
UID:10002850-1699465500-1699469100@www.scandinaviahouse.org
SUMMARY:NORWEGIAN 1 — HYBRID LANGUAGE CLASSES
DESCRIPTION:Learn the Nordic languages in classes offered this fall at Scandinavia House! In this beginner’s course\, you will build your Norwegian vocabulary\, pronunciation\, and grammar skills\, while also learning about Norwegian culture and life. By the course’s end\, you should be able to conduct simple conversations in Norwegian. \nYou will get to practice conversations and reading in class\, and there will be a focus on pronunciation\, and Norwegian vowels and sounds\, which may be new to your ear. Students are welcome to bring personal experiences\, anecdotes\, and facts about Norway into class discussions. There will also be at-home assignments focusing on reading\, writing\, and grammar\, as well as an optional end-of-semester presentation. \nOutside of class\, students are encouraged to watch Norwegian shows\, and movies\, read simple text\, and have Norwegian podcasts on in the background. \nThe required text will be provided via pdf\, before the first class. \nRegister
URL:https://www.scandinaviahouse.org/event/norwegian-1-hybrid-language-classes/2023-11-08/
LOCATION:NY
ATTACH;FMTTYPE=image/jpeg:https://www.scandinaviahouse.org/wp-content/uploads/2022/09/peter-hansen-TR8X68ILkGA-unsplash-new-website-scaled.jpg
END:VEVENT
BEGIN:VEVENT
DTSTART;TZID=America/New_York:20231108T183000
DTEND;TZID=America/New_York:20231108T210000
DTSTAMP:20260421T051313
CREATED:20230911T202834Z
LAST-MODIFIED:20231102T162959Z
UID:10002995-1699468200-1699477200@www.scandinaviahouse.org
SUMMARY:SOLD OUT: REMEMBER TO BLINK — NEW YORK BALTIC FILM FESTIVAL
DESCRIPTION:THIS EVENT IS NOW SOLD OUT. \nThe 6th Annual New York Baltic Film Festival (NYBFF) presented by Scandinavia House: The Nordic Center in America returns this November with the best new films from the Baltic region! In our Opening Night Celebration on November 8\, see the North American Premiere of Remember to Blink\, Austėja Urbaitė’s captivating drama exploring cultural conflicts amid the intricacies of human behavior. \nHaving adopted two Lithuanian children\, French couple Leon (Arthur Igual) and Jacqueline (Anne Azoulay)\, who live in a beautiful house in the French mountains\, enlist young Lithuanian student Gabriele (Dovile Kundrotaite) to serve as an interpreter and nanny. When the children arrive\, however\, their idyllic façade of their new family arrangement gives way to underlying tensions and cultural clashes — the couple might not be familiar with their adopted children’s origins\, leading to conflicts and misunderstandings\, and unearthing the complexities of parenthood and culture. \nDirector Austėja Urbaitė’s debut is a thought-provoking exploration of the subtle dynamics of what it means to become a family. The film skillfully unveils the characters’ multifaceted and irrational traits\, weaving a tapestry of relationships that question the boundaries of culture and identity\, and exposes a form of “Neo-colonialism” reflecting broader cultural conflicts. Urbaitė deftly employs unpredictability of her characters with nuanced performances to maintain viewer engagement\, while cinematographer Julius Sičiūnas juxtaposes the serene natural surroundings with the mounting tension within the confined household.
URL:https://www.scandinaviahouse.org/event/opening-night-film-remember-to-blink-new-york-baltic-film-festival/
LOCATION:Scandinavia House\, 58 Park Avenue\, New York\, NY\, 10016\, United States
CATEGORIES:Films
ATTACH;FMTTYPE=image/jpeg:https://www.scandinaviahouse.org/wp-content/uploads/2023/09/1-BLINK_MAIN_WEB-scaled.jpg
END:VEVENT
BEGIN:VEVENT
DTSTART;TZID=America/New_York:20231108T184000
DTEND;TZID=America/New_York:20231108T194000
DTSTAMP:20260421T051313
CREATED:20241120T193117Z
LAST-MODIFIED:20241120T193117Z
UID:10002959-1699468800-1699472400@www.scandinaviahouse.org
SUMMARY:SWEDISH BEGINNER 1
DESCRIPTION:Learn the Nordic languages in classes offered at Scandinavia House! In this course held both in-person and as remote learning for those completely new to Swedish\, students will learn the very basics of Swedish structure and pronunciation while also discussing cultural aspects of Swedish life. This class will take place as hybrid learning\, with Monday sessions both online and in-person at Scandinavia House and Wednesday sessions online via Zoom. \nEnroll
URL:https://www.scandinaviahouse.org/event/swedish-beginner-1-winter2023/2023-11-08/
LOCATION:Scandinavia House\, 58 Park Avenue\, New York\, NY\, 10016\, United States
ATTACH;FMTTYPE=image/jpeg:https://www.scandinaviahouse.org/wp-content/uploads/2022/08/lieselotte_van_der_meijs-hurray-8255_2-new-website-scaled.jpg
END:VEVENT
BEGIN:VEVENT
DTSTART;TZID=America/New_York:20231108T190000
DTEND;TZID=America/New_York:20231108T210000
DTSTAMP:20260421T051313
CREATED:20230906T174552Z
LAST-MODIFIED:20230906T174552Z
UID:10002927-1699470000-1699477200@www.scandinaviahouse.org
SUMMARY:NORWEGIAN 4 — HYBRID LANGUAGE CLASSES
DESCRIPTION:Learn the Nordic languages in classes offered this spring at Scandinavia House! Designed for intermediate learners who have taken Norwegian 3 or equivalent\, this course continues to expand and refine your speaking\, listening\, reading\, and writing skills\, enabling grammatically correct conversations\, and language structure. A stronger focus will be given to pronunciation\, Norwegian structure\, tone\, and flow. \nYou will get the opportunity to hone in your knowledge of grammatical structures\, thus engaging more confidently in conversations and discussions in class\, expanding your vocabulary\, and fine-tuning your listening skills. Students are actively encouraged to talk more in-depth about their own experiences in Norwegian. \nThere will also be weekly at-home assignments\, and more\, focusing on reading\, writing\, and grammar\, as well as a strongly recommend end-of-semester presentation. Students are strongly encouraged to watch and read Norwegian news\, and articles\, watch Norwegian shows and movies\, and listen to podcasts and audio books\, as often as possible\, on a weekly basis at a minimum. These classes are conducted in Norwegian\, with the occasional English word/sentence. \nPlease note that in order to take this course\, you should be comfortable using the simple past tense and present perfect\, and have knowledge of regular and irregular verbs\, as well as their irregularities and rules. You should also be able to use indefinite\, definite\, and plural forms of masculine\, feminine\, and neuter nouns; conjugate adjectives; and apply intermediate Norwegian sentence structure\, including “inversion.” \nEnroll
URL:https://www.scandinaviahouse.org/event/norwegian-4-hybrid-language-classes/2023-11-08/
LOCATION:Scandinavia House\, 58 Park Avenue\, New York\, NY\, 10016\, United States
ATTACH;FMTTYPE=image/jpeg:https://www.scandinaviahouse.org/wp-content/uploads/2023/09/boat-3141095_NEW-WEB-scaled.jpg
END:VEVENT
BEGIN:VEVENT
DTSTART;TZID=America/New_York:20231108T195000
DTEND;TZID=America/New_York:20231108T205000
DTSTAMP:20260421T051313
CREATED:20241120T193116Z
LAST-MODIFIED:20241120T193116Z
UID:10002944-1699473000-1699476600@www.scandinaviahouse.org
SUMMARY:SWEDISH BEGINNER 2 — HYBRID LANGUAGE CLASSES
DESCRIPTION:Learn the Nordic languages in classes offered this winter at Scandinavia House! This course is for those who are still new to Swedish but perhaps have studied some on their own using apps or through other means. Students will have a basic knowledge of sentence structure\, greetings\, know their numbers\, how to tell time and already possess a small but basic vocabulary. This semester the students will move beyond themselves and explore how to buy and order things\, talk about what they do in their spare time\, and read about an historical figure. Grammatically they will expand into other tenses and learn how adjectives and nouns inform each other. Various facets of Swedish life may be discussed during the course. This class will take place as hybrid learning on Mondays with classes offered at Scandinavia House and online via Zoom\, and online-only on Wednesdays. \nEnroll
URL:https://www.scandinaviahouse.org/event/swedish-beginner-2-hybrid-language-classes/2023-11-08/
LOCATION:Scandinavia House\, 58 Park Avenue\, New York\, NY\, 10016\, United States
ATTACH;FMTTYPE=image/jpeg:https://www.scandinaviahouse.org/wp-content/uploads/2022/08/Lars-Lundqvist_Flickr-new-website-scaled.jpg
END:VEVENT
END:VCALENDAR