BEGIN:VCALENDAR
VERSION:2.0
PRODID:-//Scandinavia House - ECPv6.15.3//NONSGML v1.0//EN
CALSCALE:GREGORIAN
METHOD:PUBLISH
X-WR-CALNAME:Scandinavia House
X-ORIGINAL-URL:https://www.scandinaviahouse.org
X-WR-CALDESC:Events for Scandinavia House
REFRESH-INTERVAL;VALUE=DURATION:PT1H
X-Robots-Tag:noindex
X-PUBLISHED-TTL:PT1H
BEGIN:VTIMEZONE
TZID:America/New_York
BEGIN:DAYLIGHT
TZOFFSETFROM:-0500
TZOFFSETTO:-0400
TZNAME:EDT
DTSTART:20230312T070000
END:DAYLIGHT
BEGIN:STANDARD
TZOFFSETFROM:-0400
TZOFFSETTO:-0500
TZNAME:EST
DTSTART:20231105T060000
END:STANDARD
END:VTIMEZONE
BEGIN:VEVENT
DTSTART;TZID=America/New_York:20231113T080000
DTEND;TZID=America/New_York:20231113T233000
DTSTAMP:20260419T145332
CREATED:20230925T201756Z
LAST-MODIFIED:20230926T172048Z
UID:10002319-1699862400-1699918200@www.scandinaviahouse.org
SUMMARY:VIRTUAL SCREENINGS (MULTIPLE) — NEW YORK BALTIC FILM FESTIVAL
DESCRIPTION:The 6th Annual New York Baltic Film Festival (NYBFF) presented by Scandinavia House: The Nordic Center in America returns this November continuing its tradition of bringing the best new films from the Baltic region to New York audiences. The festival will once again take place in a hybrid festival with both in-person and virtual screenings. Virtual films in the festival will once again be available to viewers all across the U.S. via the Elevent streaming platform November 10-19. \nVirtual screenings of all films will be available following their premieres at Scandinavia House\, as well as two films screening online-only\, and will remain available to stream through November 19. \nVIRTUAL SCHEDULE\nBeginning Friday\, November 10\nMelchior the Apothecary (Apteeker Melchior\, dir. Elmo Nüganen\, Estonia/Germany/Latvia/Lithuania\, 2022)\nMelchior the Apothecary: The Ghost (Apteeker Melchior. Viirastus\, dir. Elmo Nüganen\, Estonia/Germany/Latvia/Lithuania\, 2022) \nBeginning Saturday\, November 11\nMachina Faust (dir. Kaupo Kruusiauk\, Estonia\, 2023)\nCollective (dir. Aik Karapetian\, Edgars Kaupers\, Papa Chi\, Oskars Rupenheits\, Marta Elīna Martinsone\, Mārtiņš\,Latvia\, 2023) \nBeginning Sunday\, November 12\nMelchior The Apothecary: The Executioner’s Daughter  (Apteeker Melchior. Timuka tütar\, dir. Elmo Nüganen\, Estonia/Germany/Latvia/Lithuania\, 2023)\nSoviet Milk (Mātes piens\, dir. Ināra Kolmane\, Latvia/Belgium\, 2023) \nBeginning Monday\, November 13\nCrime Solving for Beginners — Full 7-episode season (Krimināllieta iesācējam\, dir. Armands Zvirbulis\, Latvia/Lithuania\, 2022)\nThe Poet (Poetas\, dir. Giedrius Tamoševičius & Vytautas V. Landsbergis\, Lithuania\, 2022)
URL:https://www.scandinaviahouse.org/event/virtual-screenings-multiple-new-york-baltic-film-festival/2023-11-13/
LOCATION:NY
ATTACH;FMTTYPE=image/jpeg:https://www.scandinaviahouse.org/wp-content/uploads/2023/09/Hero-Image-Event-View-scaled.jpg
END:VEVENT
BEGIN:VEVENT
DTSTART;TZID=America/New_York:20231113T181000
DTEND;TZID=America/New_York:20231113T191000
DTSTAMP:20260419T145332
CREATED:20230908T232252Z
LAST-MODIFIED:20230913T195936Z
UID:10002937-1699899000-1699902600@www.scandinaviahouse.org
SUMMARY:SWEDISH BEGINNER 2 — HYBRID LANGUAGE CLASSES
DESCRIPTION:Learn the Nordic languages in classes offered this winter at Scandinavia House! This course is for those who are still new to Swedish but perhaps have studied some on their own using apps or through other means. Students will have a basic knowledge of sentence structure\, greetings\, know their numbers\, how to tell time and already possess a small but basic vocabulary. This semester the students will move beyond themselves and explore how to buy and order things\, talk about what they do in their spare time\, and read about an historical figure. Grammatically they will expand into other tenses and learn how adjectives and nouns inform each other. Various facets of Swedish life may be discussed during the course. This class will take place as hybrid learning on Mondays with classes offered at Scandinavia House and online via Zoom\, and online-only on Wednesdays. \nEnroll
URL:https://www.scandinaviahouse.org/event/swedish-beginner-2-hybrid-language-classes/2023-11-13/
LOCATION:Scandinavia House\, 58 Park Avenue\, New York\, NY\, 10016\, United States
ATTACH;FMTTYPE=image/jpeg:https://www.scandinaviahouse.org/wp-content/uploads/2022/08/Lars-Lundqvist_Flickr-new-website-scaled.jpg
END:VEVENT
BEGIN:VEVENT
DTSTART;TZID=America/New_York:20231113T192000
DTEND;TZID=America/New_York:20231113T202000
DTSTAMP:20260419T145332
CREATED:20230908T234703Z
LAST-MODIFIED:20240516T173936Z
UID:10002952-1699903200-1699906800@www.scandinaviahouse.org
SUMMARY:SWEDISH BEGINNER 1
DESCRIPTION:Learn the Nordic languages in classes offered at Scandinavia House! In this course held both in-person and as remote learning for those completely new to Swedish\, students will learn the very basics of Swedish structure and pronunciation while also discussing cultural aspects of Swedish life. This class will take place as hybrid learning\, with Monday sessions both online and in-person at Scandinavia House and Wednesday sessions online via Zoom. \nEnroll
URL:https://www.scandinaviahouse.org/event/swedish-beginner-1-winter2023/2023-11-13/
LOCATION:Scandinavia House\, 58 Park Avenue\, New York\, NY\, 10016\, United States
ATTACH;FMTTYPE=image/jpeg:https://www.scandinaviahouse.org/wp-content/uploads/2022/08/lieselotte_van_der_meijs-hurray-8255_2-new-website-scaled.jpg
END:VEVENT
END:VCALENDAR