BEGIN:VCALENDAR
VERSION:2.0
PRODID:-//Scandinavia House - ECPv6.15.3//NONSGML v1.0//EN
CALSCALE:GREGORIAN
METHOD:PUBLISH
X-ORIGINAL-URL:https://www.scandinaviahouse.org
X-WR-CALDESC:Events for Scandinavia House
REFRESH-INTERVAL;VALUE=DURATION:PT1H
X-Robots-Tag:noindex
X-PUBLISHED-TTL:PT1H
BEGIN:VTIMEZONE
TZID:America/New_York
BEGIN:DAYLIGHT
TZOFFSETFROM:-0500
TZOFFSETTO:-0400
TZNAME:EDT
DTSTART:20230312T070000
END:DAYLIGHT
BEGIN:STANDARD
TZOFFSETFROM:-0400
TZOFFSETTO:-0500
TZNAME:EST
DTSTART:20231105T060000
END:STANDARD
END:VTIMEZONE
BEGIN:VEVENT
DTSTART;TZID=America/New_York:20231130T181000
DTEND;TZID=America/New_York:20231130T191000
DTSTAMP:20260421T153021
CREATED:20230909T003619Z
LAST-MODIFIED:20230927T170645Z
UID:10002969-1701367800-1701371400@www.scandinaviahouse.org
SUMMARY:SWEDISH ADVANCED BEGINNER 1
DESCRIPTION:Learn the Nordic languages in classes offered this winter at Scandinavia House! In this course held in-person at Scandinavia House and offered remotely via Zoom\, students will continue to perfect their previous learned skills and pronunciation\, while also expanding into more complex sentence structure. Furthermore\, the students will be asked to express their opinions or beliefs in simple discussions related to Swedish life within the themes studied. The students will be required to read a literary book over the course of the semester. \nEnroll
URL:https://www.scandinaviahouse.org/event/swedish-advanced-beginner-1-fall-2023/2023-11-30/
LOCATION:Scandinavia House\, 58 Park Avenue\, New York\, NY\, 10016\, United States
ATTACH;FMTTYPE=image/jpeg:https://www.scandinaviahouse.org/wp-content/uploads/2022/08/bjorn_tesch-boat_to_grinda-1199-new-website-scaled.jpg
END:VEVENT
BEGIN:VEVENT
DTSTART;TZID=America/New_York:20231130T192000
DTEND;TZID=America/New_York:20231130T210000
DTSTAMP:20260421T153021
CREATED:20230909T005349Z
LAST-MODIFIED:20230913T170829Z
UID:10002984-1701372000-1701378000@www.scandinaviahouse.org
SUMMARY:SWEDISH INTERMEDIATE 1
DESCRIPTION:Learn the Nordic languages in classes offered at Scandinavia House! In this course held online only\, the focus will be primarily on conversation. Students will discuss various subjects brought up in each chapter via the informative texts\, with topics spanning subjects such as Swedish cultural and social life\, wild animals\, historical figures\, politics\, and others. The grammar is overall a comprehensive repetition of the beginner levels\, while also introducing a few new things like reflexive pronouns\, the present participle and the conditional. Students will be required to read assigned books over the course of the semester. Intermediate 1 runs over three semesters and can be taken in any order. \nEnroll
URL:https://www.scandinaviahouse.org/event/swedish-intermediate-1/2023-11-30/
LOCATION:Scandinavia House\, 58 Park Avenue\, New York\, NY\, 10016\, United States
ATTACH;FMTTYPE=image/jpeg:https://www.scandinaviahouse.org/wp-content/uploads/2016/07/language-courses-swedish-5.jpg
END:VEVENT
BEGIN:VEVENT
DTSTART;TZID=America/New_York:20231130T193000
DTEND;TZID=America/New_York:20231130T213000
DTSTAMP:20260421T153021
CREATED:20231109T221602Z
LAST-MODIFIED:20231117T172801Z
UID:10003021-1701372600-1701379800@www.scandinaviahouse.org
SUMMARY:TWICE COLONIZED | SCREENING & FILM TALK WITH AAJU PETER
DESCRIPTION:Join us for a special screening and film talk of Twice Colonized (dir. Lin Alluna; Denmark\, Canada and Greenland; 2023) with Inuk lawyer Aaju Peter! Returning this November and December\, the New York Baltic Oscar Contenders series features films chosen for Oscar nominations at the 96th Annual Academy Awards. This screening features the Greenlandic winner of the Cannes Film Market’s Award for Best Doc-in-Progress and the Movies That Matter Festival’s Camera Justitia Award\, which has been selected as a contender for Best Documentary Feature Film at the Oscars. \nTwice Colonized is a documentary profile of renowned Inuk lawyer Aaju Peter and a sober look at the social cost of forced assimilation. Peter was raised in Denmark\, the land of her colonizers\, where her parents sent her to receive a Western education when she was only a child. This traumatic separation from her home\, family\, and culture at a young age profoundly influenced Peter\, inspiring her to devote her life to the pursuit of justice for Inuit people across Canada and Greenland. While launching an effort to establish an Indigenous Forum at the EU\, Peter finds herself facing a difficult and deeply personal journey to mend her own wounds after the unexpected passing of her youngest son. Lin Alluna’s incisive and necessary film “begins with a childhood lost but expands into something much much more\, where specters of an individual’s past bleed into the collective horrors of the present” (The Film Verdict). \nAaju Peter\, who is featured in the film\, presents a talk after the screening. \nPurchase Tickets
URL:https://www.scandinaviahouse.org/event/twice-colonized-screening-film-talk-with-aaju-peter/
LOCATION:Scandinavia House\, 58 Park Avenue\, New York\, NY\, 10016\, United States
ATTACH;FMTTYPE=image/jpeg:https://www.scandinaviahouse.org/wp-content/uploads/2023/11/Twice_Colonized_01_c_AnorakFilm_WEb2-scaled.jpg
END:VEVENT
END:VCALENDAR