BEGIN:VCALENDAR
VERSION:2.0
PRODID:-//Scandinavia House - ECPv6.15.3//NONSGML v1.0//EN
CALSCALE:GREGORIAN
METHOD:PUBLISH
X-WR-CALNAME:Scandinavia House
X-ORIGINAL-URL:https://www.scandinaviahouse.org
X-WR-CALDESC:Events for Scandinavia House
REFRESH-INTERVAL;VALUE=DURATION:PT1H
X-Robots-Tag:noindex
X-PUBLISHED-TTL:PT1H
BEGIN:VTIMEZONE
TZID:America/New_York
BEGIN:DAYLIGHT
TZOFFSETFROM:-0500
TZOFFSETTO:-0400
TZNAME:EDT
DTSTART:20230312T070000
END:DAYLIGHT
BEGIN:STANDARD
TZOFFSETFROM:-0400
TZOFFSETTO:-0500
TZNAME:EST
DTSTART:20231105T060000
END:STANDARD
END:VTIMEZONE
BEGIN:VEVENT
DTSTART;TZID=America/New_York:20231210T110000
DTEND;TZID=America/New_York:20231210T180000
DTSTAMP:20260421T114605
CREATED:20231207T224503Z
LAST-MODIFIED:20231208T214103Z
UID:10002379-1702206000-1702231200@www.scandinaviahouse.org
SUMMARY:HOLIDAY JULMARKET AT THE SHOP
DESCRIPTION:Join us this weekend for “Holiday JulMarket” shopping at Scandinavia House! The Shop will be open late on Saturday and Sunday in coordination with our upcoming Holiday Concert and Julbord for all of your gift needs. Highlights featured this year include a capsule collection of Nordic designer clothing\, accessories and jewelry featuring one-of-a-kind artisan works ranging from original beadwork and fiber art to Norwegian rosemaling woodwork; and imported Scandinavian favorites such as handmade tomte and nisse\, ornaments\, angel chimes and candles\, glögg\, pepparkakor\, sweets and more. Shoppers can also choose from many home accents of blankets\, Swedish votives\, candles and soaps; and for children\, the many classics of Astrid Lindgren\, Elsa Beskow\, Tove Jansson\, and H.C. Andersen are available with related collectible characters and tableware! \nThe Shop
URL:https://www.scandinaviahouse.org/event/holiday-julmarket-at-the-shop/2023-12-10/
LOCATION:Scandinavia House\, 58 Park Avenue\, New York\, NY\, 10016\, United States
ATTACH;FMTTYPE=image/jpeg:https://www.scandinaviahouse.org/wp-content/uploads/2023/12/DSC03449_LF_WEB-scaled.jpg
END:VEVENT
BEGIN:VEVENT
DTSTART;TZID=America/New_York:20231210T130000
DTEND;TZID=America/New_York:20231210T150000
DTSTAMP:20260421T114605
CREATED:20231030T211542Z
LAST-MODIFIED:20231201T173906Z
UID:10003013-1702213200-1702220400@www.scandinaviahouse.org
SUMMARY:HOLIDAY JULBORD 2023 — SOLD OUT
DESCRIPTION:Join us at Scandinavia House on December 9 & 10 for a Holiday Julbord (Christmas Table) presented by Björk Cafe & Bistro! A traditional Christmas in Scandinavia is not complete without the traditional julbord\, a holiday variation of the quintessential Smörgåsbord buffet-style meal in the Scandinavian countries that includes multiple staples of Swedish cuisine served on the table. The actual Christmas season in Sweden usually begins with the St. Lucia ceremony\, around the 13th of December\, and leads all the way to Christmas day. \nThe 1 PM Sunday seating is now sold out. Please see all times here for alternate dining seatings.  \nThe Björk Julbord will feature a long buffet table overloaded with the Scandinavian classics such as herring\, gravlax\, meatballs\, Jansson’s temptations and more; each lunch and dinner seating will be accompanied by a traditional St. Lucia performance. One cup of glögg is included and will be served upon arrival\, with additional non-alcoholic and alcoholic drinks available for purchase. \nSpace is limited\, so purchase tickets to reserve your table right away! \nReservations
URL:https://www.scandinaviahouse.org/event/holiday-julbord-2023-2023-12-10/
LOCATION:Scandinavia House\, 58 Park Avenue\, New York\, NY\, 10016\, United States
ATTACH;FMTTYPE=image/jpeg:https://www.scandinaviahouse.org/wp-content/uploads/2023/07/Julbord_WEB-scaled.jpg
END:VEVENT
BEGIN:VEVENT
DTSTART;TZID=America/New_York:20231210T170000
DTEND;TZID=America/New_York:20231210T180000
DTSTAMP:20260421T114605
CREATED:20230927T173823Z
LAST-MODIFIED:20231202T043119Z
UID:10002329-1702227600-1702231200@www.scandinaviahouse.org
SUMMARY:SOLD OUT — HOLIDAY CONCERT 2023
DESCRIPTION:*THIS EVENT IS NOW SOLD OUT*\nThis December\, Scandinavia House presents a festive in-person concert featuring Scandinavian and American holiday favorites as well as a traditional Saint Lucia procession\, replete with traditional gowns and glowing candles! \nLearn about the history of Lucia\, one of the most popular holidays in Sweden\, while enjoying music from members of the Swedish Church Choir in New York. Tickets to this event must be purchased in advance online.
URL:https://www.scandinaviahouse.org/event/holiday-concert-2023/
LOCATION:Scandinavia House\, 58 Park Avenue\, New York\, NY\, 10016\, United States
CATEGORIES:Concerts
ATTACH;FMTTYPE=image/jpeg:https://www.scandinaviahouse.org/wp-content/uploads/2019/11/IMG_4199-5-scaled.jpg
END:VEVENT
END:VCALENDAR