BEGIN:VCALENDAR
VERSION:2.0
PRODID:-//Scandinavia House - ECPv6.15.3//NONSGML v1.0//EN
CALSCALE:GREGORIAN
METHOD:PUBLISH
X-ORIGINAL-URL:https://www.scandinaviahouse.org
X-WR-CALDESC:Events for Scandinavia House
REFRESH-INTERVAL;VALUE=DURATION:PT1H
X-Robots-Tag:noindex
X-PUBLISHED-TTL:PT1H
BEGIN:VTIMEZONE
TZID:America/New_York
BEGIN:DAYLIGHT
TZOFFSETFROM:-0500
TZOFFSETTO:-0400
TZNAME:EDT
DTSTART:20240310T070000
END:DAYLIGHT
BEGIN:STANDARD
TZOFFSETFROM:-0400
TZOFFSETTO:-0500
TZNAME:EST
DTSTART:20241103T060000
END:STANDARD
END:VTIMEZONE
BEGIN:VEVENT
DTSTART;TZID=America/New_York:20240111T173000
DTEND;TZID=America/New_York:20240111T210000
DTSTAMP:20260419T125154
CREATED:20231227T202309Z
LAST-MODIFIED:20240111T180228Z
UID:10003077-1704994200-1705006800@www.scandinaviahouse.org
SUMMARY:APOLONIA\, APOLONIA; KNIGHT OF FORTUNE — SCREENINGS & FILM TALKS
DESCRIPTION:See two Oscar-shortlisted Danish films—Apolonia\, Apolonia and Knight of Fortune—on Thursday\, January 11 at Scandinavia House! \n5:30 PM: Screening of KNIGHT OF FORTUNE\n6 PM: Film Talk with Director Lasse Lyskjær Noer\n7 PM: Screening of APOLONIA\, APOLONIA\n9 PM: Film Talk with Director Lea Glob and Producer Sidsel Lønvig Siersted \nKNIGHT OF FORTUNE\nShort film | Denmark | 2023 | 25 minutes | Danish & Swedish with English subtitles \nShortlisted for Best Live Action Short at the 96th Academy Awards\, Knight of Fortune (Denmark\, 2023) is the powerful story of an emergent friendship between two widowers. Grief and comedy come together in filmmaker Lasse Lyskjær Noer’s directorial and writing debut\, which takes place at a morgue where two perfect strangers—Karl and Torben—find\, in each other\, a shoulder to cry and even laugh on.  \nAPOLONIA\, APOLONIA\nFeature film | Denmark | 2022 | 116 minutes | Danish\, French\, English\, Polish & Russian with English subtitles\n\nApolonia\, Apolonia\, shortlisted for Best Documentary Feature at the 96th Academy Awards\, returns to Scandinavia House on January 11! — See Danish filmmaker Lea Glob’s fascinating portrait of an artist as a young woman (Denmark/Poland\, 2023)\, “an impressively idiosyncratic\, far-reaching work” (Variety). The screening will be followed by a film talk with Lea Glob and producer Sidsel Lønvig Siersted. \nWhen Lea Glob first met (and filmed) Apolonia Sokol in 2009\, she appeared to be leading a storybook life. The talented young painter was born in an underground theater in Paris and grew up in an artists’ community — the ultimate bohemian existence — later studying in her 20s at the Beaux-Arts de Paris\, one of the most prestigious art academies in Europe. Over the next 13 years\, Glob continued to film the charismatic Apolonia\, as a special bond developed between the two young women. In the resulting documentary\, we see a young woman trying to find her place in the art world: one who is confident in her talent\, but does not always find herself on an easy path. Apolonia soon learns that women painters have to make more sacrifices and overcome greater obstacles than their male counterparts do\, a lesson that applies both herself and her longtime friend Oksana Shachko\, one of the founders of the feminist action group Femen. \n“It may seem like an ambitious prospect for a filmmaker to take ‘life’ and ‘art’ as her stated subject\, but that is precisely the feat Lea Glob has pulled off with her tender new documentary… The viewer is getting to know Apolonia deeply – and what a pleasure” (Payton McCarty-Simas\, Film Inquiry) \nPurchase Tickets
URL:https://www.scandinaviahouse.org/event/apolonia-apolonia/
LOCATION:Scandinavia House\, 58 Park Avenue\, New York\, NY\, 10016\, United States
ATTACH;FMTTYPE=image/png:https://www.scandinaviahouse.org/wp-content/uploads/2023/11/Apolonia-Web.png
END:VEVENT
BEGIN:VEVENT
DTSTART;TZID=America/New_York:20240111T181000
DTEND;TZID=America/New_York:20240111T191000
DTSTAMP:20260419T125154
CREATED:20241120T193158Z
LAST-MODIFIED:20241120T193158Z
UID:10003066-1704996600-1705000200@www.scandinaviahouse.org
SUMMARY:SWEDISH ADVANCED BEGINNER 2
DESCRIPTION:Learn the Nordic languages in classes offered this semester at Scandinavia House! In Swedish Advanced Beginner 2\, students will now be ready to work more in depth with structure in various sub-clauses. They will learn how to use the reflexive possessive pronoun and more specific ways to express future tense while slightly more fact-based texts are introduced. The course also includes cultural elements in regards to social and family life\, as well as education. Students will read assigned literary books over the course of the semester. \nThis class will take place as hybrid learning on Tuesdays with classes offered at Scandinavia House and online via Zoom\, and online-only on Thursdays. \nRegister
URL:https://www.scandinaviahouse.org/event/swedish-advanced-beginner-2-3/2024-01-11/
LOCATION:Scandinavia House\, 58 Park Avenue\, New York\, NY\, 10016\, United States
ATTACH;FMTTYPE=image/jpeg:https://www.scandinaviahouse.org/wp-content/uploads/2022/11/emelie_asplund-celebration-5435-2-scaled.jpg
END:VEVENT
BEGIN:VEVENT
DTSTART;TZID=America/New_York:20240111T192000
DTEND;TZID=America/New_York:20240111T210000
DTSTAMP:20260419T125154
CREATED:20231130T185708Z
LAST-MODIFIED:20231130T185708Z
UID:10002355-1705000800-1705006800@www.scandinaviahouse.org
SUMMARY:SWEDISH INTERMEDIATE 1
DESCRIPTION:Learn the Nordic languages in classes offered at Scandinavia House! In this course held online only\, the focus will be primarily on conversation. Students will discuss various subjects brought up in each chapter via the informative texts\, with topics spanning subjects such as Swedish cultural and social life\, wild animals\, historical figures\, politics and others. The grammar is overall a comprehensive repetition of the beginner levels\, while also introducing a few new things like reflexive pronouns\, the present participle and the conditional. Students will be required to read assigned books over the course of the semester. Intermediate 1 runs over three semesters and can be taken in any order. \nThis class will take place on Thursday evenings (online only). \nRegister
URL:https://www.scandinaviahouse.org/event/swedish-intermediate-1-2/2024-01-11/
LOCATION:NY
ATTACH;FMTTYPE=image/jpeg:https://www.scandinaviahouse.org/wp-content/uploads/2016/07/language-courses-swedish-5.jpg
END:VEVENT
END:VCALENDAR