BEGIN:VCALENDAR
VERSION:2.0
PRODID:-//Scandinavia House - ECPv6.15.3//NONSGML v1.0//EN
CALSCALE:GREGORIAN
METHOD:PUBLISH
X-ORIGINAL-URL:https://www.scandinaviahouse.org
X-WR-CALDESC:Events for Scandinavia House
REFRESH-INTERVAL;VALUE=DURATION:PT1H
X-Robots-Tag:noindex
X-PUBLISHED-TTL:PT1H
BEGIN:VTIMEZONE
TZID:America/New_York
BEGIN:DAYLIGHT
TZOFFSETFROM:-0500
TZOFFSETTO:-0400
TZNAME:EDT
DTSTART:20240310T070000
END:DAYLIGHT
BEGIN:STANDARD
TZOFFSETFROM:-0400
TZOFFSETTO:-0500
TZNAME:EST
DTSTART:20241103T060000
END:STANDARD
END:VTIMEZONE
BEGIN:VEVENT
DTSTART;TZID=America/New_York:20240208T080000
DTEND;TZID=America/New_York:20240211T235900
DTSTAMP:20260419T115059
CREATED:20240126T172059Z
LAST-MODIFIED:20240516T184321Z
UID:10003095-1707379200-1707695940@www.scandinaviahouse.org
SUMMARY:VIRTUAL SCREENINGS | THE 2024 SÁMI FILM FESTIVAL
DESCRIPTION:The 6th Annual Sámi Film Festival returns to Scandinavia House this February! This year’s program will include in-person screenings on February 9 & 10 and virtual screenings from February 8 through 11. \nVirtual screenings included in the lineup include seven short films\, with narrative and documentary subjects spanning topics ranging from traditional ways of life and cultural practices\, historical traumas and conflicts in the present day\, to alternative universes. \nPurchase Virtual Passes \nVIRTUAL FILM LINEUP \nÁfruvvá – Mermaid (2022)\nDirected by: Marja Helander | 14 min.\nThe áfruvvá is a Sámi sea-being\, the ghost of a drowned person. Yearning for warmth\, she emerges from the sea to a world devoid of humans and experiences humanity through an abandoned museum.\n\nThe Daughters of the Midnight Sun/Overlander (1985)\nDirected by: Ylva Floreman and Peter Östlund | 40 min.\nIn this film about the Sámi people\, the original population of northern Scandinavia\, their nomadic life belongs to the past\, but for a few short weeks each summer they return to their mountains to live as before. Their women talk about the price they have paid for progress and of their longing back to their traditional way of life\, far north of the Polar Circle.\n\nNjuokčamat/The Tongues (2019)\nDirected by: Marja Bål Nango and Ingir Ane Bål Nango | 15 min.\nWhen a Sámi woman is attacked by a man during a blizzard on the tundra while she is herding reindeer\, her sister senses that something is wrong\, and sets off in search for her. Wrapped in fear and confusion\, both women will unite in their fight for revenge. \nSKÁDJA (2022)\nDirected by: Eili Bråstad | 16 min.\nA meeting between two women in the forest has a strong impact on them both. Can they overcome their traumas? \nGive Us Our Skeletons! (2000)\nDirected by: B | 49 min.\nThis is a film about a man and his lineage\, and it is the story of a century pervaded by racism\, oppression and the persecution of peoples low down on the list of “noble races.”\n\nEllos Fovsen\nDirected by: Dennis Møller\nEllos Fovsen is about the demonstration against the illegal wind turbines that were set up in Fosen by the Norwegian government\, who went above the Supreme Court’s ruling and still had them built\, creating an ongoing human rights violation of over 830 days. \nMuohtačalmmit/Snowflakes (2022)\nDirected by: Hans Pieski and Arttu Nieminen | 9 min.\nMuohtačalmmit (Snowfall) is an experimental film about the flow of water as a metaphor for Sámi people in the compression of modern times. The film also deals with the meaning of water as a sacred element\, pathway\, and daily source of sustenance for the Sámi people\, and paints a dystopia of how Sápmi will breathe in the future in the middle of energy and mineral policy pressure.
URL:https://www.scandinaviahouse.org/event/virtual-screenings-the-2024-sami-film-festival/
LOCATION:NY
CATEGORIES:Films
ATTACH;FMTTYPE=image/jpeg:https://www.scandinaviahouse.org/wp-content/uploads/2024/01/Afruvva_stillphoto_02_WEB_textONLINE-1-scaled.jpg
END:VEVENT
BEGIN:VEVENT
DTSTART;TZID=America/New_York:20240210T130000
DTEND;TZID=America/New_York:20240210T170000
DTSTAMP:20260419T115059
CREATED:20240125T202828Z
LAST-MODIFIED:20240516T183145Z
UID:10003094-1707570000-1707584400@www.scandinaviahouse.org
SUMMARY:THE 2024 SÁMI FILM FESTIVAL | SHORT FILMS (IN-PERSON)
DESCRIPTION:The 6th Annual Sámi Film Festival returns to Scandinavia House this February! This year’s program will include in-person screenings on February 9 & 10 and virtual screenings from February 8 through 11. \nThe Short Films Sessions will screen on Saturday\, February 10 at 1 PM and 3 PM\, with a 20-minute intermission between. Saturday tickets will apply to both sessions. \nPurchase Tickets \nSHORT FILMS | SESSION 1 — 1 PM\nÁfruvvá – Mermaid (2022) | Directed by: Marja Helander | 14 min. \nThe áfruvvá is a Sámi sea-being\, the ghost of a drowned person. Yearning for warmth\, she emerges from the sea to a world devoid of humans and experiences humanity through an abandoned museum.\n\nThe Daughters of the Midnight Sun/Overlander (1985) | Directed by: Ylva Floreman and Peter Östlund | 40 min.\nIn this film about the Sámi people\, the original population of northern Scandinavia\, their nomadic life belongs to the past\, but for a few short weeks each summer they return to their mountains to live as before. Their women talk about the price they have paid for progress and of their longing back to their traditional way of life\, far north of the Polar Circle.\n\nNjuokčamat/The Tongues (2019) | Directed by: Marja Bål Nango and Ingir Ane Bål Nango | 15 min.\nWhen a Sámi woman is attacked by a man during a blizzard on the tundra while she is herding reindeer\, her sister senses that something is wrong\, and sets off in search for her. Wrapped in fear and confusion\, both women will unite in their fight for revenge. \nSKÁDJA (2022) | Directed by: Eili Bråstad | 16 min.\nA meeting between two women in the forest has a strong impact on them both. Can they overcome their traumas? \nSHORT FILMS | SESSION 2 — 2 PM\n\nGive Us Our Skeletons! (2000) | Directed by: Pau-Anders Simma | 49 min.\nThis is a film about a man and his lineage\, and it is the story of a century pervaded by racism\, oppression and the persecution of peoples low down on the list of “noble races.”\n\nEllos Fovsen | Directed by: Dennis Møller\nEllos Fovsen is about the demonstration against the illegal wind turbines that were set up in Fosen by the Norwegian government\, who went above the Supreme Court’s ruling and still had them built\, creating an ongoing human rights violation of over 830 days. \nWhispers of Reindeer Milk (2023) | Director: Mihkkal Hætta | 18 min.\nIn this short film exploring an alternative universe in Sápmi where primordial knowledge was removed from the colonists\, open\, meditative\, and persistent images create a journey to and from these different landscapes. \nMuohtačalmmit/Snowflakes (2022) | Directed by: Hans Pieski and Arttu Nieminen | 9 min.\nMuohtačalmmit (Snowfall) is an experimental film about the flow of water as a metaphor for Sámi people in the compression of modern times. The film also deals with the meaning of water as a sacred element\, pathway\, and daily source of sustenance for the Sámi people\, and paints a dystopia of how Sápmi will breathe in the future in the middle of energy and mineral policy pressure.
URL:https://www.scandinaviahouse.org/event/the-2024-sami-film-festival-short-films-in-person/
LOCATION:Scandinavia House\, 58 Park Avenue\, New York\, NY\, 10016\, United States
ATTACH;FMTTYPE=image/jpeg:https://www.scandinaviahouse.org/wp-content/uploads/2024/01/Afruvva_stillphoto_01_WEB-scaled.jpg
END:VEVENT
END:VCALENDAR