BEGIN:VCALENDAR
VERSION:2.0
PRODID:-//Scandinavia House - ECPv6.15.3//NONSGML v1.0//EN
CALSCALE:GREGORIAN
METHOD:PUBLISH
X-ORIGINAL-URL:https://www.scandinaviahouse.org
X-WR-CALDESC:Events for Scandinavia House
REFRESH-INTERVAL;VALUE=DURATION:PT1H
X-Robots-Tag:noindex
X-PUBLISHED-TTL:PT1H
BEGIN:VTIMEZONE
TZID:America/New_York
BEGIN:DAYLIGHT
TZOFFSETFROM:-0500
TZOFFSETTO:-0400
TZNAME:EDT
DTSTART:20240310T070000
END:DAYLIGHT
BEGIN:STANDARD
TZOFFSETFROM:-0400
TZOFFSETTO:-0500
TZNAME:EST
DTSTART:20241103T060000
END:STANDARD
END:VTIMEZONE
BEGIN:VEVENT
DTSTART;TZID=America/New_York:20240213T130000
DTEND;TZID=America/New_York:20240213T140000
DTSTAMP:20260419T151619
CREATED:20240125T202559Z
LAST-MODIFIED:20240125T202747Z
UID:10003093-1707829200-1707832800@www.scandinaviahouse.org
SUMMARY:ÆDNAN — VIRTUAL BOOK TALK WITH LINNEA AXELSSON & MATILDE AUGUSTA HUSEBY
DESCRIPTION:On February 13\, join us for a book talk with Sámi-Swedish author Linnea Axelsson on Ædnan\, her epic\, August Prize-winning multigenerational novel-in-verse about two Sámi families and their quest to stay together across a century of migration\, violence\, and colonial trauma. In coordination with our monthly Nordic Book Club Online\, which will discuss Ædnan later today at 6 PM\, the author will be joined by moderator Matilde Augusta Huseby for a virtual talk about the writing of the novel. \nIn Northern Sámi\, the word Ædnan means the land\, the earth\, and my mother. These are all crucial forces within the lives of the Indigenous families that animate this groundbreaking book: an astonishing verse novel that chronicles a hundred years of change\, beginning with in the 1910s as Ristin and her family migrate their herd of reindeer to summer grounds. When they are forced to separate due to the newly formed border between Sweden and Norway\, Ristin loses one of her sons in an accident\, leaving her struggling to manage her family and community as a result. \nIn the 1970s\, Lise\, as part of a new generation of Sámi grappling with questions of identity and inheritance\, reflects on her traumatic childhood\, when she was forced to leave her parents and was placed in a Nomad School to be stripped of the language of her ancestors. Finally\, in the 2010s we meet Lise’s daughter\, Sandra\, an activist fighting for reparations in a highly publicized land rights trial\, in a time when the Sámi language is all but lost. Weaving together the voices of half a dozen characters\, from elders to young people unsure of their heritage\, Ædnan is a powerful reminder of how durable language can be\, even when it is borrowed — especially when it has to hold what no longer remains. \n\n\n\n“An epic poem\, much honored in Sweden since its publication in 2018\, that charts the fortunes of a Sámi community against opposing nationalisms… A sharp-edged tale in verse of colonial suppression\, resistance\, and survival” (Kirkus Reviews).
URL:https://www.scandinaviahouse.org/event/aednan-virtual-book-talk-with-linnea-axelsson-matilde-augusta-huseby/
LOCATION:Scandinavia House\, 58 Park Avenue\, New York\, NY\, 10016\, United States
ATTACH;FMTTYPE=image/jpeg:https://www.scandinaviahouse.org/wp-content/uploads/2024/01/Linnea-Axelsson-Author-Photo-Credit-to-Daniel-Pedersen815_WEB-scaled.jpg
END:VEVENT
BEGIN:VEVENT
DTSTART;TZID=America/New_York:20240213T180000
DTEND;TZID=America/New_York:20240213T190000
DTSTAMP:20260419T151619
CREATED:20231116T185406Z
LAST-MODIFIED:20240521T202833Z
UID:10003026-1707847200-1707850800@www.scandinaviahouse.org
SUMMARY:ÆDNAN BY LINNEA AXELSSON — NORDIC BOOK CLUB ONLINE
DESCRIPTION:Read and discuss literature with our Nordic Book Club Online! On February 13\, we’ll be discussing Ædnan by Sámi-Swedish author Linnea Axelsson\, an epic\, multigenerational novel-in-verse about two Sámi families and their quest to stay together across migration and colonial trauma\, a winner of the 2018 August Prize. \nIn Northern Sámi\, the word Ædnan means the land\, the earth\, and my mother. These are all crucial forces within the lives of the Indigenous families that animate this groundbreaking book: an astonishing verse novel that chronicles a hundred years of change\, beginning with in the 1910s as Ristin and her family migrate their herd of reindeer to summer grounds. When they are forced to separate due to the newly formed border between Sweden and Norway\, Ristin loses one of her sons in an accident\, leaving her struggling to manage her family and community as a result. \nIn the 1970s\, Lise\, as part of a new generation of Sámi grappling with questions of identity and inheritance\, reflects on her traumatic childhood\, when she was forced to leave her parents and was placed in a Nomad School to be stripped of the language of her ancestors. Finally\, in the 2010s we meet Lise’s daughter\, Sandra\, an activist fighting for reparations in a highly publicized land rights trial\, in a time when the Sámi language is all but lost. Weaving together the voices of half a dozen characters\, from elders to young people unsure of their heritage\, Ædnan is a powerful reminder of how durable language can be\, even when it is borrowed — especially when it has to hold what no longer remains. \nRegister
URL:https://www.scandinaviahouse.org/event/aednan-by-linnea-axelsson-nordic-book-club-online/
LOCATION:NY
ATTACH;FMTTYPE=image/jpeg:https://www.scandinaviahouse.org/wp-content/uploads/2023/11/Aednan-Book-Club-New-scaled.jpg
END:VEVENT
BEGIN:VEVENT
DTSTART;TZID=America/New_York:20240213T181000
DTEND;TZID=America/New_York:20240213T195000
DTSTAMP:20260419T151619
CREATED:20231130T190237Z
LAST-MODIFIED:20231130T190237Z
UID:10002370-1707847800-1707853800@www.scandinaviahouse.org
SUMMARY:SWEDISH ADVANCED INTERMEDIATE
DESCRIPTION:Learn the Nordic languages in classes offered at Scandinavia House! This course is for students who are slightly more advanced in Swedish\, and are able to speak the language without too much effort\, as well as easily read novels. Students will engage in conversation and discussions\, and themes will be of a more philosophical nature\, involving global questions and fiction. Grammatically\, various structures and conjugations will be reviewed so students can refine their speech and writing. Students will be assigned a book to read during the semester. \nThis class will take place as hybrid learning on Tuesday evenings with classes offered at Scandinavia House and online via Zoom. \nRegister
URL:https://www.scandinaviahouse.org/event/swedish-advanced-intermediate/2024-02-13/
LOCATION:Scandinavia House\, 58 Park Avenue\, New York\, NY\, 10016\, United States
ATTACH;FMTTYPE=image/jpeg:https://www.scandinaviahouse.org/wp-content/uploads/2023/09/simon_paulin-New-Web-scaled.jpg
END:VEVENT
BEGIN:VEVENT
DTSTART;TZID=America/New_York:20240213T193000
DTEND;TZID=America/New_York:20240213T210000
DTSTAMP:20260419T151619
CREATED:20230901T205227Z
LAST-MODIFIED:20231222T193839Z
UID:10002907-1707852600-1707858000@www.scandinaviahouse.org
SUMMARY:A FRENCH MUSICAL FEAST: KEYBOARD CONVERSATIONS® WITH JEFFREY SIEGEL
DESCRIPTION:Internationally acclaimed pianist Jeffrey Siegel returns this winter for his ever-popular Keyboard Conversations® series at Scandinavia House. Each evening comprises an informal commentary on the music and its composers\, a full performance of each work\, and a short Q & A session. The engaging format both makes friends of classical music and enriches the listening experience for avid music lovers. \nIn February’s performance\, Siegel performs Debussy’s “Clair de Lune\,” Ravel’s “Sonatine\,” Saint-Saëns’s “Dance Macabre\,” and a French-inspired work of the Danish composer Carl Nielsen. \n\n\nThe 2023/24 series will continue with “Chopin and Liszt” on March 19 and “Three Great Romantics” on April 30\, 2024. \nThanks to a generous loan by Victor Borge’s grandson Finn\, concerts will be performed on Victor Borge’s personal Steinway piano. \nPurchase Tickets
URL:https://www.scandinaviahouse.org/event/a-french-musical-feast-keyboard-conversations-with-jeffrey-siegel/
LOCATION:Scandinavia House\, 58 Park Avenue\, New York\, NY\, 10016\, United States
ATTACH;FMTTYPE=image/jpeg:https://www.scandinaviahouse.org/wp-content/uploads/2023/08/Photo-Jeffrey-Siegel-at-the-piano-1_NEW-WEB-scaled.jpg
END:VEVENT
BEGIN:VEVENT
DTSTART;TZID=America/New_York:20240213T200000
DTEND;TZID=America/New_York:20240213T210000
DTSTAMP:20260419T151619
CREATED:20231130T184045Z
LAST-MODIFIED:20231130T184045Z
UID:10003062-1707854400-1707858000@www.scandinaviahouse.org
SUMMARY:SWEDISH ADVANCED BEGINNER 2
DESCRIPTION:Learn the Nordic languages in classes offered this semester at Scandinavia House! In Swedish Advanced Beginner 2\, students will now be ready to work more in depth with structure in various sub-clauses. They will learn how to use the reflexive possessive pronoun and more specific ways to express future tense while slightly more fact-based texts are introduced. The course also includes cultural elements in regards to social and family life\, as well as education. Students will read assigned literary books over the course of the semester. \nThis class will take place as hybrid learning on Tuesdays with classes offered at Scandinavia House and online via Zoom\, and online-only on Thursdays. \nRegister
URL:https://www.scandinaviahouse.org/event/swedish-advanced-beginner-2-3/2024-02-13/
LOCATION:Scandinavia House\, 58 Park Avenue\, New York\, NY\, 10016\, United States
ATTACH;FMTTYPE=image/jpeg:https://www.scandinaviahouse.org/wp-content/uploads/2022/11/emelie_asplund-celebration-5435-2-scaled.jpg
END:VEVENT
END:VCALENDAR