BEGIN:VCALENDAR
VERSION:2.0
PRODID:-//Scandinavia House - ECPv6.15.3//NONSGML v1.0//EN
CALSCALE:GREGORIAN
METHOD:PUBLISH
X-WR-CALNAME:Scandinavia House
X-ORIGINAL-URL:https://www.scandinaviahouse.org
X-WR-CALDESC:Events for Scandinavia House
REFRESH-INTERVAL;VALUE=DURATION:PT1H
X-Robots-Tag:noindex
X-PUBLISHED-TTL:PT1H
BEGIN:VTIMEZONE
TZID:America/New_York
BEGIN:DAYLIGHT
TZOFFSETFROM:-0500
TZOFFSETTO:-0400
TZNAME:EDT
DTSTART:20240310T070000
END:DAYLIGHT
BEGIN:STANDARD
TZOFFSETFROM:-0400
TZOFFSETTO:-0500
TZNAME:EST
DTSTART:20241103T060000
END:STANDARD
END:VTIMEZONE
BEGIN:VEVENT
DTSTART;TZID=America/New_York:20240330T110000
DTEND;TZID=America/New_York:20240330T200000
DTSTAMP:20260422T111041
CREATED:20240313T191655Z
LAST-MODIFIED:20240514T214035Z
UID:10003226-1711796400-1711828800@www.scandinaviahouse.org
SUMMARY:EASTER PRIX-FIXE AT  BJÖRK CAFE & BISTRO
DESCRIPTION:Celebrate Easter Nordic-style at Björk Café & Bistro! Prix-fixe specials throughout Easter weekend will include family-style appetizers featuring three types of herring\, gravlax with honey mustard\, and egg with shrimp salad; a range of entrees including lamb loin\, baked Arctic char\, and plant-based chicken loaf with lingonberry sauce and cucumber; and a dessert plate with a taste of Scandinavian treats. ASF Members receive a 10-percent discount; book now to guarantee seating! \nReservations
URL:https://www.scandinaviahouse.org/event/easter-prix-fixe-at-bjork-cafe-bistro-2/2024-03-30/
LOCATION:Björk Cafe & Bistro at Scandinavia House\, 58 Park Ave\, New York\, NY\, 10016\, United States
ATTACH;FMTTYPE=image/jpeg:https://www.scandinaviahouse.org/wp-content/uploads/2024/03/eggs-7100211_1920_WEB-scaled.jpg
END:VEVENT
BEGIN:VEVENT
DTSTART;TZID=America/New_York:20240330T160000
DTEND;TZID=America/New_York:20240330T200000
DTSTAMP:20260422T111041
CREATED:20260402T224502Z
LAST-MODIFIED:20260402T224502Z
UID:10005735-1711814400-1711828800@www.scandinaviahouse.org
SUMMARY:EASTER PRIX-FIXE AT  BJÖRK CAFE & BISTRO
DESCRIPTION:Celebrate Easter Nordic-style at Björk Café & Bistro! Prix-fixe specials throughout Easter weekend will include family-style appetizers featuring three types of herring\, gravlax with honey mustard\, and egg with shrimp salad; a range of entrees including roasted lamb loin\, seafood casserole\, and spring baked beets; and a dessert plate with Scandinavian sweets. Drink specials include wine\, aquavit and beer. ASF Members receive a 10-percent discount; book now to guarantee seating! \nReservations \n 
URL:https://www.scandinaviahouse.org/event/easter-prix-fixe-at-bjork-cafe-bistro-3/2024-03-30/
LOCATION:Björk Cafe & Bistro at Scandinavia House\, 58 Park Ave\, New York\, NY\, 10016\, United States
ATTACH;FMTTYPE=image/jpeg:https://www.scandinaviahouse.org/wp-content/uploads/2024/03/eggs-7100211_1920_WEB-scaled.jpg
END:VEVENT
END:VCALENDAR