BEGIN:VCALENDAR
VERSION:2.0
PRODID:-//Scandinavia House - ECPv6.15.3//NONSGML v1.0//EN
CALSCALE:GREGORIAN
METHOD:PUBLISH
X-WR-CALNAME:Scandinavia House
X-ORIGINAL-URL:https://www.scandinaviahouse.org
X-WR-CALDESC:Events for Scandinavia House
REFRESH-INTERVAL;VALUE=DURATION:PT1H
X-Robots-Tag:noindex
X-PUBLISHED-TTL:PT1H
BEGIN:VTIMEZONE
TZID:America/New_York
BEGIN:DAYLIGHT
TZOFFSETFROM:-0500
TZOFFSETTO:-0400
TZNAME:EDT
DTSTART:20240310T070000
END:DAYLIGHT
BEGIN:STANDARD
TZOFFSETFROM:-0400
TZOFFSETTO:-0500
TZNAME:EST
DTSTART:20241103T060000
END:STANDARD
END:VTIMEZONE
BEGIN:VEVENT
DTSTART;TZID=America/New_York:20240403T174500
DTEND;TZID=America/New_York:20240403T184500
DTSTAMP:20260422T131754
CREATED:20240221T220322Z
LAST-MODIFIED:20240514T224335Z
UID:10003193-1712166300-1712169900@www.scandinaviahouse.org
SUMMARY:NORWEGIAN 1
DESCRIPTION:Learn the Nordic languages in classes offered this spring at Scandinavia House! In this beginner’s course\, you will build your Norwegian vocabulary\, pronunciation\, and grammar skills\, while also learning about Norwegian culture and life. By the course’s end\, you should be able to conduct simple conversations in Norwegian. \nYou will get to practice conversations and reading in class\, and there will be a focus on pronunciation\, and Norwegian vowels and sounds\, which may be new to your ear. Students are welcome to bring personal experiences\, anecdotes\, and facts about Norway into class discussions. There will also be at-home assignments focusing on reading\, writing\, and grammar\, as well as an optional end-of-semester presentation. \nOutside of class\, students are encouraged to watch Norwegian shows\, and movies\, read simple text\, and have Norwegian podcasts on in the background. \nThe required text will be provided via pdf\, before the first class. \nIdeal for: \n\nAbsolute beginners\nThose seeking a solid foundation in the Norwegian language\nThose interested in traveling to Norway\n\nYou will develop: \n\nBeginner-level conversational skills in Norwegian\nProficiency in basic Norwegian grammar\n\nThis hybrid class will be held both in-person and via Zoom; in-person attendance for the first four classes is highly recommended. Classes take place on Tuesday and Wednesday from 5:45-6:45 PM beginning Tuesday\, March 19. \nNo prerequisites required; instructions for remote learning will be emailed upon registration. For questions about language levels\, please contact Marie-Therese Bjornerud. Tuition is $675 ($607.50 ASF Members); 20 hours total class time. \nRequired & Recommended Material\nRequired:\nTextbook: PA VEI TEKSTBOK\, ELLINGSEN\, 2012 – ISBN: 9788202340940\nWorkbook: PA VEI ARBEIDSBOK\, ELLINGSEN\, 2012 – ISBN: 9788202343163 \nHighly Recommended:\nWord List: PA VEI Norsk-Engelsk Ordliste\, ELLINGSEN\, 2012 – ISBN: 9788202372255\nCD-set: PA VEI ELEV-CD til tekstbok\, ELLINGSEN\, 2012 – ISBN: 9788202371869 \nAlso Recommended:\nOnline exercises (both oral and written) following the textbook\nNotebooks for vocabulary as well as notes\nDuolingo (Android\, Apple) and other language apps to expand vocabulary and support the learning process \nRegister
URL:https://www.scandinaviahouse.org/event/norwegian-1/2024-04-03/
LOCATION:Scandinavia House\, 58 Park Avenue\, New York\, NY\, 10016\, United States
ATTACH;FMTTYPE=image/jpeg:https://www.scandinaviahouse.org/wp-content/uploads/2022/09/peter-hansen-TR8X68ILkGA-unsplash-new-website-scaled.jpg
END:VEVENT
BEGIN:VEVENT
DTSTART;TZID=America/New_York:20240403T190000
DTEND;TZID=America/New_York:20240403T203000
DTSTAMP:20260422T131754
CREATED:20240215T192811Z
LAST-MODIFIED:20240516T170937Z
UID:10003097-1712170800-1712176200@www.scandinaviahouse.org
SUMMARY:TOVE'S ROOM | NEW NORDIC CINEMA
DESCRIPTION:See Tove’s Room (dir. Martin Zandvliet\, Denmark\, 2023)\, a new biopic about Danish poet Tove Ditlevsen and her tortured marriage to editor Victor Andreasen\, on April 3 at Scandinavia House. \nIn 1969 in Copenhagen\, we meet one of Denmark’s most acclaimed female authors\, Tove Ditlevsen\, and her husband\, the sadistic news editor Victor Andreasen. Tove’s talent is indisputable\, and as a woman\, her brilliance presents a threat to the chauvinistic literary culture of her era. Her success ignites her husband’s envy\, which he weaponizes against her in insidious ways. Tensions rise when the promising young author Klaus Rifbjerg\, a man unthreatened by modern womanhood\, comes to visit the couple. Klaus expects to share a nice afternoon with his idol\, but when Victor’s temper gets in the way\, chaos ensues. \nPurchase Tickets
URL:https://www.scandinaviahouse.org/event/toves-room/
LOCATION:Scandinavia House\, 58 Park Avenue\, New York\, NY\, 10016\, United States
CATEGORIES:Films
ATTACH;FMTTYPE=image/png:https://www.scandinaviahouse.org/wp-content/uploads/2024/02/toves_room_Camilla-Hjelm_2880x1120.png
END:VEVENT
END:VCALENDAR