BEGIN:VCALENDAR
VERSION:2.0
PRODID:-//Scandinavia House - ECPv6.15.3//NONSGML v1.0//EN
CALSCALE:GREGORIAN
METHOD:PUBLISH
X-WR-CALNAME:Scandinavia House
X-ORIGINAL-URL:https://www.scandinaviahouse.org
X-WR-CALDESC:Events for Scandinavia House
REFRESH-INTERVAL;VALUE=DURATION:PT1H
X-Robots-Tag:noindex
X-PUBLISHED-TTL:PT1H
BEGIN:VTIMEZONE
TZID:America/New_York
BEGIN:DAYLIGHT
TZOFFSETFROM:-0500
TZOFFSETTO:-0400
TZNAME:EDT
DTSTART:20240310T070000
END:DAYLIGHT
BEGIN:STANDARD
TZOFFSETFROM:-0400
TZOFFSETTO:-0500
TZNAME:EST
DTSTART:20241103T060000
END:STANDARD
END:VTIMEZONE
BEGIN:VEVENT
DTSTART;TZID=America/New_York:20240404T190000
DTEND;TZID=America/New_York:20240404T210000
DTSTAMP:20260422T131209
CREATED:20240228T205312Z
LAST-MODIFIED:20240514T221213Z
UID:10002445-1712257200-1712264400@www.scandinaviahouse.org
SUMMARY:THE INVISIBLE FIGHT
DESCRIPTION:“Critic’s Pick! Satisfyingly blends kung fu\, heavy metal and Orthodox Christianity. Remind[s] us that walking on water is a skill shared by both Jet Li and Jesus” (Amy Nicholson\, The New York Times). See The Invisible Fight (Nähtamatu võitlus; dir. Rainer Sarnet\, Estonia\, 2023)\, a quirky Estonian action comedy about a Soviet dissident’s quest to become a kung-fu master! The screening is part of our Estonian Cultural Days in New York organized in partnership with the Estonian Ministry of Culture\, the Consulate General of Estonia and the Foundation for Estonian Arts and Letters. \nEstonia\, 1973. Young conscript Rafael has just returned from the Soviet-Chinese border\, the sole survivor of a surprise attack by flying kung-fu warriors. Eager to learn more about the technique that took down his fellow soldiers\, Rafael’s growing obsession shows him that there’s more to life than Soviet conformity. He soon embarks on a quest to master the art of kung-fu\, finding unlikely mentorship at an underground Orthodox monastery. With a skeptical mother\, a rival apprentice\, and a budding love interest pulling him in different directions\, Rafael finds that his journey to unlock the greatest martial art of all—the almighty power of humility—is long\, winding\, and full of kick-ass adventures. \nPurchase Tickets
URL:https://www.scandinaviahouse.org/event/the-invisible-fight/
LOCATION:Scandinavia House\, 58 Park Avenue\, New York\, NY\, 10016\, United States
CATEGORIES:Films
ATTACH;FMTTYPE=image/png:https://www.scandinaviahouse.org/wp-content/uploads/2024/02/The-Invisible-Fight_WEB_scaled.png
END:VEVENT
END:VCALENDAR