BEGIN:VCALENDAR
VERSION:2.0
PRODID:-//Scandinavia House - ECPv6.15.3//NONSGML v1.0//EN
CALSCALE:GREGORIAN
METHOD:PUBLISH
X-WR-CALNAME:Scandinavia House
X-ORIGINAL-URL:https://www.scandinaviahouse.org
X-WR-CALDESC:Events for Scandinavia House
REFRESH-INTERVAL;VALUE=DURATION:PT1H
X-Robots-Tag:noindex
X-PUBLISHED-TTL:PT1H
BEGIN:VTIMEZONE
TZID:America/New_York
BEGIN:DAYLIGHT
TZOFFSETFROM:-0500
TZOFFSETTO:-0400
TZNAME:EDT
DTSTART:20240310T070000
END:DAYLIGHT
BEGIN:STANDARD
TZOFFSETFROM:-0400
TZOFFSETTO:-0500
TZNAME:EST
DTSTART:20241103T060000
END:STANDARD
END:VTIMEZONE
BEGIN:VEVENT
DTSTART;TZID=America/New_York:20240407T143000
DTEND;TZID=America/New_York:20240407T160000
DTSTAMP:20260422T163653
CREATED:20240221T214211Z
LAST-MODIFIED:20240516T175900Z
UID:10003218-1712500200-1712505600@www.scandinaviahouse.org
SUMMARY:THE TORMIS LEGACY: REGILAUL IN NEW YORK
DESCRIPTION:Discover the music of Veljo Tormis (1930–2017)\, one of the most important Estonian composers of the late 20th century\, through a performance\, screening and book discussion on April 7! \nVeljo Tormis’s compositions were profoundly based on the ancient traditional songs of the Estonian people — runic songs or regilaul. One of the goals of his professional life (in which he succeeded) was to restore that music to a central place in Estonian culture\, which proved to be of great importance to a culture that had been subjugated by the Soviet Union for over 50 years. Since then\, other Estonian composers have been influenced by his combination of ancient and contemporary styles. \nIn today’s program\, experience the Estonian folk-style music that has evolved from regilaul through a performance by Celia Roose (vocals\, bagpaipes and garmon) and Ants Johanson (guitar); see the documentary short The One & Only\, exploring how Veljo Tormis influenced his companions such as former Estonian president Kersti Kaljulaid\, composer Arvo Pärt\, and others; and explore the digital photo exhibition Isa Ise / Father Himself by Tõnu Tormis (Veljo Tormis’s son)\, which provides an exceptionally vivid vision through Veljo’s character from 1964-2000. Concluding the event will be a conversation with Mimi Daitz\, author of the book Ancient Song Recovered: The Life and Music of Veljo Tormis (now in its 2nd edition)\, as well as a book-signing. \nThe event is part of Estonian Cultural Days in New YorK and is organized in partnership with Veljo Tormis Virtual Center\, Estonian Ministry of Culture\, Consulate General of Estonia and Foundation for Estonian Arts and Letters. \nRegister
URL:https://www.scandinaviahouse.org/event/the-tormis-legacy-runic-songs-in-new-york/
LOCATION:Scandinavia House\, 58 Park Avenue\, New York\, NY\, 10016\, United States
CATEGORIES:Concerts
ATTACH;FMTTYPE=image/jpeg:https://www.scandinaviahouse.org/wp-content/uploads/2024/02/P1050084-_WEB-scaled.jpg
END:VEVENT
END:VCALENDAR