BEGIN:VCALENDAR
VERSION:2.0
PRODID:-//Scandinavia House - ECPv6.15.3//NONSGML v1.0//EN
CALSCALE:GREGORIAN
METHOD:PUBLISH
X-ORIGINAL-URL:https://www.scandinaviahouse.org
X-WR-CALDESC:Events for Scandinavia House
REFRESH-INTERVAL;VALUE=DURATION:PT1H
X-Robots-Tag:noindex
X-PUBLISHED-TTL:PT1H
BEGIN:VTIMEZONE
TZID:America/New_York
BEGIN:DAYLIGHT
TZOFFSETFROM:-0500
TZOFFSETTO:-0400
TZNAME:EDT
DTSTART:20240310T070000
END:DAYLIGHT
BEGIN:STANDARD
TZOFFSETFROM:-0400
TZOFFSETTO:-0500
TZNAME:EST
DTSTART:20241103T060000
END:STANDARD
END:VTIMEZONE
BEGIN:VEVENT
DTSTART;TZID=America/New_York:20240413T130000
DTEND;TZID=America/New_York:20240413T170000
DTSTAMP:20260422T130831
CREATED:20240227T201057Z
LAST-MODIFIED:20240514T222354Z
UID:10002438-1713013200-1713027600@www.scandinaviahouse.org
SUMMARY:FOG SWEPT CARGO OPENING CELEBRATION | ARTIST PANEL\, HEARTIST SCREENING & FILM Q&A
DESCRIPTION:On April 13 in celebration of the opening of Fog Swept Cargo\, an exhibition on view in coordination with “Faroe Island Culture Days\,” join us for an Opening Celebration featuring a panel discussion with artists Hansina Iversen\, Randi Samsonsen\, Jóhan Martin Christiansen\, Alda Mohr Eyðunardóttir\, moderated by curator Kinna Poulsen; a screening of the film Heartist exploring the life and work of artist Sigrun Gunnarsdóttir; followed by a film panel with directors Marianna Mørkøre & Beinta á Torkilsheyggi and producers Jón Hammer & Rógvi Rasmussen. \nPurchase Tickets\n$10 (free for ASF Members) \nSCHEDULE \nArtist Panel—1:00 PM\n\nFaroese artists Hansina Iversen\, Randi Samsonsen\, Jóhan Martin Christiansen\, and Alda Mohr Eyðunardóttir will be joined by exhibition curator Kinna Poulsen for a discussion on their works in Fog Swept Cargo\, on view in the Scandinavia House Galleries through July 6 and opening in coordination with Faroe Islands Culture Days. Learn about the exhibition here. \nHeartist—2:45 PM \nSee a presentation of Heartist\, a new documentary (dir. Marianna Mørkøre & Beinta á Torkilsheyggi\, Faroe Islands\, 2023) exploring the life and work of  contemporary Faroese artist Sigrun Gunnarsdóttir\, one of the most important contemporary painters on the Faroe Islands\, Gunnarsdóttir and the colorful simplicity of her style have resonated with the art world\, resulting in local and international recognition. With an aesthetically pleasing and carefully composed imagery inspired by Sigrun’s own approach\, Mørkøre and Torkilsheyggi’s documentary delves into the artist’s vision\, her life journey\, personal challenges and quirks. (58 min. In Faroese with English subtitles). \n\nFilm Panel—3:45 PM \nFollowing the screening\, see a panel discussion and Q&A with Heartist directors Marianna Mørkøre & Beinta á Torkilsheyggi and producers Jón Hammer & Rógvi Rasmussen! \nLearn more about the exhibition here.
URL:https://www.scandinaviahouse.org/event/fog-swept-cargo-opening-celebration-artist-panel-heartist-screening-film-qa/
LOCATION:Scandinavia House\, 58 Park Avenue\, New York\, NY\, 10016\, United States
ATTACH;FMTTYPE=image/jpeg:https://www.scandinaviahouse.org/wp-content/uploads/2024/02/Faroe-Opening-Day-Panel_WEB-scaled.jpg
END:VEVENT
BEGIN:VEVENT
DTSTART;TZID=America/New_York:20240413T144500
DTEND;TZID=America/New_York:20240413T164500
DTSTAMP:20260422T130831
CREATED:20240306T175424Z
LAST-MODIFIED:20240514T222459Z
UID:10003221-1713019500-1713026700@www.scandinaviahouse.org
SUMMARY:HEARTIST | SCREENING & DIRECTOR/PRODUCER TALK
DESCRIPTION:Screening in this spring’s “Faroese Culture Days: Fog Swept Islands\,” join us for a presentation of Heartist\, a new documentary exploring the life and work of  contemporary Faroese artist Sigrun Gunnarsdóttir\, followed by a film panel and Q&A with directors Marianna Mørkøre & Beinta á Torkilsheyggi and producers Jón Hammer & Rógvi Rasmussen! \nOn April 13 in celebration of the opening of Fog Swept Cargo\, an exhibition on view in coordination with Faroe Island Culture Days\, Scandinavia House will present a day of events including a panel discussion with artists Hansina Iversen\, Randi Samsonsen\, Jóhan Martin Christiansen\, Alda Mohr Eyðunardóttir\, moderated by curator Kinna Poulsen at 1 PM\, followed by the screening of Heartist exploring the life and work of artist Sigrun Gunnarsdóttir at 2:45 PM\, which will be followed by a film panel with directors Marianna Mørkøre & Beinta á Torkilsheyggi and producers Jón Hammer & Rógvi Rasmussen. \nOne of the most important contemporary painters on the Faroe Islands\, Sigrun Gunnarsdóttir and the colorful simplicity of her style have resonated with the art world\, resulting in local and international recognition. With an aesthetically pleasing and carefully composed imagery inspired by Sigrun’s own approach\, Mørkøre and Torkilsheyggi’s documentary delves into the artist’s vision\, her life journey\, personal challenges and quirks. (58 min. In Faroese with English subtitles). \nTicket prices for this event also include the Artist Panel at 1 PM. \nPurchase Tickets
URL:https://www.scandinaviahouse.org/event/heartist-screening-director-producer-talk/
LOCATION:Scandinavia House\, 58 Park Avenue\, New York\, NY\, 10016\, United States
CATEGORIES:Films
ATTACH;FMTTYPE=image/jpeg:https://www.scandinaviahouse.org/wp-content/uploads/2024/02/HEARTIST_WEB-scaled.jpg
END:VEVENT
END:VCALENDAR