BEGIN:VCALENDAR
VERSION:2.0
PRODID:-//Scandinavia House - ECPv6.15.3//NONSGML v1.0//EN
CALSCALE:GREGORIAN
METHOD:PUBLISH
X-WR-CALNAME:Scandinavia House
X-ORIGINAL-URL:https://www.scandinaviahouse.org
X-WR-CALDESC:Events for Scandinavia House
REFRESH-INTERVAL;VALUE=DURATION:PT1H
X-Robots-Tag:noindex
X-PUBLISHED-TTL:PT1H
BEGIN:VTIMEZONE
TZID:America/New_York
BEGIN:DAYLIGHT
TZOFFSETFROM:-0500
TZOFFSETTO:-0400
TZNAME:EDT
DTSTART:20240310T070000
END:DAYLIGHT
BEGIN:STANDARD
TZOFFSETFROM:-0400
TZOFFSETTO:-0500
TZNAME:EST
DTSTART:20241103T060000
END:STANDARD
END:VTIMEZONE
BEGIN:VEVENT
DTSTART;TZID=America/New_York:20240421T100000
DTEND;TZID=America/New_York:20240421T130000
DTSTAMP:20260422T183351
CREATED:20240229T220313Z
LAST-MODIFIED:20240514T220052Z
UID:10002453-1713693600-1713704400@www.scandinaviahouse.org
SUMMARY:FAROESE KNITTING WORKSHOP | WITH SÁRA MRDALO
DESCRIPTION:Presented in Faroe Islands Culture Days\, join us for a three-hour workshop led by renowned Faroese knitter Sára Mrdalo\, the head knitter at Navia! This program will explore the rich tradition of Faroese knitting\, teaching participants new techniques and different pattern-work such as lace\, structure\, cable knit\, and two-colored patterns. Participants will work on five different projects and will learn the techniques to create five patterns in order to finish four featured sweaters as well as skóleistur\, a shoe knitted from woolen yarn. \nTwo sessions of the program will be offered\, one from 10 AM to 1 PM and one from 2 PM to 5 PM (each program includes a coffee break midway through). Basic knowledge is needed for the workshop\, with cast-on\, knit and purl competence; it is best-suited for basic knitters to advance knitters. Participants will need to bring their own materials\, including 5 double-pointed needles U.S. size 6\, as well as size 6 needles\, and 2-3 skeins of yarn (see details below). Sessions will be limited to 20 attendees per session; please reserve early to guarantee attendance. \nWorkshop tickets also include complimentary admission to the Faroese Knitwear Showcase & Drop-In Knitting events on Saturday & Sunday\, April 21-22. \nRegister
URL:https://www.scandinaviahouse.org/event/faroese-knitting-workshop-with-sara-mrdalo/2024-04-21/1/
LOCATION:Scandinavia House\, 58 Park Avenue\, New York\, NY\, 10016\, United States
ATTACH;FMTTYPE=image/jpeg:https://www.scandinaviahouse.org/wp-content/uploads/2024/02/Composite-1-knit-scaled.jpg
END:VEVENT
BEGIN:VEVENT
DTSTART;TZID=America/New_York:20240421T120000
DTEND;TZID=America/New_York:20240421T140000
DTSTAMP:20260422T183351
CREATED:20240227T203456Z
LAST-MODIFIED:20240514T221735Z
UID:10002443-1713700800-1713708000@www.scandinaviahouse.org
SUMMARY:FAROESE KNITWEAR SHOWCASE & DROP-IN MEET & GREET
DESCRIPTION:Presented in Faroe Islands Culture Days\, join us for a knitwear showcase and drop-in knitting event! Following the Panel Discussion & Film Screening “Design From the Faroe Islands” at 11 AM\, join us for an opportunity to meet the designers\, talk wool\, knit\, tradition\, design vision and sustainable fashion. Admission is free for Panel & Film Screening ticketholders and ASF Members ($5 for all other attendees). \nFeatured brands at this event include Einstakt\, Shisa Brand\, Navia\, REKA\, Steinum\, and Durita Thomsen. \nPurchase Tickets
URL:https://www.scandinaviahouse.org/event/faroese-knitwear-showcase-drop-in-knitting/2024-04-21/
LOCATION:Scandinavia House\, 58 Park Avenue\, New York\, NY\, 10016\, United States
ATTACH;FMTTYPE=image/jpeg:https://www.scandinaviahouse.org/wp-content/uploads/2024/02/Desgin_2880x1180_2-LOGO-scaled.jpg
END:VEVENT
BEGIN:VEVENT
DTSTART;TZID=America/New_York:20240421T120000
DTEND;TZID=America/New_York:20240421T235900
DTSTAMP:20260422T183351
CREATED:20240327T203030Z
LAST-MODIFIED:20240516T170213Z
UID:10003236-1713700800-1713743940@www.scandinaviahouse.org
SUMMARY:FILMS FROM THE FAROE ISLANDS  — VIRTUAL SCREENINGS
DESCRIPTION:Presented in Faroe Islands Culture Days\, see virtual screenings of some of the best contemporary film from the Faroe Islands in “Fog-Swept Cinema”! \nFrom April 19 through May 5\, 2024\, a virtual screening package will be available with three feature films — the coming-of-age drama Dreams by the Sea\, the surrealist feature 111 Good Days\, and the documentary Skál — as well as four short films\, showcasing today’s leading filmmakers from the North Atlantic archipelago. \nVirtual screening packages are available throughout the U.S. \nRead the full lineup here. \nPurchase tickets. 
URL:https://www.scandinaviahouse.org/event/films-from-the-faroe-islands-virtual-screenings/2024-04-21/
LOCATION:NY
CATEGORIES:Films
ATTACH;FMTTYPE=image/jpeg:https://www.scandinaviahouse.org/wp-content/uploads/2024/03/Brother-Troll-26_WEB_FSC_SCREAMER-scaled.jpg
END:VEVENT
BEGIN:VEVENT
DTSTART;TZID=America/New_York:20240421T140000
DTEND;TZID=America/New_York:20240421T170000
DTSTAMP:20260422T183351
CREATED:20240229T220313Z
LAST-MODIFIED:20240514T220052Z
UID:10002454-1713708000-1713718800@www.scandinaviahouse.org
SUMMARY:FAROESE KNITTING WORKSHOP | WITH SÁRA MRDALO
DESCRIPTION:Presented in Faroe Islands Culture Days\, join us for a three-hour workshop led by renowned Faroese knitter Sára Mrdalo\, the head knitter at Navia! This program will explore the rich tradition of Faroese knitting\, teaching participants new techniques and different pattern-work such as lace\, structure\, cable knit\, and two-colored patterns. Participants will work on five different projects and will learn the techniques to create five patterns in order to finish four featured sweaters as well as skóleistur\, a shoe knitted from woolen yarn. \nTwo sessions of the program will be offered\, one from 10 AM to 1 PM and one from 2 PM to 5 PM (each program includes a coffee break midway through). Basic knowledge is needed for the workshop\, with cast-on\, knit and purl competence; it is best-suited for basic knitters to advance knitters. Participants will need to bring their own materials\, including 5 double-pointed needles U.S. size 6\, as well as size 6 needles\, and 2-3 skeins of yarn (see details below). Sessions will be limited to 20 attendees per session; please reserve early to guarantee attendance. \nWorkshop tickets also include complimentary admission to the Faroese Knitwear Showcase & Drop-In Knitting events on Saturday & Sunday\, April 21-22. \nRegister
URL:https://www.scandinaviahouse.org/event/faroese-knitting-workshop-with-sara-mrdalo/2024-04-21/2/
LOCATION:Scandinavia House\, 58 Park Avenue\, New York\, NY\, 10016\, United States
ATTACH;FMTTYPE=image/jpeg:https://www.scandinaviahouse.org/wp-content/uploads/2024/02/Composite-1-knit-scaled.jpg
END:VEVENT
END:VCALENDAR