BEGIN:VCALENDAR
VERSION:2.0
PRODID:-//Scandinavia House - ECPv6.15.3//NONSGML v1.0//EN
CALSCALE:GREGORIAN
METHOD:PUBLISH
X-WR-CALNAME:Scandinavia House
X-ORIGINAL-URL:https://www.scandinaviahouse.org
X-WR-CALDESC:Events for Scandinavia House
REFRESH-INTERVAL;VALUE=DURATION:PT1H
X-Robots-Tag:noindex
X-PUBLISHED-TTL:PT1H
BEGIN:VTIMEZONE
TZID:America/New_York
BEGIN:DAYLIGHT
TZOFFSETFROM:-0500
TZOFFSETTO:-0400
TZNAME:EDT
DTSTART:20240310T070000
END:DAYLIGHT
BEGIN:STANDARD
TZOFFSETFROM:-0400
TZOFFSETTO:-0500
TZNAME:EST
DTSTART:20241103T060000
END:STANDARD
END:VTIMEZONE
BEGIN:VEVENT
DTSTART;TZID=America/New_York:20240425T120000
DTEND;TZID=America/New_York:20240425T235900
DTSTAMP:20260422T131804
CREATED:20240327T203030Z
LAST-MODIFIED:20240516T170213Z
UID:10003240-1714046400-1714089540@www.scandinaviahouse.org
SUMMARY:FILMS FROM THE FAROE ISLANDS  — VIRTUAL SCREENINGS
DESCRIPTION:Presented in Faroe Islands Culture Days\, see virtual screenings of some of the best contemporary film from the Faroe Islands in “Fog-Swept Cinema”! \nFrom April 19 through May 5\, 2024\, a virtual screening package will be available with three feature films — the coming-of-age drama Dreams by the Sea\, the surrealist feature 111 Good Days\, and the documentary Skál — as well as four short films\, showcasing today’s leading filmmakers from the North Atlantic archipelago. \nVirtual screening packages are available throughout the U.S. \nRead the full lineup here. \nPurchase tickets. 
URL:https://www.scandinaviahouse.org/event/films-from-the-faroe-islands-virtual-screenings/2024-04-25/
LOCATION:NY
CATEGORIES:Films
ATTACH;FMTTYPE=image/jpeg:https://www.scandinaviahouse.org/wp-content/uploads/2024/03/Brother-Troll-26_WEB_FSC_SCREAMER-scaled.jpg
END:VEVENT
BEGIN:VEVENT
DTSTART;TZID=America/New_York:20240425T180000
DTEND;TZID=America/New_York:20240425T200000
DTSTAMP:20260422T131804
CREATED:20240430T161816Z
LAST-MODIFIED:20240514T211306Z
UID:10003256-1714068000-1714075200@www.scandinaviahouse.org
SUMMARY:FOG SWEPT MANHATTAN — ADULT ART WORKSHOP WITH MELKORKA HELGADOTTIR
DESCRIPTION:Join us at Scandinavia House for an adult art workshop and tour of our current exhibition\, Fog Swept Cargo: Art from the Faroe Islands. Inspired by the work of artist Hanni Bjartalið\, workshop participants will create mixed media collages. Guided by teaching artist Korka\, participants will use patterns\, magazine images\, and various colored paper to create a view of an interior in a relaxed atmosphere. All materials are provided. \nPurchase Tickets \n 
URL:https://www.scandinaviahouse.org/event/fog-swept-manhattan-adult-art-workshop-with-melkorka-helgadottir_1/
LOCATION:Scandinavia House\, 58 Park Avenue\, New York\, NY\, 10016\, United States
ATTACH;FMTTYPE=image/png:https://www.scandinaviahouse.org/wp-content/uploads/2024/03/Korka-workshop_HANNI-BJARTALID-for-web.png
END:VEVENT
BEGIN:VEVENT
DTSTART;TZID=America/New_York:20240425T190000
DTEND;TZID=America/New_York:20240425T203000
DTSTAMP:20260422T131804
CREATED:20240306T215204Z
LAST-MODIFIED:20240514T222712Z
UID:10003223-1714071600-1714077000@www.scandinaviahouse.org
SUMMARY:HEROSTORIES | BOOK TALK WITH KRISTÍN SVAVA TÓMASDÓTTIR\, K.B. THORS & LARISSA KYZER
DESCRIPTION:Join us for a book talk with Icelandic poet and historian Kristín Svava Tómasdóttir and translator and ASF Translation Prizewinner K.B. Thors on Herostories! With moderator Larissa Kyzer (also an ASF Translation Prizewinner)\, Tómasdóttir and Thors will discuss this new work out now from Vellum Press revealing tales untold by most history books: the harrowing journeys and vital triumphs of 19th- and 20th-century midwifery in the vast landscape of Iceland. \nComposed from the memoirs and biographies of 100 Icelandic midwives\, poet-historian Kristín Svava Tómasdóttir’s found poems illuminate the dangers and valor of birthwork. Forgoing traditional sagas of androcentric conquest\, these poems center the adventures of ljósmæður\, “mothers of light.” Tómasdóttir leverages epic elements—dashing mountain treks\, rivers forded on horseback\, unyielding compassion—to challenge how and by whom stories become legend. Beyond archival recognition\, the text’s formally ambitious poetics render gender-based battles for literacy and education alongside narratives of selfless womanly caretaking\, pressurizing the fundamental tensions between feminine self-actualization and the romanticized service of these trailblazing figures. \nThe follow-up to Tómasdóttir and Thors’ award-winning\, PEN-nominated Stormwarning\, Herostories documents the professional achievements of Iceland’s first women to work outside the home\, precursors to today’s midwives who remain central to contemporary health care on the island. \nRegister
URL:https://www.scandinaviahouse.org/event/herostories-book-talk-with-kristin-svava-tomasdottir-k-b-thors-larissa-kyzer/
LOCATION:Scandinavia House\, 58 Park Avenue\, New York\, NY\, 10016\, United States
ATTACH;FMTTYPE=image/jpeg:https://www.scandinaviahouse.org/wp-content/uploads/2024/02/Herostories_WEB-scaled.jpg
END:VEVENT
END:VCALENDAR