BEGIN:VCALENDAR
VERSION:2.0
PRODID:-//Scandinavia House - ECPv6.15.3//NONSGML v1.0//EN
CALSCALE:GREGORIAN
METHOD:PUBLISH
X-ORIGINAL-URL:https://www.scandinaviahouse.org
X-WR-CALDESC:Events for Scandinavia House
REFRESH-INTERVAL;VALUE=DURATION:PT1H
X-Robots-Tag:noindex
X-PUBLISHED-TTL:PT1H
BEGIN:VTIMEZONE
TZID:America/New_York
BEGIN:DAYLIGHT
TZOFFSETFROM:-0500
TZOFFSETTO:-0400
TZNAME:EDT
DTSTART:20240310T070000
END:DAYLIGHT
BEGIN:STANDARD
TZOFFSETFROM:-0400
TZOFFSETTO:-0500
TZNAME:EST
DTSTART:20241103T060000
END:STANDARD
END:VTIMEZONE
BEGIN:VEVENT
DTSTART;TZID=America/New_York:20240512T110000
DTEND;TZID=America/New_York:20240512T160000
DTSTAMP:20260422T184244
CREATED:20240507T164925Z
LAST-MODIFIED:20240514T223323Z
UID:10003261-1715511600-1715529600@www.scandinaviahouse.org
SUMMARY:MOTHER'S DAY PRIXE FIXE | BJÖRK CAFE & BISTRO
DESCRIPTION:Treat your mother to a culinary taste journey through Scandinavia this Mother’s Day with a prix-fixe celebration at Björk Cafe & Bistro at Scandinavia House! This five-course menu features dishes from each of the Nordic countries\, including appetizers\, entrees\, a sparkling Nordic mimosa\, and Princess Cake from Sweden. \nMOTHER’S DAY MENU\nSparkling Nordic Mimosa\n(Lingonberry\, Elderflower or Black Current) \nChilled Green Pea & Nettle Soup with Salmon Roe (Finland) \nWest Coast Salad with Cold Water Shrimp & Creamy Lemon Yogurt Dressing (Denmark) \nIcelandic Cod with Asparagus and Ramps Hollandaise (Iceland) \nLamb Tenderloin with Pickled Kohlrabi\, Grilled Spring Veggies & Potato Gratin (Norway) \nPrincess Cake (Sweden) \n$75/pp \nRSVP \n 
URL:https://www.scandinaviahouse.org/event/mothers-day-prixe-fixe-bjork-cafe-bistro/
LOCATION:Björk Cafe & Bistro at Scandinavia House\, 58 Park Ave\, New York\, NY\, 10016\, United States
ATTACH;FMTTYPE=image/jpeg:https://www.scandinaviahouse.org/wp-content/uploads/2024/05/Bjork-Web-MD-scaled.jpg
END:VEVENT
END:VCALENDAR