BEGIN:VCALENDAR
VERSION:2.0
PRODID:-//Scandinavia House - ECPv6.15.3//NONSGML v1.0//EN
CALSCALE:GREGORIAN
METHOD:PUBLISH
X-WR-CALNAME:Scandinavia House
X-ORIGINAL-URL:https://www.scandinaviahouse.org
X-WR-CALDESC:Events for Scandinavia House
REFRESH-INTERVAL;VALUE=DURATION:PT1H
X-Robots-Tag:noindex
X-PUBLISHED-TTL:PT1H
BEGIN:VTIMEZONE
TZID:America/New_York
BEGIN:DAYLIGHT
TZOFFSETFROM:-0500
TZOFFSETTO:-0400
TZNAME:EDT
DTSTART:20240310T070000
END:DAYLIGHT
BEGIN:STANDARD
TZOFFSETFROM:-0400
TZOFFSETTO:-0500
TZNAME:EST
DTSTART:20241103T060000
END:STANDARD
END:VTIMEZONE
BEGIN:VEVENT
DTSTART;TZID=America/New_York:20240517T110000
DTEND;TZID=America/New_York:20240517T200000
DTSTAMP:20260422T184930
CREATED:20240514T164754Z
LAST-MODIFIED:20240515T173035Z
UID:10003269-1715943600-1715976000@www.scandinaviahouse.org
SUMMARY:NORWEGIAN CONSTITUTION DAY PRIX FIXE | BJÖRK CAFE & BISTRO
DESCRIPTION:Celebrate Syttende Mai\, Norway’s Constitution Day\, at Björk Cafe & Bistro at Scandinavia House! The prix-fixe menu features Norwegian specialties including fish and shellfish soup\, Norwegian smoked salmon or “SpeWe” ham with scrambled eggs\, or shrimp salad with creamy yogurt dressing\, as well as a fresh berry pavlova and a sparkling Nordic mimosa\, as well as drink specials on wine and Oslo Beer. \nMENU\nSparkling Nordic Mimosa (Lingonberry\, Elderflower or Black Currant) \n\n\nChoice of:\nFish & Shellfish Soup\nor\nNorwegian Smoked Salmon or “SpeWe” Ham with Scrambled Eggs\nor\nShrimp Salad with Creamy Yogurt Dressing \nFresh Berry Pavlova \n\n\n$55/pp \nRESERVATIONS \n 
URL:https://www.scandinaviahouse.org/event/syttende-mai-prix-fixe-2024/
LOCATION:Björk Cafe & Bistro at Scandinavia House\, 58 Park Ave\, New York\, NY\, 10016\, United States
ATTACH;FMTTYPE=image/jpeg:https://www.scandinaviahouse.org/wp-content/uploads/2024/05/norway-2697322_Bjork-scaled.jpg
END:VEVENT
BEGIN:VEVENT
DTSTART;TZID=America/New_York:20240517T190000
DTEND;TZID=America/New_York:20240517T210000
DTSTAMP:20260422T184930
CREATED:20240326T185833Z
LAST-MODIFIED:20240514T214616Z
UID:10003233-1715972400-1715979600@www.scandinaviahouse.org
SUMMARY:SONGS OF NORDIC LANDS AND ISLES
DESCRIPTION:On May 17 in coordination with an ongoing celebration of the Faroe Islands\, baritone and ASF Fellow Colin Levin and painist/composer Evan Fein will perform a program of art songs by contemporary composers from the Faroe Islands\, including North American premieres of works by by Sunleif Rasmussen. Other works in the program will include the song cycle Kung Eriks Visor by Ture Rangström; the U.S. premiere of Griffin Candey’s Things that are Rare and a performance of Benn Lunn’s And on eorðan\, both written for Levin; and art songs by Evan Fein and Eli Tausen á Lava. \nPROGRAM\nEli Tausen á Lava (b. 1997)\, i loftet hænger disse øjne \nSunleif Rasmussen (b. 1961)\nFjallið ið blunkaði\nFølv\nHanda stóra kavaflykra\nTú hevur tær dýrastu perlur\n \nHalldór Smárason (b. 1989)\, Fjallkonuljóð \nGriffin Candey (b. 1988)\, Things That Are Rare \nEvan Fein (b. 1984)\, Úti \nJórunn Viðar (1918-2017)\nVökuró\nÞjóðlag úr álfhamri \nBen Lunn (b. 1989)\, And on eorðan \nPurchase Tickets
URL:https://www.scandinaviahouse.org/event/songs-of-nordic-lands-and-isles/
LOCATION:Scandinavia House\, 58 Park Avenue\, New York\, NY\, 10016\, United States
ATTACH;FMTTYPE=image/jpeg:https://www.scandinaviahouse.org/wp-content/uploads/2024/03/Lands-and-Isles_WEB-scaled.jpg
END:VEVENT
END:VCALENDAR