BEGIN:VCALENDAR
VERSION:2.0
PRODID:-//Scandinavia House - ECPv6.15.3//NONSGML v1.0//EN
CALSCALE:GREGORIAN
METHOD:PUBLISH
X-WR-CALNAME:Scandinavia House
X-ORIGINAL-URL:https://www.scandinaviahouse.org
X-WR-CALDESC:Events for Scandinavia House
REFRESH-INTERVAL;VALUE=DURATION:PT1H
X-Robots-Tag:noindex
X-PUBLISHED-TTL:PT1H
BEGIN:VTIMEZONE
TZID:America/New_York
BEGIN:DAYLIGHT
TZOFFSETFROM:-0500
TZOFFSETTO:-0400
TZNAME:EDT
DTSTART:20240310T070000
END:DAYLIGHT
BEGIN:STANDARD
TZOFFSETFROM:-0400
TZOFFSETTO:-0500
TZNAME:EST
DTSTART:20241103T060000
END:STANDARD
END:VTIMEZONE
BEGIN:VEVENT
DTSTART;TZID=America/New_York:20240522T173000
DTEND;TZID=America/New_York:20240522T180500
DTSTAMP:20260424T111252
CREATED:20240507T213831Z
LAST-MODIFIED:20240611T202344Z
UID:10003266-1716399000-1716401100@www.scandinaviahouse.org
SUMMARY:GALLERY TOURS: FOG SWEPT CARGO
DESCRIPTION:*Please note that the exhibition tour on June 12\, 2024 has been canceled.*\nOn view from April 13\, 2024 to July 6\, 2024 at Scandinavia House\, Fog Swept Cargo features the striking diversity of contemporary art from the Faroe Islands. In this guided tour by Emily Stoddart\, ASF’s Manager of Exhibitions & Community Programs\, learn about the artists in this exhibition and their works. \nThese free\, 35-minute public tours meet in the Gallery elevator lobby. Gallery tours are subject to change; please check with the Scandinavia House front desk or email info@amscan.org. \nRegister
URL:https://www.scandinaviahouse.org/event/gallery-tours-fog-swept-cargo/2024-05-22/
LOCATION:Scandinavia House\, 58 Park Avenue\, New York\, NY\, 10016\, United States
ATTACH;FMTTYPE=image/jpeg:https://www.scandinaviahouse.org/wp-content/uploads/2024/04/Fog-Swept-1-scaled.jpg
END:VEVENT
BEGIN:VEVENT
DTSTART;TZID=America/New_York:20240522T190000
DTEND;TZID=America/New_York:20240522T203000
DTSTAMP:20260424T111252
CREATED:20240318T164103Z
LAST-MODIFIED:20240521T190442Z
UID:10003228-1716404400-1716409800@www.scandinaviahouse.org
SUMMARY:HERNMARCK TAPESTRIES AT HUDSON YARDS  | ARTIST TALK
DESCRIPTION:Join us for a talk with tapestry artist Helena Hernmarck and moderator Matilda McQuaid on Hernmarck’s latest commission: two sets of monumental tapestries for a residential lobby at 35 Hudson Yards in New York City\, Flowers and Maple Tree. The program will also include a screening of the documentary Hernmarck Tapestries at Hudson Yards (20 min.)\, which showcases Helena’s ongoing collaboration with weavers and spinners in Sweden. The film also explores the complex design and installation requirements for the unique commission\, and highlights the relevance of tapestry as an art form in contemporary architectural settings. \nRegister
URL:https://www.scandinaviahouse.org/event/hernmarck-tapestries-at-hudson-yards-artist-talk/
LOCATION:Scandinavia House\, 58 Park Avenue\, New York\, NY\, 10016\, United States
ATTACH;FMTTYPE=image/jpeg:https://www.scandinaviahouse.org/wp-content/uploads/2024/03/Hernmark_WEB-scaled.jpg
END:VEVENT
END:VCALENDAR