BEGIN:VCALENDAR
VERSION:2.0
PRODID:-//Scandinavia House - ECPv6.15.3//NONSGML v1.0//EN
CALSCALE:GREGORIAN
METHOD:PUBLISH
X-WR-CALNAME:Scandinavia House
X-ORIGINAL-URL:https://www.scandinaviahouse.org
X-WR-CALDESC:Events for Scandinavia House
REFRESH-INTERVAL;VALUE=DURATION:PT1H
X-Robots-Tag:noindex
X-PUBLISHED-TTL:PT1H
BEGIN:VTIMEZONE
TZID:America/New_York
BEGIN:DAYLIGHT
TZOFFSETFROM:-0500
TZOFFSETTO:-0400
TZNAME:EDT
DTSTART:20240310T070000
END:DAYLIGHT
BEGIN:STANDARD
TZOFFSETFROM:-0400
TZOFFSETTO:-0500
TZNAME:EST
DTSTART:20241103T060000
END:STANDARD
END:VTIMEZONE
BEGIN:VEVENT
DTSTART;TZID=America/New_York:20240525T110000
DTEND;TZID=America/New_York:20240525T160000
DTSTAMP:20260422T145443
CREATED:20240523T181037Z
LAST-MODIFIED:20240523T181037Z
UID:10002473-1716634800-1716652800@www.scandinaviahouse.org
SUMMARY:HOLIDAY EARLY CLOSURE | BJÖRK CAFE & BISTRO
DESCRIPTION:Björk Café and Bistro will be open for brunch only on Saturday\, May 25 from 11 AM – 4 PM. It will otherwise be closed on Sunday\, May 26 & Monday\, May 27 for Memorial Day Weekend. Make Saturday reservations here. \nThe Cafe will return with normal hours after the holiday. \nHappy Memorial Day Weekend! \nImage by Kevin Graham from Pixabay
URL:https://www.scandinaviahouse.org/event/holiday-early-closure-bjork-cafe-bistro/
LOCATION:Björk Cafe & Bistro at Scandinavia House\, 58 Park Ave\, New York\, NY\, 10016\, United States
ATTACH;FMTTYPE=image/jpeg:https://www.scandinaviahouse.org/wp-content/uploads/2024/05/remembrance-day-4604155_photo-by-Kevin-Graham-scaled.jpg
END:VEVENT
END:VCALENDAR