BEGIN:VCALENDAR
VERSION:2.0
PRODID:-//Scandinavia House - ECPv6.15.3//NONSGML v1.0//EN
CALSCALE:GREGORIAN
METHOD:PUBLISH
X-ORIGINAL-URL:https://www.scandinaviahouse.org
X-WR-CALDESC:Events for Scandinavia House
REFRESH-INTERVAL;VALUE=DURATION:PT1H
X-Robots-Tag:noindex
X-PUBLISHED-TTL:PT1H
BEGIN:VTIMEZONE
TZID:America/New_York
BEGIN:DAYLIGHT
TZOFFSETFROM:-0500
TZOFFSETTO:-0400
TZNAME:EDT
DTSTART:20240310T070000
END:DAYLIGHT
BEGIN:STANDARD
TZOFFSETFROM:-0400
TZOFFSETTO:-0500
TZNAME:EST
DTSTART:20241103T060000
END:STANDARD
END:VTIMEZONE
BEGIN:VEVENT
DTSTART;TZID=America/New_York:20240613T180000
DTEND;TZID=America/New_York:20240613T200000
DTSTAMP:20260423T021731
CREATED:20240503T201717Z
LAST-MODIFIED:20240514T204642Z
UID:10003260-1718301600-1718308800@www.scandinaviahouse.org
SUMMARY:FOG SWEPT MANHATTAN — ADULT ART WORKSHOP WITH MELKORKA HELGADOTTIR
DESCRIPTION:Join us at Scandinavia House for an adult art workshop and tour of our current exhibition\, Fog Swept Cargo: Art from the Faroe Islands. Inspired by the work of artist Jóhan Martin Christiansen\, workshop participants will create a watercolor painting. Guided by teaching artist Korka\, participants will apply watercolors to watercolor paper to make an abstract triptych in a relaxed atmosphere. All materials are provided. \nPurchase Tickets
URL:https://www.scandinaviahouse.org/event/fog-swept-manhattan-adult-art-workshop-with-melkorka-helgadottir_johan_martin_christiansen/
LOCATION:Scandinavia House\, 58 Park Avenue\, New York\, NY\, 10016\, United States
ATTACH;FMTTYPE=image/png:https://www.scandinaviahouse.org/wp-content/uploads/2024/05/Johan-Martin-Christiansen.png
END:VEVENT
END:VCALENDAR