BEGIN:VCALENDAR
VERSION:2.0
PRODID:-//Scandinavia House - ECPv6.15.3//NONSGML v1.0//EN
CALSCALE:GREGORIAN
METHOD:PUBLISH
X-ORIGINAL-URL:https://www.scandinaviahouse.org
X-WR-CALDESC:Events for Scandinavia House
REFRESH-INTERVAL;VALUE=DURATION:PT1H
X-Robots-Tag:noindex
X-PUBLISHED-TTL:PT1H
BEGIN:VTIMEZONE
TZID:America/New_York
BEGIN:DAYLIGHT
TZOFFSETFROM:-0500
TZOFFSETTO:-0400
TZNAME:EDT
DTSTART:20240310T070000
END:DAYLIGHT
BEGIN:STANDARD
TZOFFSETFROM:-0400
TZOFFSETTO:-0500
TZNAME:EST
DTSTART:20241103T060000
END:STANDARD
END:VTIMEZONE
BEGIN:VEVENT
DTSTART;TZID=America/New_York:20240620T180000
DTEND;TZID=America/New_York:20240620T183500
DTSTAMP:20260423T041023
CREATED:20240507T213831Z
LAST-MODIFIED:20240611T202344Z
UID:10003267-1718906400-1718908500@www.scandinaviahouse.org
SUMMARY:GALLERY TOURS: FOG SWEPT CARGO
DESCRIPTION:*Please note that the exhibition tour on June 12\, 2024 has been canceled.*\nOn view from April 13\, 2024 to July 6\, 2024 at Scandinavia House\, Fog Swept Cargo features the striking diversity of contemporary art from the Faroe Islands. In this guided tour by Emily Stoddart\, ASF’s Manager of Exhibitions & Community Programs\, learn about the artists in this exhibition and their works. \nThese free\, 35-minute public tours meet in the Gallery elevator lobby. Gallery tours are subject to change; please check with the Scandinavia House front desk or email info@amscan.org. \nRegister
URL:https://www.scandinaviahouse.org/event/gallery-tours-fog-swept-cargo/2024-06-20/
LOCATION:Scandinavia House\, 58 Park Avenue\, New York\, NY\, 10016\, United States
ATTACH;FMTTYPE=image/jpeg:https://www.scandinaviahouse.org/wp-content/uploads/2024/04/Fog-Swept-1-scaled.jpg
END:VEVENT
BEGIN:VEVENT
DTSTART;TZID=America/New_York:20240620T190000
DTEND;TZID=America/New_York:20240620T203000
DTSTAMP:20260423T041023
CREATED:20240522T201541Z
LAST-MODIFIED:20240522T201914Z
UID:10002471-1718910000-1718915400@www.scandinaviahouse.org
SUMMARY:ART FROM THE FOG SWEPT ISLANDS | WITH DAGMAR MALENA WINTHER
DESCRIPTION:Join us June 20 for a lecture by Dagmar Malena Winther\, Acting Director of The National Gallery of the Faroe Islands (Listasavn Føroya)! Presented in Fog Swept Islands: Faroe Islands Culture Days alongside the exhibition Fog Swept Cargo\, Winther will discuss the Faroese cultural identity within the contemporary arts landscape. \nThe Faroe Islands – 18 islands in the North Atlantic — are a grain of sand to America’s far-ranging lands and diversity. What does art look like in this small place? While Faroese artists only first received formal education 100 years ago\, today many artists live and practice on the Islands. Artworks can be found in every home and subsea tunnel\, inspired by local life\, culture\, and the forces of nature. Today’s vibrant Faroese contemporary scene holds a wide variety of styles\, expressions and connections to the international artworld. \nJoin us this evening for a fascinating art journey that introduces distinctive works unlike those elsewhere in the world. Winther will also discuss Faroese artistic connections and influences with other countries\, including the U.S. She will also share perspectives on its “national” art scene and humorous or critical angles on life in the North Atlantic. \nRegister
URL:https://www.scandinaviahouse.org/event/art-from-the-fog-swept-islands-with-dagmar-malena-winther/
LOCATION:Scandinavia House\, 58 Park Avenue\, New York\, NY\, 10016\, United States
ATTACH;FMTTYPE=image/jpeg:https://www.scandinaviahouse.org/wp-content/uploads/2024/05/Listasavn-Foroyaphoto-Ingi-Joensen_Web_Logo-scaled.jpg
END:VEVENT
END:VCALENDAR