BEGIN:VCALENDAR
VERSION:2.0
PRODID:-//Scandinavia House - ECPv6.15.3//NONSGML v1.0//EN
CALSCALE:GREGORIAN
METHOD:PUBLISH
X-WR-CALNAME:Scandinavia House
X-ORIGINAL-URL:https://www.scandinaviahouse.org
X-WR-CALDESC:Events for Scandinavia House
REFRESH-INTERVAL;VALUE=DURATION:PT1H
X-Robots-Tag:noindex
X-PUBLISHED-TTL:PT1H
BEGIN:VTIMEZONE
TZID:America/New_York
BEGIN:DAYLIGHT
TZOFFSETFROM:-0500
TZOFFSETTO:-0400
TZNAME:EDT
DTSTART:20240310T070000
END:DAYLIGHT
BEGIN:STANDARD
TZOFFSETFROM:-0400
TZOFFSETTO:-0500
TZNAME:EST
DTSTART:20241103T060000
END:STANDARD
END:VTIMEZONE
BEGIN:VEVENT
DTSTART;TZID=America/New_York:20241014T190000
DTEND;TZID=America/New_York:20241014T210000
DTSTAMP:20260424T055452
CREATED:20240926T221516Z
LAST-MODIFIED:20240926T222006Z
UID:10002569-1728932400-1728939600@www.scandinaviahouse.org
SUMMARY:NO OTHER LAND
DESCRIPTION:On October 14\, see No Other Land\, a Norwegian-produced\, vérité-style documentary by a Palestinian-Israeli collective of four directors. *A film talk and Q&A follows the screening with co-directors Basel Adra\, Yuval Abraham\, and Rachel Szor.* \nBasel Adra\, a Palestinian activist from Masafer Yatta\, has been fighting his community’s mass expulsion by Israeli occupation since childhood. Basel documents the gradual erasure of Masafer Yatta as soldiers destroy the homes of families — the largest single act of forced transfer carried out in the occupied West Bank. After he crosses paths with Yuval Abraham\, a young Israeli journalist\, the two spend half a decade fighting the expulsion. Their complex bond is haunted by the extreme inequality between them: Basel lives under a brutal military occupation\, and Yuval is unrestricted and free. Created during the darkest\, most terrifying times in the region\, No Other Land was filmed by Basel and Yuval alongside two fellow activists — Isareli Rachel Szor and Palestinian Hamdan Ballal. The film is an act of creative resistance to Apartheid and a search for a path towards equality and justice. (Norway & Palestine\, 2024). \nPurchase Tickets
URL:https://www.scandinaviahouse.org/event/no-other-land/
LOCATION:Scandinavia House\, 58 Park Avenue\, New York\, NY\, 10016\, United States
CATEGORIES:Films
ATTACH;FMTTYPE=image/jpeg:https://www.scandinaviahouse.org/wp-content/uploads/2024/09/NoOtherLand_Still_03_WEB-scaled.jpg
END:VEVENT
END:VCALENDAR