BEGIN:VCALENDAR
VERSION:2.0
PRODID:-//Scandinavia House - ECPv6.15.3//NONSGML v1.0//EN
CALSCALE:GREGORIAN
METHOD:PUBLISH
X-ORIGINAL-URL:https://www.scandinaviahouse.org
X-WR-CALDESC:Events for Scandinavia House
REFRESH-INTERVAL;VALUE=DURATION:PT1H
X-Robots-Tag:noindex
X-PUBLISHED-TTL:PT1H
BEGIN:VTIMEZONE
TZID:America/New_York
BEGIN:DAYLIGHT
TZOFFSETFROM:-0500
TZOFFSETTO:-0400
TZNAME:EDT
DTSTART:20240310T070000
END:DAYLIGHT
BEGIN:STANDARD
TZOFFSETFROM:-0400
TZOFFSETTO:-0500
TZNAME:EST
DTSTART:20241103T060000
END:STANDARD
END:VTIMEZONE
BEGIN:VEVENT
DTSTART;TZID=America/New_York:20241024T190000
DTEND;TZID=America/New_York:20241024T210000
DTSTAMP:20260421T195051
CREATED:20240820T185626Z
LAST-MODIFIED:20240827T225409Z
UID:10002536-1729796400-1729803600@www.scandinaviahouse.org
SUMMARY:GEIRÞRÚÐUR ANNA GUÐMUNDSDÓTTIR | WORKS BY SIBELIUS & JÓN NORDAL
DESCRIPTION:Join us for a performance by Icelandic cellist and ASF Fellow Geirþrúður Anna Guðmundsdóttir! Accompanied by pianist Antoine Préat\, she’ll perform a cello recital featuring two Scandinavian works from Jean Sibelius and Icelandic composer Jón Nordal. The program will include Ludwig van Beethoven’s 7 Variations on ‘Bei Männern\, welche Liebe fühlen\,’ WoO 46; Jean Sibelius’s 4 Pieces\, Op. 78; Claude Debussy’s Cello Sonata; Jón Nordal’s ‘Pictures on Panel Wall’; and Johannes Brahms’s Cello Sonata No. 1 in E minor\, Op. 38. \nRegister
URL:https://www.scandinaviahouse.org/event/geirthrudur-anna-gudmundsdottir-performance-with-antoine-preat/
LOCATION:Scandinavia House\, 58 Park Avenue\, New York\, NY\, 10016\, United States
ATTACH;FMTTYPE=image/jpeg:https://www.scandinaviahouse.org/wp-content/uploads/2024/08/Duo-Gudmonsdotir_Web-scaled.jpg
END:VEVENT
END:VCALENDAR