BEGIN:VCALENDAR
VERSION:2.0
PRODID:-//Scandinavia House - ECPv6.15.3//NONSGML v1.0//EN
CALSCALE:GREGORIAN
METHOD:PUBLISH
X-ORIGINAL-URL:https://www.scandinaviahouse.org
X-WR-CALDESC:Events for Scandinavia House
REFRESH-INTERVAL;VALUE=DURATION:PT1H
X-Robots-Tag:noindex
X-PUBLISHED-TTL:PT1H
BEGIN:VTIMEZONE
TZID:America/New_York
BEGIN:DAYLIGHT
TZOFFSETFROM:-0500
TZOFFSETTO:-0400
TZNAME:EDT
DTSTART:20240310T070000
END:DAYLIGHT
BEGIN:STANDARD
TZOFFSETFROM:-0400
TZOFFSETTO:-0500
TZNAME:EST
DTSTART:20241103T060000
END:STANDARD
END:VTIMEZONE
BEGIN:VEVENT
DTSTART;TZID=America/New_York:20241207T130000
DTEND;TZID=America/New_York:20241207T143000
DTSTAMP:20260420T224754
CREATED:20241112T200256Z
LAST-MODIFIED:20241113T201620Z
UID:10003417-1733576400-1733581800@www.scandinaviahouse.org
SUMMARY:I TALK ABOUT IT ALL THE TIME | BOOK TALK
DESCRIPTION:Join us on December 7 for a book talk on Camara Lundestad Joof’s I Talk about It All the Time\, out now from University of Wisconsin Press! Translator Olivia Noble Gunn (Assistant Professor and Sverre Arestad Chair in Norwegian Studies\, UW Seattle) and moderator Monica L. Miller (Professor of Africana Studies and Chair of the Africana Studies Department at Barnard College) will be present in-person for a virtual talk with Joof\, to discuss the Norwegian performance artist and playwright’s biting\, lyrical memoir about her experiences as a queer Black Norwegian woman. This program is co-presented with the University of Washington – Scandinavian Department.  \nWhat does it mean to be Norwegian? Born in Bodø to Norwegian and Gambian parents\, Joof experiences microaggressions that belie the myth of a colorblind contemporary Scandinavia. She wrestles with the fickle palimpsest of memory\, demanding communion with her readers even as she recognizes her own exhaustion in the face of constantly being asked to educate others. \n“I regularly decide to quit talking to white people about racism\,” writes Joof. Such discussions often feel unproductive\, the occasional spark of hope coming at enormous personal cost. But not talking about it is impossible\, a betrayal of self. The book is a self-examination as well as societal indictment. It is an open challenge to readers\, to hear her as she talks about it\, all the time. \nThe speakers will discuss the story behind the writing of the memoir\, and how Joof developed its themes in her recent playscripts for Norway’s National Theater. \n“[Joof’s] collection of fragmented anecdotes is radical\, candid\, and unapologetic\, documenting with introspection the experience of being Black in a white society in which macro- and microaggressions are ubiquitous. . . . Sharp\, complex\, and lingering\, the memoir I Talk about It All the Time places its masterful compilation of devastating truths in the context of Scandinavian racism” (Foreword Reviews). \n“This gemlike book relentlessly dramatizes the particularities of Norwegian racism. The power of Joof’s observations increases in proportion to their understated precision. Her gentle voice is wholly deceptive. She slices through the delusions\, denials\, and defensiveness that distinguish the unthinkable racism of Scandinavian society” (Paul Gilroy\, English sociologist and cultural studies scholar). \nThanks to University of Washington Press & NORLA. \nRegister
URL:https://www.scandinaviahouse.org/event/i-talk-about-it-all-the-time-book-talk/
LOCATION:Scandinavia House\, 58 Park Avenue\, New York\, NY\, 10016\, United States
ATTACH;FMTTYPE=image/jpeg:https://www.scandinaviahouse.org/wp-content/uploads/2024/10/I-Talk-About-It-All-the-Time_WEB-scaled.jpg
END:VEVENT
BEGIN:VEVENT
DTSTART;TZID=America/New_York:20241207T160000
DTEND;TZID=America/New_York:20241207T173000
DTSTAMP:20260420T224755
CREATED:20241121T205117Z
LAST-MODIFIED:20241121T205117Z
UID:10003419-1733587200-1733592600@www.scandinaviahouse.org
SUMMARY:DECK 5B
DESCRIPTION:On December 7\, see a screening of the short Swedish film Deck 5B (Däck 5B)\, a candidate for Best Live Action Short Film at the 97th Academy Awards! Director Malin Ingrid Johansson will be present for a film talk following the screening. \n\nRecently divorced Mia (Alma Pöysti – Fallen Leaves) goes on the first holiday with her new love. Torn between parental responsibility and the longing to simply let go\, Mia will realize she has put herself and everyone else in an impossible situation. The 2024 Winner of Best International Short FIlm at the Toronto International Film Festival\, Deck 5B is a film about longing\, passion\, broken promises and dog hair. It is a film about the price we pay for freedom. You could also say it’s a ghost story. \nRegister
URL:https://www.scandinaviahouse.org/event/deck-5b/
LOCATION:Scandinavia House\, 58 Park Avenue\, New York\, NY\, 10016\, United States
ATTACH;FMTTYPE=image/png:https://www.scandinaviahouse.org/wp-content/uploads/2024/11/Dack5b_16x9_FotoStellanRunge_3_WEB-1.png
END:VEVENT
BEGIN:VEVENT
DTSTART;TZID=America/New_York:20241207T180000
DTEND;TZID=America/New_York:20241207T193000
DTSTAMP:20260420T224755
CREATED:20241107T214718Z
LAST-MODIFIED:20241125T204422Z
UID:10003414-1733594400-1733599800@www.scandinaviahouse.org
SUMMARY:THE LAST JOURNEY
DESCRIPTION:On December 7\, see The Last Journey (Sweden\, 2024)\, Sweden’s selection for Best International Feature at the 97th Academy Awards! Director Filip Hammar will be present for a film talk and Q&A following the screening. \nWhen Lars Hammar retired after 40 years as a French teacher in the small town of Köping\, he thought that he and his wife Tiina would enter a new phase of travels\, wine\, and experiences they’d never had time for. But as for many others\, retirement didn’t turn out how they imagined — and over the years Lars fell into a depression\, seemingly stuck at home in his Belgian leather armchair\, much to the despair of the energetic Tiina. \nIn a desperate attempt to help his father regain his zest for life\, filmmaker Filip Hammar took his dad on a surprise road trip to France\, retracing the journey they made every summer during Filip’s childhood. With the help of his best friend and fellow filmmaker Fredrik Wikingsson\, Filip aimed to invigorate his dad by reliving some of the best moments of his life. But over the course of their travels and film\, the metamorphosis Filip hoped for becomes another — a recognition of the inevitable\, and the process of aging. A film about life\, death\, friendship and a portrait of a humble man and his enduring legacy\, The Last Journey (Den sista resan) has been Sweden’s highest-grossing documentary and acclaimed as “life-affirming…humorous and heartbreaking” (Variety). \nPurchase Tickets \nSix-Film Package
URL:https://www.scandinaviahouse.org/event/the-last-journey/
LOCATION:Scandinavia House\, 58 Park Avenue\, New York\, NY\, 10016\, United States
CATEGORIES:Films
ATTACH;FMTTYPE=image/png:https://www.scandinaviahouse.org/wp-content/uploads/2024/11/10541_ALLE-GAR-RUNDT-OG-FORELSKER-SIG_still_04_swe_-2-1_WEB-1.png
END:VEVENT
END:VCALENDAR