BEGIN:VCALENDAR
VERSION:2.0
PRODID:-//Scandinavia House - ECPv6.15.3//NONSGML v1.0//EN
CALSCALE:GREGORIAN
METHOD:PUBLISH
X-WR-CALNAME:Scandinavia House
X-ORIGINAL-URL:https://www.scandinaviahouse.org
X-WR-CALDESC:Events for Scandinavia House
REFRESH-INTERVAL;VALUE=DURATION:PT1H
X-Robots-Tag:noindex
X-PUBLISHED-TTL:PT1H
BEGIN:VTIMEZONE
TZID:America/New_York
BEGIN:DAYLIGHT
TZOFFSETFROM:-0500
TZOFFSETTO:-0400
TZNAME:EDT
DTSTART:20250309T070000
END:DAYLIGHT
BEGIN:STANDARD
TZOFFSETFROM:-0400
TZOFFSETTO:-0500
TZNAME:EST
DTSTART:20251102T060000
END:STANDARD
END:VTIMEZONE
BEGIN:VEVENT
DTSTART;TZID=America/New_York:20250109T190000
DTEND;TZID=America/New_York:20250109T203000
DTSTAMP:20260420T145919
CREATED:20241119T205429Z
LAST-MODIFIED:20250502T174752Z
UID:10002591-1736449200-1736454600@www.scandinaviahouse.org
SUMMARY:A WOMAN LOOKS OVER HER SHOULDER
DESCRIPTION:On January 9\, join us for a book talk with Icelandic author Brynja Hjálmsdóttir and ASF Translation Prizewinner Rachel Britton for a discussion on A Woman Looks Over Her Shoulder\, out now from Circumference Press! \nIn A Woman Looks Over Her Shoulder\, one woman lives in a glass ball that is being shaken by someone else. This book of poems\, however\, is always shaking itself up\, leaping between the extreme and the daily\, the gross and the delicious\, between being scared and being scary. These surreal\, visceral\, and somehow polite poems explore what it can be like to be a woman and to slither through and away from threat to find voice and form and power\, no matter how strange. The apocalyptic utopia we arrive at in this book—The Whore’s City—is a perfect model to move to in one’s head: feminist\, funny\, odd\, and a little disgusting\, all towards transformation. \n“A sly\, refreshing\, and vivid book” (Emily Hunt)\n“A strange and compelling book which relentlessly pokes at and pokes fun at the I/thou dynamic of Women and Men in our culture” (Matthew Rohrer) \nRegister
URL:https://www.scandinaviahouse.org/event/a-woman-looks-over-her-shoulder/
LOCATION:Scandinavia House\, 58 Park Avenue\, New York\, NY\, 10016\, United States
ATTACH;FMTTYPE=image/jpeg:https://www.scandinaviahouse.org/wp-content/uploads/2024/11/Hjalmsdottir-Web-scaled.jpg
END:VEVENT
BEGIN:VEVENT
DTSTART;TZID=America/New_York:20250109T190000
DTEND;TZID=America/New_York:20250109T210000
DTSTAMP:20260420T145919
CREATED:20241230T175217Z
LAST-MODIFIED:20250108T214204Z
UID:10003448-1736449200-1736456400@www.scandinaviahouse.org
SUMMARY:ARMAND
DESCRIPTION:On January 9\, see a special screening of Armand (Norway\, 2024)\, Norway’s official selection for Best International Feature Film at the 97th Academy Awards! \nElisabeth (Renate Reinsve) arrives at a parent-teacher meeting called on short notice. Her six-year-old son Armand has been accused of something — but that “something” seems unclear. As the principal\, the school nurse\, and another pair of parents become involved\, it’s revealed that a boundary has been crossed between Armand and his best friend. And as they disagree on how to handle it\, the school begins to lose control. A powerful and thought-provoking drama about the complexities of alleged sexual harassment between children\, Armand has been acclaimed as a “vivid\, creepy\, and uncomfortably funny debut” (IndieWire). \n“Resonant and haunting — and should spark plenty of post-screening discussions” (Jonathan Romney\, Screen Daily) \n\nPurchase Tickets
URL:https://www.scandinaviahouse.org/event/armand/
LOCATION:Scandinavia House\, 58 Park Avenue\, New York\, NY\, 10016\, United States
CATEGORIES:Films
ATTACH;FMTTYPE=image/jpeg:https://www.scandinaviahouse.org/wp-content/uploads/2024/11/OIP_WEB-scaled.jpg
END:VEVENT
END:VCALENDAR