BEGIN:VCALENDAR
VERSION:2.0
PRODID:-//Scandinavia House - ECPv6.15.3//NONSGML v1.0//EN
CALSCALE:GREGORIAN
METHOD:PUBLISH
X-WR-CALNAME:Scandinavia House
X-ORIGINAL-URL:https://www.scandinaviahouse.org
X-WR-CALDESC:Events for Scandinavia House
REFRESH-INTERVAL;VALUE=DURATION:PT1H
X-Robots-Tag:noindex
X-PUBLISHED-TTL:PT1H
BEGIN:VTIMEZONE
TZID:America/New_York
BEGIN:DAYLIGHT
TZOFFSETFROM:-0500
TZOFFSETTO:-0400
TZNAME:EDT
DTSTART:20250309T070000
END:DAYLIGHT
BEGIN:STANDARD
TZOFFSETFROM:-0400
TZOFFSETTO:-0500
TZNAME:EST
DTSTART:20251102T060000
END:STANDARD
END:VTIMEZONE
BEGIN:VEVENT
DTSTART;TZID=America/New_York:20250110T150000
DTEND;TZID=America/New_York:20250110T180000
DTSTAMP:20260424T111257
CREATED:20241213T174355Z
LAST-MODIFIED:20241223T162054Z
UID:10003443-1736521200-1736532000@www.scandinaviahouse.org
SUMMARY:NORDIC NOW! NEW NORDIC FOLK
DESCRIPTION:On January 10-11\, join us for NORDIC NOW!\, a two-day program of new Nordic folk music! The program will include three acts — FRÄNDER\, Teho. and Päivi Hirvonen Trio — whose music pushes the boundaries of the Nordic folk genre\, incorporating modern twists and elements of world music. All acts will perform on both days from 3-6 PM. \nFRÄNDER blends Swedish and Estonian folk traditions with a modern twist and a “heavy folk” style\, performing evocative melodies and unique sounds on traditional acoustic instruments. Their latest album\, FRÄNDER II\, has boundaries of folk music and wowed audiences worldwide\, from Scandinavia to Japan to Canada to the U.S. \nFinnish power-fiddle duo Teho. combines Nordic fiddling styles\, jazzy influences and composed\, contemporary folk music with a touch of Finnish madness. Artists Tero Hyväluoma and Esko Järvelä have played together for years in various different projects\, including in the well-known Finnish folk band Frigg. Their debut album was nominated for an Emma Award (a Finnish Grammy). \nPäivi Hirvonen is one of Finland’s emerging international folk music artists and a pioneer in simultaneous violin playing and singing. The themes of her songs range from childlessness and polyamory\, to sorrow and love\, blending diverse roots of folk music and pop culture influences with a touch of gothic mystique. Her live ensemble features Tero Pajunen and Mirva Ormin\, and her third album is set to be released this spring. \nPurchase Tickets
URL:https://www.scandinaviahouse.org/event/nordic-now-new-nordic-folk/2025-01-10/
LOCATION:NY
ATTACH;FMTTYPE=image/png:https://www.scandinaviahouse.org/wp-content/uploads/2024/12/New-Nordic-Folk_WEB_NEW.png
END:VEVENT
END:VCALENDAR