BEGIN:VCALENDAR
VERSION:2.0
PRODID:-//Scandinavia House - ECPv6.15.3//NONSGML v1.0//EN
CALSCALE:GREGORIAN
METHOD:PUBLISH
X-ORIGINAL-URL:https://www.scandinaviahouse.org
X-WR-CALDESC:Events for Scandinavia House
REFRESH-INTERVAL;VALUE=DURATION:PT1H
X-Robots-Tag:noindex
X-PUBLISHED-TTL:PT1H
BEGIN:VTIMEZONE
TZID:America/New_York
BEGIN:DAYLIGHT
TZOFFSETFROM:-0500
TZOFFSETTO:-0400
TZNAME:EDT
DTSTART:20250309T070000
END:DAYLIGHT
BEGIN:STANDARD
TZOFFSETFROM:-0400
TZOFFSETTO:-0500
TZNAME:EST
DTSTART:20251102T060000
END:STANDARD
END:VTIMEZONE
BEGIN:VEVENT
DTSTART;TZID=America/New_York:20250305T173000
DTEND;TZID=America/New_York:20250305T180500
DTSTAMP:20260422T013747
CREATED:20241204T193711Z
LAST-MODIFIED:20241204T202233Z
UID:10003431-1741195800-1741197900@www.scandinaviahouse.org
SUMMARY:GALLERY TOUR | NORDIC UTOPIA?
DESCRIPTION:On view from November 26\, 2024 to March 9\, 2025 at Scandinavia House\, Nordic Utopia? African Americans in the 20th Century looks at the significance of Denmark\, Finland\, Norway\, and Sweden as destinations for African American cultural figures including Ronald Burns\, Doug Crutchfield\, Herb Gentry\, Dexter Gordon\, William Henry Johnson\, Howard Smith and Walter Williams through a range of artifacts\, artworks (music\, paintings\, drawings\, sculpture\, ceramics\, textiles)\, and documentary evidence (photography\, film\, and journalistic writing). In this guided tour by Emily Stoddart\, ASF’s Manager of Exhibitions & Community Programs\, learn about the artists in this exhibition and their works. \nThese free\, 35-minute public tours meet in the Gallery elevator lobby. Gallery tours are subject to change; please check with the Scandinavia House front desk or email info@amscan.org. \nRegister
URL:https://www.scandinaviahouse.org/event/gallery-tour-nordic-utopia/2025-03-05/
LOCATION:Scandinavia House\, 58 Park Avenue\, New York\, NY\, 10016\, United States
ATTACH;FMTTYPE=image/jpeg:https://www.scandinaviahouse.org/wp-content/uploads/2024/12/17.-Nordic-Utopia-at-NNM_WEB.jpg
END:VEVENT
BEGIN:VEVENT
DTSTART;TZID=America/New_York:20250305T190000
DTEND;TZID=America/New_York:20250305T210000
DTSTAMP:20260422T013747
CREATED:20250204T211448Z
LAST-MODIFIED:20250204T211532Z
UID:10004604-1741201200-1741208400@www.scandinaviahouse.org
SUMMARY:THE DAY ICELAND STOOD STILL
DESCRIPTION:Celebrate International Women’s Day with a March 5 screening of The Day Iceland Stood Still\, with a film talk by director Pamela Hogan! \nWhen 90 percent of the women of Iceland walked off the job and out of their homes one fall morning in 1975 refusing to work\, cook\, or take care of the children\, they brought their country to a standstill and catapulted Iceland to the “best place in the world to be a woman.” Told for the first time by the women themselves\, and laced with playful animation\, The Day Iceland Stood Still  is subversive and unexpectedly funny. “We loved our male chauvinist pigs\,” recalls one of the activists\, “We just wanted to change them a little!” \nFilmed in a collaboration between U.S. director Hogan\, who campaigned as a high school student in the 1970s with her activist mother to pass the Equal Rights Amendment\, and Icelandic producer Hrafnhildur Gunnarsdóttir\, who at the age of seven accompanied her mother to the 1975 strike\, the film features appearances by celebrities such as former Icelandic president Vigdís Finnbogadóttir\, the world’s first democratically elected female head of state\, as well as music by Björk. Released in the lead-up to the strike’s 50th anniversary in 2025\, the film’s message about the collective power of women to transform their society inspires viewers to reimagine the impossible. \nPurchase Tickets
URL:https://www.scandinaviahouse.org/event/the-day-iceland-stood-still/
LOCATION:Scandinavia House\, 58 Park Avenue\, New York\, NY\, 10016\, United States
ATTACH;FMTTYPE=image/jpeg:https://www.scandinaviahouse.org/wp-content/uploads/2025/01/THE-DAY-ICELAND-STOOD-STILL-Presskit_Grou_Web-scaled.jpg
END:VEVENT
END:VCALENDAR