BEGIN:VCALENDAR
VERSION:2.0
PRODID:-//Scandinavia House - ECPv6.15.3//NONSGML v1.0//EN
CALSCALE:GREGORIAN
METHOD:PUBLISH
X-ORIGINAL-URL:https://www.scandinaviahouse.org
X-WR-CALDESC:Events for Scandinavia House
REFRESH-INTERVAL;VALUE=DURATION:PT1H
X-Robots-Tag:noindex
X-PUBLISHED-TTL:PT1H
BEGIN:VTIMEZONE
TZID:America/New_York
BEGIN:DAYLIGHT
TZOFFSETFROM:-0500
TZOFFSETTO:-0400
TZNAME:EDT
DTSTART:20250309T070000
END:DAYLIGHT
BEGIN:STANDARD
TZOFFSETFROM:-0400
TZOFFSETTO:-0500
TZNAME:EST
DTSTART:20251102T060000
END:STANDARD
END:VTIMEZONE
BEGIN:VEVENT
DTSTART;TZID=America/New_York:20250408T180000
DTEND;TZID=America/New_York:20250408T190000
DTSTAMP:20260423T030747
CREATED:20250228T205744Z
LAST-MODIFIED:20250228T205744Z
UID:10004728-1744135200-1744138800@www.scandinaviahouse.org
SUMMARY:SUN CITY BY TOVE JANSSON | NORDIC BOOK CLUB ONLINE
DESCRIPTION:Read and discuss literature with our Nordic Book Club Online! On April 8\, we’ll be discussing Sun City\, an off-beat novel about a retirement community in sunny Florida\, from Moomins creator and Finnish literary icon Tove Jansson. \nIn The Summer Book and The True Deceiver\, as in her many short stories\, Tove Jansson was drawn again and again to the everyday life of the aged. Not as a group apart but as full-blooded people with as many jealousies\, urges\, and joys as any other group. It’s no wonder that in her travels through America in the 1970s she became fascinated with what was then a particularly American institution\, the retirement home\, where older people live in their particular tightly knit worlds. \nIn Sun City\, Jansson depicts these worlds in a group portrait of residents and employees at the Berkeley Arms in St. Petersburg\, Florida. As the narrative moves from character to character\, so the characters move through an America riven by cultural divides\, facing the death of its dream. The Berkeley Arms’s newest resident finds a place among the rocking chairs and endless chatter on the veranda\, while other residents long for past glories\, mourning their losses and killing time. Meanwhile one of their attendants\, Bounty Joe\, is eagerly awaiting a letter\, or even just a postcard\, alerting him to the imminent return of Jesus Christ. “Nobody’s normal anymore\,” as the bartender says\, “not the old geezers and not the newborn kids.” \nRegister
URL:https://www.scandinaviahouse.org/event/sun-city-by-tove-jansson-nordic-book-club-online/
LOCATION:NY
ATTACH;FMTTYPE=image/jpeg:https://www.scandinaviahouse.org/wp-content/uploads/2025/02/Sun-City-WEB-scaled.jpg
END:VEVENT
END:VCALENDAR