BEGIN:VCALENDAR
VERSION:2.0
PRODID:-//Scandinavia House - ECPv6.15.3//NONSGML v1.0//EN
CALSCALE:GREGORIAN
METHOD:PUBLISH
X-ORIGINAL-URL:https://www.scandinaviahouse.org
X-WR-CALDESC:Events for Scandinavia House
REFRESH-INTERVAL;VALUE=DURATION:PT1H
X-Robots-Tag:noindex
X-PUBLISHED-TTL:PT1H
BEGIN:VTIMEZONE
TZID:America/New_York
BEGIN:DAYLIGHT
TZOFFSETFROM:-0500
TZOFFSETTO:-0400
TZNAME:EDT
DTSTART:20250309T070000
END:DAYLIGHT
BEGIN:STANDARD
TZOFFSETFROM:-0400
TZOFFSETTO:-0500
TZNAME:EST
DTSTART:20251102T060000
END:STANDARD
END:VTIMEZONE
BEGIN:VEVENT
DTSTART;TZID=America/New_York:20250420T110000
DTEND;TZID=America/New_York:20250420T150000
DTSTAMP:20260421T211551
CREATED:20250408T183427Z
LAST-MODIFIED:20250410T170843Z
UID:10004789-1745146800-1745161200@www.scandinaviahouse.org
SUMMARY:EASTER PRIX-FIXE AT BJÖRK CAFE & BISTRO
DESCRIPTION:Celebrate Easter Nordic-style at Björk Café & Bistro! Prix-fixe specials throughout Easter weekend will be served on Friday\, April 18 (4-8 PM)\, Saturday\, April 19 (11-8 PM)\, & Sunday\, April 20 (11 AM-3 PM); all prix-fixe guests are invited to take apart in Easter Egg painting and receive a surprise Easter Egg. Tickets are $70 ($59.50 ASF Members). Book now to guarantee seating! \nReservations
URL:https://www.scandinaviahouse.org/event/easter-prix-fixe-at-bjork-cafe-bistro/2025-04-20/
LOCATION:Björk Cafe & Bistro at Scandinavia House\, 58 Park Ave\, New York\, NY\, 10016\, United States
ATTACH;FMTTYPE=image/jpeg:https://www.scandinaviahouse.org/wp-content/uploads/2024/03/eggs-7100211_1920_WEB-scaled.jpg
END:VEVENT
END:VCALENDAR