BEGIN:VCALENDAR
VERSION:2.0
PRODID:-//Scandinavia House - ECPv6.15.3//NONSGML v1.0//EN
CALSCALE:GREGORIAN
METHOD:PUBLISH
X-ORIGINAL-URL:https://www.scandinaviahouse.org
X-WR-CALDESC:Events for Scandinavia House
REFRESH-INTERVAL;VALUE=DURATION:PT1H
X-Robots-Tag:noindex
X-PUBLISHED-TTL:PT1H
BEGIN:VTIMEZONE
TZID:America/New_York
BEGIN:DAYLIGHT
TZOFFSETFROM:-0500
TZOFFSETTO:-0400
TZNAME:EDT
DTSTART:20250309T070000
END:DAYLIGHT
BEGIN:STANDARD
TZOFFSETFROM:-0400
TZOFFSETTO:-0500
TZNAME:EST
DTSTART:20251102T060000
END:STANDARD
END:VTIMEZONE
BEGIN:VEVENT
DTSTART;TZID=America/New_York:20250919T190000
DTEND;TZID=America/New_York:20250919T210000
DTSTAMP:20260425T145045
CREATED:20250807T185954Z
LAST-MODIFIED:20250919T194527Z
UID:10004913-1758308400-1758315600@www.scandinaviahouse.org
SUMMARY:WRITING THE WORLD FROM COPENHAGEN TO NYC
DESCRIPTION:Join us on September 19 for a conversation on “Writing the World from Copenhagen to NYC”! This program presents the work of four talented early-career writers who have been selected by faculty at Forfatterskolen\, Copenhagen\, and the Columbia University School of the Arts\, New York\, to represent the best of new writing in Danish and English: Sophia Acuña\, Christian Fobian\, Patricio Hernández Palazuelos and Krista Winther. \nIn cooperation between these two arts institutions\, the four Word for Word Exchange Writers have been engaged in a collaborative project of mutual translation. Moderated by Katrine Øgaard Jensen\, they will present excerpts from the resulting work here in a multilingual reading and discussion about international 21st-century art-making with writers on the faculty of both institutions. \nThis program is sponsored in part by Danish Arts Foundation. \nRegister
URL:https://www.scandinaviahouse.org/event/writing-the-world-from-copenhagen-to-nyc/
LOCATION:NY
ATTACH;FMTTYPE=image/jpeg:https://www.scandinaviahouse.org/wp-content/uploads/2025/08/Copenhagen-the-Circle-Bridge-two-people-night_WEB-scaled.jpg
END:VEVENT
END:VCALENDAR