BEGIN:VCALENDAR
VERSION:2.0
PRODID:-//Scandinavia House - ECPv6.15.3//NONSGML v1.0//EN
CALSCALE:GREGORIAN
METHOD:PUBLISH
X-WR-CALNAME:Scandinavia House
X-ORIGINAL-URL:https://www.scandinaviahouse.org
X-WR-CALDESC:Events for Scandinavia House
REFRESH-INTERVAL;VALUE=DURATION:PT1H
X-Robots-Tag:noindex
X-PUBLISHED-TTL:PT1H
BEGIN:VTIMEZONE
TZID:America/New_York
BEGIN:DAYLIGHT
TZOFFSETFROM:-0500
TZOFFSETTO:-0400
TZNAME:EDT
DTSTART:20250309T070000
END:DAYLIGHT
BEGIN:STANDARD
TZOFFSETFROM:-0400
TZOFFSETTO:-0500
TZNAME:EST
DTSTART:20251102T060000
END:STANDARD
END:VTIMEZONE
BEGIN:VEVENT
DTSTART;TZID=America/New_York:20250925T130000
DTEND;TZID=America/New_York:20250925T140000
DTSTAMP:20260421T064142
CREATED:20250821T202311Z
LAST-MODIFIED:20250919T205053Z
UID:10004925-1758805200-1758808800@www.scandinaviahouse.org
SUMMARY:INNSÆI | VIRTUAL TALK
DESCRIPTION:Join us on September 25 for a virtual book talk with Icelandic author Hrund Gunnsteinsdóttir on her book InnSæi. Moderated by policy researcher Tara McGuinness\, this discussion will delve into intuition through the lens of InnSæi and its unique applications in addressing our contemporary crises\, be it in the climate or the global economy. Gunnsteinsdóttir’s work is an ode to the magnificent\, complex\, largely incomprehensible but fascinating world that exists within us all– the titular InnSæi (pronounced In-Sy-Eh) – the Icelandic word for intuition that at once implies ‘the sea within us’\, ‘to see within’ and ‘to see from the inside out’. It is based on the belief that the more we navigate life aligned to our InnSæi\, the more we can open up to the beautiful\, generous world that lies outside us. \nIn the mad dash for a different\, more humane and eco-centric (rather than ego-centric) compass to navigate our ways into flourishing futures\, Gunnsteinsdóttir weaves personal stories\, diverse wisdoms\, and the arts into “a transformative perspective on intuition that is desperately needed for today’s leaders.” Drawing on a blend of ancient wisdom\, science\, philosophy and practical tools\, this book inspires readers to approach life in a more grounded\, creative and mindful way. \nRegister
URL:https://www.scandinaviahouse.org/event/innsaei/
LOCATION:Scandinavia House\, 58 Park Avenue\, New York\, NY\, 10016\, United States
ATTACH;FMTTYPE=image/jpeg:https://www.scandinaviahouse.org/wp-content/uploads/2025/08/INNSAEI-web-copy-scaled.jpg
END:VEVENT
END:VCALENDAR