BEGIN:VCALENDAR
VERSION:2.0
PRODID:-//Scandinavia House - ECPv6.15.3//NONSGML v1.0//EN
CALSCALE:GREGORIAN
METHOD:PUBLISH
X-WR-CALNAME:Scandinavia House
X-ORIGINAL-URL:https://www.scandinaviahouse.org
X-WR-CALDESC:Events for Scandinavia House
REFRESH-INTERVAL;VALUE=DURATION:PT1H
X-Robots-Tag:noindex
X-PUBLISHED-TTL:PT1H
BEGIN:VTIMEZONE
TZID:America/New_York
BEGIN:DAYLIGHT
TZOFFSETFROM:-0500
TZOFFSETTO:-0400
TZNAME:EDT
DTSTART:20250309T070000
END:DAYLIGHT
BEGIN:STANDARD
TZOFFSETFROM:-0400
TZOFFSETTO:-0500
TZNAME:EST
DTSTART:20251102T060000
END:STANDARD
END:VTIMEZONE
BEGIN:VEVENT
DTSTART;TZID=America/New_York:20251024T190000
DTEND;TZID=America/New_York:20251024T210000
DTSTAMP:20260421T051106
CREATED:20250904T165109Z
LAST-MODIFIED:20250922T153828Z
UID:10004931-1761332400-1761339600@www.scandinaviahouse.org
SUMMARY:THE DAY ICELAND STOOD STILL (50th Anniversary)
DESCRIPTION:Celebrate the 50th anniversary of the historic Women’s Strike with a October 24 screening of The Day Iceland Stood Still\, with a film talk by director Pamela Hogan! \nWhen 90 percent of the women of Iceland walked off the job and out of their homes one fall morning in 1975 refusing to work\, cook\, or take care of the children\, they brought their country to a standstill and catapulted Iceland to the “best place in the world to be a woman.” Told for the first time by the women themselves\, and laced with playful animation\, The Day Iceland Stood Still  is subversive and unexpectedly funny. “We loved our male chauvinist pigs\,” recalls one of the activists\, “We just wanted to change them a little!” \nFilmed in a collaboration between U.S. director Hogan\, who campaigned as a high school student in the 1970s with her activist mother to pass the Equal Rights Amendment\, and Icelandic producer Hrafnhildur Gunnarsdóttir\, who at the age of seven accompanied her mother to the 1975 strike\, the film features appearances by celebrities such as former Icelandic president Vigdís Finnbogadóttir\, the world’s first democratically elected female head of state\, as well as music by Björk. Released in the lead-up to the strike’s 50th anniversary in 2025\, the film’s message about the collective power of women to transform their society inspires viewers to reimagine the impossible.
URL:https://www.scandinaviahouse.org/event/the-day-iceland-stood-still-anniversary/
LOCATION:Scandinavia House\, 58 Park Avenue\, New York\, NY\, 10016\, United States
ATTACH;FMTTYPE=image/jpeg:https://www.scandinaviahouse.org/wp-content/uploads/2025/01/THE-DAY-ICELAND-STOOD-STILL-Presskit_Grou_Web-scaled.jpg
END:VEVENT
END:VCALENDAR