BEGIN:VCALENDAR
VERSION:2.0
PRODID:-//Scandinavia House - ECPv6.15.3//NONSGML v1.0//EN
CALSCALE:GREGORIAN
METHOD:PUBLISH
X-WR-CALNAME:Scandinavia House
X-ORIGINAL-URL:https://www.scandinaviahouse.org
X-WR-CALDESC:Events for Scandinavia House
REFRESH-INTERVAL;VALUE=DURATION:PT1H
X-Robots-Tag:noindex
X-PUBLISHED-TTL:PT1H
BEGIN:VTIMEZONE
TZID:America/New_York
BEGIN:DAYLIGHT
TZOFFSETFROM:-0500
TZOFFSETTO:-0400
TZNAME:EDT
DTSTART:20250309T070000
END:DAYLIGHT
BEGIN:STANDARD
TZOFFSETFROM:-0400
TZOFFSETTO:-0500
TZNAME:EST
DTSTART:20251102T060000
END:STANDARD
END:VTIMEZONE
BEGIN:VEVENT
DTSTART;TZID=America/New_York:20251127T080000
DTEND;TZID=America/New_York:20251127T210000
DTSTAMP:20260421T114525
CREATED:20251125T185903Z
LAST-MODIFIED:20251125T185903Z
UID:10005495-1764230400-1764277200@www.scandinaviahouse.org
SUMMARY:HOLIDAY CLOSURE — CHILDREN'S CENTER\, GALLERIES\, SHOP
DESCRIPTION:The Children’s Center\, Galleries\, and Offices at Scandinavia House will be closed on Thursday\, November  27 for the holiday. The Shop will also be closed. The Björk Cafe & Bistro will be open from 11 AM-9 PM (last seating at 7:15 PM) for a Thanksgiving Feast (details here). \nBjörk Cafe & Bistro will also be open for a Black Friday Brunch Special on Friday\, November 28\, from 11 AM – 4 PM and the Galleries & Shop will be open that day with normal hours. The Children’s Center will be closed on November 28. It will reopen with normal hours on November 29. \nSee you after the holiday!
URL:https://www.scandinaviahouse.org/event/holiday-closure-childrens-center-galleries-shop-2/
LOCATION:Scandinavia House\, 58 Park Avenue\, New York\, NY\, 10016\, United States
ATTACH;FMTTYPE=image/jpeg:https://www.scandinaviahouse.org/wp-content/uploads/2019/11/ScanHouse-Entrance-Linda-Haglund.jpg
END:VEVENT
BEGIN:VEVENT
DTSTART;TZID=America/New_York:20251127T110000
DTEND;TZID=America/New_York:20251127T191500
DTSTAMP:20260421T114525
CREATED:20251030T235811Z
LAST-MODIFIED:20251030T235811Z
UID:10005449-1764241200-1764270900@www.scandinaviahouse.org
SUMMARY:THANKSGIVING FEAST AT BJÖRK CAFE & BISTRO
DESCRIPTION:Celebrate Thanksgiving at Scandinavia House with a special prix-fixe menu from Björk Cafe & Bistro! The restaurant will be open November 27 for special dining from 11AM-7:15 PM with meals including an appetizer\, entrée and dessert\, featuring classic entrées such as Herb-Stuffed turkey\, Swedish Meatballs\, Baked Arctic Char with Sandefjord sauce\, Roasted Glazed Caraflex Cabbage; appetizers of Beluga Lentil Soup\, a Small Herring Plate\, Färö Island Salmon; and a Nordic Grand Dessert with plates of Scandinavian treats. ASF Members receive a 15 percent discount.  \n*Please note that Scandinavia House will otherwise be closed for the holiday.* \nBjörk Cafe & Bistro will also be open for a Black Friday Brunch Special on Friday\, November 27\, from 11 AM – 4 PM. The Galleries will be open that day with normal hours. \nSpace is limited\, so reserve your table right away! \nReservations \n 
URL:https://www.scandinaviahouse.org/event/thanksgiving-feast-at-bjork-cafe-bistro-3/
LOCATION:Björk Cafe & Bistro at Scandinavia House\, 58 Park Ave\, New York\, NY\, 10016\, United States
ATTACH;FMTTYPE=image/jpeg:https://www.scandinaviahouse.org/wp-content/uploads/2022/11/image-from-rawpixel-id-52685-jpeg_WEB1-scaled.jpg
END:VEVENT
END:VCALENDAR