BEGIN:VCALENDAR
VERSION:2.0
PRODID:-//Scandinavia House - ECPv6.15.3//NONSGML v1.0//EN
CALSCALE:GREGORIAN
METHOD:PUBLISH
X-WR-CALNAME:Scandinavia House
X-ORIGINAL-URL:https://www.scandinaviahouse.org
X-WR-CALDESC:Events for Scandinavia House
REFRESH-INTERVAL;VALUE=DURATION:PT1H
X-Robots-Tag:noindex
X-PUBLISHED-TTL:PT1H
BEGIN:VTIMEZONE
TZID:America/New_York
BEGIN:DAYLIGHT
TZOFFSETFROM:-0500
TZOFFSETTO:-0400
TZNAME:EDT
DTSTART:20250309T070000
END:DAYLIGHT
BEGIN:STANDARD
TZOFFSETFROM:-0400
TZOFFSETTO:-0500
TZNAME:EST
DTSTART:20251102T060000
END:STANDARD
END:VTIMEZONE
BEGIN:VEVENT
DTSTART;TZID=America/New_York:20251231T080000
DTEND;TZID=America/New_York:20251231T210000
DTSTAMP:20260421T135128
CREATED:20251210T203407Z
LAST-MODIFIED:20251210T203407Z
UID:10005508-1767168000-1767214800@www.scandinaviahouse.org
SUMMARY:CHILDREN'S CENTER HOLIDAY CLOSURE
DESCRIPTION:The Children’s Center at Scandinavia House will be closed from Wednesday\, December 31 through Friday\, January 2 for the holiday. We will reopen with normal hours on Saturday\, January 3. \nHappy New Year!
URL:https://www.scandinaviahouse.org/event/childrens-center-holiday-closure-2/2025-12-31/
LOCATION:Scandinavia House\, 58 Park Avenue\, New York\, NY\, 10016\, United States
ATTACH;FMTTYPE=image/jpeg:https://www.scandinaviahouse.org/wp-content/uploads/2025/11/jann_lipka-new_years_eve-9488_WEB-scaled.jpg
END:VEVENT
END:VCALENDAR