BEGIN:VCALENDAR
VERSION:2.0
PRODID:-//Scandinavia House - ECPv6.15.3//NONSGML v1.0//EN
CALSCALE:GREGORIAN
METHOD:PUBLISH
X-ORIGINAL-URL:https://www.scandinaviahouse.org
X-WR-CALDESC:Events for Scandinavia House
REFRESH-INTERVAL;VALUE=DURATION:PT1H
X-Robots-Tag:noindex
X-PUBLISHED-TTL:PT1H
BEGIN:VTIMEZONE
TZID:America/New_York
BEGIN:DAYLIGHT
TZOFFSETFROM:-0500
TZOFFSETTO:-0400
TZNAME:EDT
DTSTART:20260308T070000
END:DAYLIGHT
BEGIN:STANDARD
TZOFFSETFROM:-0400
TZOFFSETTO:-0500
TZNAME:EST
DTSTART:20261101T060000
END:STANDARD
END:VTIMEZONE
BEGIN:VEVENT
DTSTART;TZID=America/New_York:20260107T173000
DTEND;TZID=America/New_York:20260107T180000
DTSTAMP:20260419T110920
CREATED:20250923T215109Z
LAST-MODIFIED:20251114T213048Z
UID:10005423-1767807000-1767808800@www.scandinaviahouse.org
SUMMARY:GALLERY TOURS | A TIME FOR EVERYTHING
DESCRIPTION:On view from October 18\, 2025 to February 14\, 2026 at Scandinavia House\, A Time for Everything\, a group exhibition of internationally acclaimed Nordic artists — all of whom have presented work in the Scandinavia House Galleries over the past 25 years — will underscore the vision of the Scandinavia House Galleries as a steward for new and established Nordic voices in the contemporary artistic landscape\, and for promoting the exchange of ideas and culture between the United States and Nordic region. \nIn this guided tour by Eve O’Shea\, ASF’s Exhibitions and Cultural Programs Assistant and assistant curator of the exhibition\, learn about the artists in this exhibition and their works. \nThese free\, 35-minute public tours meet in the Gallery elevator lobby. Gallery tours are subject to change; please check with the Scandinavia House front desk or email info@amscan.org. \nRegister
URL:https://www.scandinaviahouse.org/event/gallery-tours-a-time-for-everything/2026-01-07/
LOCATION:Scandinavia House\, 58 Park Avenue\, New York\, NY\, 10016\, United States
ATTACH;FMTTYPE=image/jpeg:https://www.scandinaviahouse.org/wp-content/uploads/2025/09/A-Time-for-Everything-Web-Banner-UPDATED-9.18-scaled.jpg
END:VEVENT
BEGIN:VEVENT
DTSTART;TZID=America/New_York:20260107T190000
DTEND;TZID=America/New_York:20260107T210000
DTSTAMP:20260419T110920
CREATED:20251211T163817Z
LAST-MODIFIED:20251211T163817Z
UID:10005488-1767812400-1767819600@www.scandinaviahouse.org
SUMMARY:KON TIKI
DESCRIPTION:“Seaworthy\, and then some” —on January 7\, see Kon Tiki and help bring our Silver Anniversary Rescreens into 2026! Directed by Joachim Rønning and Espen Sandberg\, this epic adventure film dramatizes Norwegian anthropologist Thor Heyerdahl’s real-life 1947 expedition across the Pacific on a balsawood raft. \nNorway’s most expensive production to date\, Kon Tiki (Norway\, 2013) was nominated for the Academy Award for Best Foreign Language Film at the 85th Academy Awards\, and was screened here at Scandinavia House as a part of our Nordic Oscar Contenders in 2013. Now\, for our 25th anniversary\, we return to Heyerdahl’s (Pål Sverre Hagen) epic gambit to prove that South Americans had settled in the Polynesian islands\, a theory that remains a matter of debate\, and to retrace their steps using only the resources available to potential pre-Columbian settlers. \nThough he himself cannot swim or sail\, he sets out on the treacherous 4\,300-nautical-mile journey across the Pacific from Peru to Polynesia aboard the small raft– the Kon Tiki\, named after the Inca sun god –along with his crew of five men (and a macaw named Lorita). Kon Tiki takes us through the exploits of Heyerdahl and the embattled crew as they embark on their three-month sail equipped with only a radio– facing down tidal waves\, sharks\, and demons of the deep. \n“A ravishingly photographed\, old-fashioned man-against-the-elements epic propelled by human-scaled heroics.” (RogerEbert.com) \n“A rousing and thoroughly enjoyable Old Hollywood-style adventure…” (NPR) \nPurchase tickets \nThis program has been supported by the Monika and Charles Heimbold Fund for Exhibitions and Programs. \n 
URL:https://www.scandinaviahouse.org/event/kon-tiki/
LOCATION:Scandinavia House\, 58 Park Avenue\, New York\, NY\, 10016\, United States
CATEGORIES:Films
ATTACH;FMTTYPE=image/jpeg:https://www.scandinaviahouse.org/wp-content/uploads/2025/11/ems-copy-scaled.jpg
END:VEVENT
END:VCALENDAR