BEGIN:VCALENDAR
VERSION:2.0
PRODID:-//Scandinavia House - ECPv6.15.3//NONSGML v1.0//EN
CALSCALE:GREGORIAN
METHOD:PUBLISH
X-ORIGINAL-URL:https://www.scandinaviahouse.org
X-WR-CALDESC:Events for Scandinavia House
REFRESH-INTERVAL;VALUE=DURATION:PT1H
X-Robots-Tag:noindex
X-PUBLISHED-TTL:PT1H
BEGIN:VTIMEZONE
TZID:America/New_York
BEGIN:DAYLIGHT
TZOFFSETFROM:-0500
TZOFFSETTO:-0400
TZNAME:EDT
DTSTART:20260308T070000
END:DAYLIGHT
BEGIN:STANDARD
TZOFFSETFROM:-0400
TZOFFSETTO:-0500
TZNAME:EST
DTSTART:20261101T060000
END:STANDARD
END:VTIMEZONE
BEGIN:VEVENT
DTSTART;TZID=America/New_York:20260217T180000
DTEND;TZID=America/New_York:20260217T190000
DTSTAMP:20260420T184038
CREATED:20260109T195137Z
LAST-MODIFIED:20260212T053804Z
UID:10005608-1771351200-1771354800@www.scandinaviahouse.org
SUMMARY:NORWEGIAN 1 — SPRING 2026 ENROLLMENT OPEN
DESCRIPTION:Learn the Nordic languages in classes offered in-person and virtually at Scandinavia House! This course is for absolute beginners. \nIn this beginner’s course\, you will build your Norwegian vocabulary\, pronunciation\, and grammar skills\, while also learning about Norwegian culture and life. By the course’s end\, you should be able to conduct simple conversations in Norwegian. Students are welcome to bring facts they know about Norway into class discussions. \nYou will get to practice small conversations and reading in class\, and there will be a focus on pronunciation and certain Norwegian vowels and sounds which may be new to your ear. There will also be at-home assignments focusing on reading\, writing\, and grammar\, as well as an optional end-of-semester presentation. Outside of class\, students are encouraged to watch Norwegian shows/movies\, read children’s books\, and have podcasts on in the background. \nThis hybrid class will be held both in-person and via Zoom; in-person attendance for the first four classes is highly recommended. Classes take place on Tuesdays and Wednesdays from 6–7 PM beginning February 17 through May 21. *Please note that there will be no classes March 24-April 15.* \nNo prerequisites required; instructions for remote learning will be emailed upon registration. For questions about language levels\, please contact Marie-Therese Bjornerud. Tuition is $675 ($607.50 ASF Members); 20 hours total class time. \nThe required text will be provided via PDF\, before the first class. \nEnroll
URL:https://www.scandinaviahouse.org/event/norwegian-1-spring-2026-enrollment-open/2026-02-17/
LOCATION:Scandinavia House\, 58 Park Avenue\, New York\, NY\, 10016\, United States
ATTACH;FMTTYPE=image/jpeg:https://www.scandinaviahouse.org/wp-content/uploads/2022/09/peter-hansen-TR8X68ILkGA-unsplash-new-website-scaled.jpg
END:VEVENT
BEGIN:VEVENT
DTSTART;TZID=America/New_York:20260217T191500
DTEND;TZID=America/New_York:20260217T211500
DTSTAMP:20260420T184038
CREATED:20260109T204640Z
LAST-MODIFIED:20260212T053812Z
UID:10005603-1771355700-1771362900@www.scandinaviahouse.org
SUMMARY:NORWEGIAN 4 — SPRING 2026 ENROLLMENT OPEN
DESCRIPTION:Learn the Nordic languages in classes offered in-person and virtually at Scandinavia House! \nDesigned for intermediate learners who have taken Norwegian 3 or equivalent\, this course continues to expand and refine your speaking\, listening\, reading\, and writing skills\, enabling grammatically correct conversations\, and language structure. A stronger focus will be given to pronunciation\, Norwegian structure\, tone\, and flow. \nYou will get the opportunity to hone in your knowledge of grammatical structures\, thus engaging more confidently in conversations and discussions in class\, expanding your vocabulary\, and fine-tuning your listening skills. Students are actively encouraged to talk more in-depth about their own experiences in Norwegian. \nThere will also be weekly at-home assignments\, and more\, focusing on reading\, writing\, and grammar\, as well as a strongly recommend end-of-semester presentation. Students are strongly encouraged to watch and read Norwegian news\, and articles\, watch Norwegian shows and movies\, and listen to podcasts and audio books\, as often as possible\, on a weekly basis at a minimum. These classes are conducted in Norwegian\, with the occasional English word/sentence. \nThis hybrid class will be held both in-person and via Zoom; in-person attendance for the first four classes is highly recommended. Classes take place on Tuesdays from 7:15–9:15 PM beginning February 17 and ending on May 19. *Please note that there will be no classes March 24-April 15.* \nPlease note that in order to take this course\, you should be comfortable using the simple past tense\, and have knowledge of regular and irregular verbs\, as well as their irregularities and rules. You should also be able to use indefinite\, definite\, and plural forms of masculine\, feminine\, and neuter nouns; conjugate adjectives; and apply intermediate Norwegian sentence structure\, including “inversion.” \nPrerequisite: Norwegian 3 or equivalent; instructions for remote learning will be emailed upon registration. For questions about language levels\, please contact Marie-Therese Bjornerud. Tuition is $675 ($607.50 ASF Members); 20 hours total class time. \nThe required text will be provided via PDF\, before the first class. \n\nEnroll
URL:https://www.scandinaviahouse.org/event/norwegian-4-spring-2026-enrollment-open/2026-02-17/
LOCATION:Scandinavia House\, 58 Park Avenue\, New York\, NY\, 10016\, United States
ATTACH;FMTTYPE=image/jpeg:https://www.scandinaviahouse.org/wp-content/uploads/2023/09/boat-3141095_NEW-WEB-scaled.jpg
END:VEVENT
END:VCALENDAR