BEGIN:VCALENDAR
VERSION:2.0
PRODID:-//Scandinavia House - ECPv6.15.3//NONSGML v1.0//EN
CALSCALE:GREGORIAN
METHOD:PUBLISH
X-WR-CALNAME:Scandinavia House
X-ORIGINAL-URL:https://www.scandinaviahouse.org
X-WR-CALDESC:Events for Scandinavia House
REFRESH-INTERVAL;VALUE=DURATION:PT1H
X-Robots-Tag:noindex
X-PUBLISHED-TTL:PT1H
BEGIN:VTIMEZONE
TZID:America/New_York
BEGIN:DAYLIGHT
TZOFFSETFROM:-0500
TZOFFSETTO:-0400
TZNAME:EDT
DTSTART:20260308T070000
END:DAYLIGHT
BEGIN:STANDARD
TZOFFSETFROM:-0400
TZOFFSETTO:-0500
TZNAME:EST
DTSTART:20261101T060000
END:STANDARD
END:VTIMEZONE
BEGIN:VEVENT
DTSTART;TZID=America/New_York:20260513T190000
DTEND;TZID=America/New_York:20260513T210000
DTSTAMP:20260420T092350
CREATED:20260227T174630Z
LAST-MODIFIED:20260407T163622Z
UID:10005700-1778698800-1778706000@www.scandinaviahouse.org
SUMMARY:LOVE
DESCRIPTION:“Utterly enrapturing”—On May 13th\, see LOVE\, Norwegian director Dag Johan Haugerud’s first installment of the widely acclaimed Oslo Trilogy! \nAn ambitious trilogy from Norwegian novelist/filmmaker Dag Johan Haugerud\, LOVE–SEX–DREAMS are three distinct feature films linked by their themes of nontraditional intimacy\, but need not be seen in any particular order. LOVE focuses on two colleagues at an Oslo hospital — Marianne\, a straight (and straitlaced) doctor\, and Tor\, a gay male nurse. Both single\, they cross paths by chance after hours and confide in each other: Marianne confesses her desire to be more adventurous and open in her encounters with men; Tor shares his fatigue with Grindr hook-ups. Their conversations form the heart of exploration of desire and emotional fulfillment. \n“Dag Johan Haugerud’s gently humanistic drama is one of those films that feels akin to a prism\, refracting its theme into the array of colors it contains…it’s so beautiful that you want to just keep dwelling in its world.” (Alissa Wilkinson\, The New York Times) \nPurchase Tickets \n 
URL:https://www.scandinaviahouse.org/event/love/
LOCATION:Scandinavia House\, 58 Park Avenue\, New York\, NY\, 10016\, United States
CATEGORIES:Films
ATTACH;FMTTYPE=image/jpeg:https://www.scandinaviahouse.org/wp-content/uploads/2026/02/001-scaled.jpg
END:VEVENT
END:VCALENDAR