BEGIN:VCALENDAR
VERSION:2.0
PRODID:-//Scandinavia House - ECPv6.15.3//NONSGML v1.0//EN
CALSCALE:GREGORIAN
METHOD:PUBLISH
X-ORIGINAL-URL:https://www.scandinaviahouse.org
X-WR-CALDESC:Events for Scandinavia House
REFRESH-INTERVAL;VALUE=DURATION:PT1H
X-Robots-Tag:noindex
X-PUBLISHED-TTL:PT1H
BEGIN:VTIMEZONE
TZID:America/New_York
BEGIN:DAYLIGHT
TZOFFSETFROM:-0500
TZOFFSETTO:-0400
TZNAME:EDT
DTSTART:20260308T070000
END:DAYLIGHT
BEGIN:STANDARD
TZOFFSETFROM:-0400
TZOFFSETTO:-0500
TZNAME:EST
DTSTART:20261101T060000
END:STANDARD
END:VTIMEZONE
BEGIN:VEVENT
DTSTART;TZID=America/New_York:20260613T120000
DTEND;TZID=America/New_York:20260613T143000
DTSTAMP:20260424T005022
CREATED:20260414T200325Z
LAST-MODIFIED:20260414T200325Z
UID:10005749-1781352000-1781361000@www.scandinaviahouse.org
SUMMARY:MISCELLANEOUS PAPER
DESCRIPTION:This adult workshop series offers a gentle introduction to the tactile qualities of materials such as paper\, pastel\, paint\, graphite\, and ink. Open to all levels\, including new students\, the series focuses on exploration\, play\, and the process of making rather than finished outcomes. Participants will experiment with a range of techniques across sessions\, including acrylic and watercolor painting\, pastel work\, ink practices\, drawing with graphite and charcoal\, and creating sculptural forms from paper\, while also engaging with relevant art history and contemporary art. Each class invites a meditative and attentive approach\, encouraging students to discover inspiration from both inner and outer worlds. Sessions conclude with supportive group reflections that honor each participant’s process and discoveries. As part of the experience\, students will also explore the 3rd floor gallery exhibition “Inside Voices\, Outside Light: Perspectives on West Nordic Art.” \nIn this course\, students will explore and experiment with making sculptural forms out of paper. \nThe series can be taken as a full progression or as individual\, standalone classes\, with participation limited to 12 students aged 20 and above. \nPurchase Tickets
URL:https://www.scandinaviahouse.org/event/miscellaneous-paper/
LOCATION:Scandinavia House\, 58 Park Avenue\, New York\, NY\, 10016\, United States
ATTACH;FMTTYPE=image/jpeg:https://www.scandinaviahouse.org/wp-content/uploads/2026/04/miscpaper-scaled.jpg
END:VEVENT
END:VCALENDAR