BEGIN:VCALENDAR
VERSION:2.0
PRODID:-//Scandinavia House - ECPv6.15.3//NONSGML v1.0//EN
CALSCALE:GREGORIAN
METHOD:PUBLISH
X-ORIGINAL-URL:https://www.scandinaviahouse.org
X-WR-CALDESC:Events for Scandinavia House
REFRESH-INTERVAL;VALUE=DURATION:PT1H
X-Robots-Tag:noindex
X-PUBLISHED-TTL:PT1H
BEGIN:VTIMEZONE
TZID:America/New_York
BEGIN:DAYLIGHT
TZOFFSETFROM:-0500
TZOFFSETTO:-0400
TZNAME:EDT
DTSTART:20250309T070000
END:DAYLIGHT
BEGIN:STANDARD
TZOFFSETFROM:-0400
TZOFFSETTO:-0500
TZNAME:EST
DTSTART:20251102T060000
END:STANDARD
END:VTIMEZONE
BEGIN:VEVENT
DTSTART;TZID=America/New_York:20250327T190000
DTEND;TZID=America/New_York:20250327T210000
DTSTAMP:20260423T184528
CREATED:20250304T193830Z
LAST-MODIFIED:20250305T223500Z
UID:10004729-1743102000-1743109200@www.scandinaviahouse.org
SUMMARY:INTERCEPTED
DESCRIPTION:See three of the shortlisted finalists for this year’s LUX Audience Awards this season at Scandinavia House! On March 27 we’ll be screening Intercepted\, a documentary by Oksana Karpovych contrasting quiet compositions of everyday Ukrainian life since the full-scale invasion with intercepted phone conversations between Russian soldiers and their families. \nWhat drives the people who come to your country to wage war? Intercepted is an attempt to find an answer by showing two parallel worlds. The camera registers images of destruction in unhurried shots\, in which we see Ukrainian villages\, towns\, houses and motorways after their liberation from the Russian occupation. We look closely – not into the abyss of destruction and death\, but rather at landscapes being filled again with life. This gives hope and serves to balance out the media’s normalization of horror. They are frames set against the flood of images. Throughout the film\, the soundtrack forms a shocking counterpoint. We listen to the recordings of telephone conversations intercepted in 2022 by the Ukrainian Secret Service between Russian soldiers in trenches in Ukraine and their families. It is hard to decide which element is more devastating: the soldiers’ confessions of the rape\, looting and brutal torture of Ukrainian civilians and prisoners of war or the (mainly) female voices from “back home” that bear witness to chauvinism and hatred\, disinformation and schizophrenic propaganda. Sound and image stare each other in the face\, stunned\, brought together in a cinematic space. \nThis event has been organized by the European Parliament in partnership with Scandinavia House. The LUX Audience Award is a joint initiative of the European Parliament and the European Film Academy in collaboration with the European Commission and Europa Cinemas. It is the largest audience award worldwide and the only film prize in the world where citizens together with Members of the European Parliament — with each group weighting 50 percent — can decide who the winner will be by rating the nominated films online. The LUX Audience Award fosters dialogue and engagement between politics and the public through the medium of film. The nominated films address European values and raise awareness about some of today’s main social and political issues such as mental health\, poverty\, climate change\, freedom of expression\, gender equality\, and LGBTIQ+ rights.
URL:https://www.scandinaviahouse.org/event/intercepted-2025-lux-audience-awards-ukrainian-film-screening/
LOCATION:Scandinavia House\, 58 Park Avenue\, New York\, NY\, 10016\, United States
CATEGORIES:Films
ATTACH;FMTTYPE=image/png:https://www.scandinaviahouse.org/wp-content/uploads/2025/03/INTERCEPTED_WEB3.png
END:VEVENT
END:VCALENDAR