BEGIN:VCALENDAR
VERSION:2.0
PRODID:-//Scandinavia House - ECPv6.15.3//NONSGML v1.0//EN
CALSCALE:GREGORIAN
METHOD:PUBLISH
X-ORIGINAL-URL:https://www.scandinaviahouse.org
X-WR-CALDESC:Events for Scandinavia House
REFRESH-INTERVAL;VALUE=DURATION:PT1H
X-Robots-Tag:noindex
X-PUBLISHED-TTL:PT1H
BEGIN:VTIMEZONE
TZID:America/New_York
BEGIN:DAYLIGHT
TZOFFSETFROM:-0500
TZOFFSETTO:-0400
TZNAME:EDT
DTSTART:20250309T070000
END:DAYLIGHT
BEGIN:STANDARD
TZOFFSETFROM:-0400
TZOFFSETTO:-0500
TZNAME:EST
DTSTART:20251102T060000
END:STANDARD
END:VTIMEZONE
BEGIN:VEVENT
DTSTART;TZID=America/New_York:20251105T183000
DTEND;TZID=America/New_York:20251105T203000
DTSTAMP:20260422T143452
CREATED:20250924T201417Z
LAST-MODIFIED:20251027T163500Z
UID:10005408-1762367400-1762374600@www.scandinaviahouse.org
SUMMARY:OPENING NIGHT: THE EXALTED | NYBFF
DESCRIPTION:The 8th Annual New York Baltic Film Festival (NYBFF) presented by Scandinavia House: The Nordic Center in America returns this November with the best new films from the Baltic region! The festival kicks off on Wednesday\, November 5\, with the North American premiere of The Exalted (Cildenie\, dir. Juris Kursietis\, Latvia/Estonia/Greece\, 2024). A talk with lead actor Juris Žagars follows the screening. The film will re-screen on Thursday\, November 6\, also with a talk by Žagars. \nIn this exquisite thriller exploring the boundaries of loyalty and greed\, Anna (Johanna Wokalek)\, is an internationally renowned organist whose partner Andris (Juris Zagars) a successful CEO\, is suspected of corruption. As Anna proceeds with a lavish birthday party in the countryside\, she must navigate a crumbling reputation\, moral dilemmas\, false accusations\, and religious uncertainty. The restless handheld camera draws us into her emotional turmoil\, as the foundation of her life collapses alongside her partner’s arrest. \nEstablished Latvian director Juris Kursietis‘ return to cinema is deeply atmospheric and character-driven\, deftly intertwining Anna’s professional life with her personal crisis. The Exalted presents  powerful commentary on loyalty\, moral conflict\, the weight of public perception and the intersection of personal and public turmoil. \n“A bracing\, sharp-toothed satire”—Wendy Id\, ScreenDaily \nPurchase Tickets
URL:https://www.scandinaviahouse.org/event/opening-night-the-exalted-nybff/
LOCATION:Scandinavia House\, 58 Park Avenue\, New York\, NY\, 10016\, United States
CATEGORIES:Films
ATTACH;FMTTYPE=image/jpeg:https://www.scandinaviahouse.org/wp-content/uploads/2025/09/photo1_big-scaled.jpg
END:VEVENT
BEGIN:VEVENT
DTSTART;TZID=America/New_York:20251106T180000
DTEND;TZID=America/New_York:20251106T200000
DTSTAMP:20260422T143452
CREATED:20250926T175439Z
LAST-MODIFIED:20251027T161007Z
UID:10005435-1762452000-1762459200@www.scandinaviahouse.org
SUMMARY:THE EXALTED | NYBFF
DESCRIPTION:The 8th Annual New York Baltic Film Festival (NYBFF) presented by Scandinavia House: The Nordic Center in America returns this November with the best new films from the Baltic region! On Thursday\, November 6\, see The Exalted (Cildenie\, dir. Juris Kursietis\, Latvia/Estonia/Greece\, 2024); a talk with lead actor Juris Žagars follows the screening. \nThe film also screens on opening night (Wednesday\, November 5)\, also with a talk by Juris Žagars. \nIn this exquisite thriller exploring the boundaries of loyalty and greed\, Anna (Johanna Wokalek)\, is an internationally renowned organist whose partner Andris (Juris Zagars) a successful CEO\, is suspected of corruption. As Anna proceeds with a lavish birthday party in the countryside\, she must navigate a crumbling reputation\, moral dilemmas\, false accusations\, and religious uncertainty. The restless handheld camera draws us into her emotional turmoil\, as the foundation of her life collapses alongside her partner’s arrest. \nEstablished Latvian director Juris Kursietis‘ return to cinema is deeply atmospheric and character-driven\, deftly intertwining Anna’s professional life with her personal crisis. The Exalted presents  powerful commentary on loyalty\, moral conflict\, the weight of public perception and the intersection of personal and public turmoil. \n“A bracing\, sharp-toothed satire”—Wendy Id\, ScreenDaily \nPurchase Tickets
URL:https://www.scandinaviahouse.org/event/the-exalted-nybff-2/
LOCATION:Scandinavia House\, 58 Park Avenue\, New York\, NY\, 10016\, United States
CATEGORIES:Films
ATTACH;FMTTYPE=image/jpeg:https://www.scandinaviahouse.org/wp-content/uploads/2025/09/photo1_big-scaled.jpg
END:VEVENT
BEGIN:VEVENT
DTSTART;TZID=America/New_York:20251106T201500
DTEND;TZID=America/New_York:20251106T223000
DTSTAMP:20260422T143452
CREATED:20250930T202049Z
LAST-MODIFIED:20251007T201215Z
UID:10005413-1762460100-1762468200@www.scandinaviahouse.org
SUMMARY:THE BLACK HOLE
DESCRIPTION:The 8th Annual New York Baltic Film Festival (NYBFF) presented by Scandinavia House: The Nordic Center in America returns this November with the best new films from the Baltic region! On November 6\, see the New York Premiere of the zany sci-fi parable The Black Hole (Must auk\, dir. Moonika Siimets\, Estonia/Finland\, 2024).  \nThe Black Hole is an absurdist\, genre-blending comedic anthology that follows three interconnected stories in a suburban Estonian apartment complex\, where residents encounter aliens and fantastical beings while grappling with everyday struggles like abuse\, loneliness\, and economic hardship. When a mysterious black hole appears among the lilac bushes of their district\, accompanied by aliens\, a giant spider\, and a shorts-wearing Austrian\, events begin to unfold that challenge the suburban residents’ hopes for a brighter future. \nThe film comprises a triptych following residents through their surreal encounters: Sirje (Anne Reemann) and Maret (Eva Koldits)\, dreaming of finding work abroad\, end up in an extraterrestrial science experiment; Jüri (Ursel Tilk)\, still living with his mother\, falls in love with his lustful neighbour\, Gertrud (Jekaterina Linnamäe); Mariliis (Doris Tislar)\, who dreams of a world without abusive men\, finds shelter at fearless bodybuilder Uma’s (Rea Lest) apartment full of giant spiders. The clever screenplay weaves together cosmic orgasms\, an existential lust for desire\, and ancient culinary wisdom – all inspired by Estonian short stories by Armin Kõomägi and Andrus Kivirähk. (115 min. In Estonian with English subtitles) \nPurchase Tickets
URL:https://www.scandinaviahouse.org/event/the-black-hole/
LOCATION:Scandinavia House\, 58 Park Avenue\, New York\, NY\, 10016\, United States
CATEGORIES:Films
ATTACH;FMTTYPE=image/jpeg:https://www.scandinaviahouse.org/wp-content/uploads/2025/09/V1-0008_A228C011_221201XR.000000-1-1030x557-1-scaled.jpg
END:VEVENT
BEGIN:VEVENT
DTSTART;TZID=America/New_York:20251107T183000
DTEND;TZID=America/New_York:20251107T213000
DTSTAMP:20260422T143452
CREATED:20250930T202926Z
LAST-MODIFIED:20251027T161140Z
UID:10005434-1762540200-1762551000@www.scandinaviahouse.org
SUMMARY:THE MUTINY
DESCRIPTION:The 8th Annual New York Baltic Film Festival (NYBFF) presented by Scandinavia House: The Nordic Center in America returns this November with the best new films from the Baltic region! On November 7\, see the New York Premiere of the gripping historical miniseries The Mutiny (Dumpis\, dir. Andrejs Ēķis\, Latvia\, 2025). \n*Tonight’s in-person screening will include the first 4 episodes of the 7-part series; the full series will later be available virtually to all ticketholders. There will be a brief intermission between episodes 2 and 3. The screening will be followed by a film talk with producer Dita Cimermane.* \nBased on the true story that inspired The Hunt for Red October\, The Mutiny is set in 1975 Riga\, where Soviet officer Valery Spagin has just been appointed Captain of the Third Rank of the Soviet naval ship Storozhevoy. He embraces the opportunity to serve his country and vows to uphold its communist ideals. But as Spagin and his family find themselves unwelcome among their new neighbors\, he discovers widespread military abuse of power—forcing him to confront his own belief system. Facing mounting threats from a corrupt government\, Spagin incites a riot aboard the ship\, which soon becomes larger than intended. In fear of international disgrace\, the Soviet authorities take drastic action. \nTold from the perspective of both the Occupier and Occupied\, The Mutiny is a harrowing story of humanity and justice in the twilight of a totalitarian regime. The seven-episode miniseries was showcased at the Tallinn Black Nights Film Festival (PÖFF) in the “TV Beats Screening Day” program. It later won Best TV Series at the 2025 Lielais Kristaps Awards\, Latvia’s National Film Awards\, where it received nine nominations. (In Latvian with English subtitles) \n“A call to action against the Russian totalitarian regime” – Annika Pham\, Variety \nPurchase Tickets
URL:https://www.scandinaviahouse.org/event/the-mutiny/
LOCATION:Scandinavia House\, 58 Park Avenue\, New York\, NY\, 10016\, United States
CATEGORIES:Films
ATTACH;FMTTYPE=image/jpeg:https://www.scandinaviahouse.org/wp-content/uploads/2025/09/1-Mutiny-stillframe-11_Bright_WEB-scaled.jpg
END:VEVENT
BEGIN:VEVENT
DTSTART;TZID=America/New_York:20251108T130000
DTEND;TZID=America/New_York:20251108T143000
DTSTAMP:20260422T143452
CREATED:20250930T210152Z
LAST-MODIFIED:20250930T210152Z
UID:10005414-1762606800-1762612200@www.scandinaviahouse.org
SUMMARY:MURMURING HEARTS
DESCRIPTION:The 8th Annual New York Baltic Film Festival (NYBFF) presented by Scandinavia House: The Nordic Center in America returns this November with the best new films from the Baltic region! On November 8\, see the North American Premiere of the powerful and tender documentary Murmuring Hearts (Murmančios Širdys\, dir. Vytautas Puidokas\, Lithuania/France/Norway\, 2024). *This screening will be followed by a talk with film director Vytautas Puidokas.* \nMatas\, a 14-year old foster child\, arrives at a Lithuanian rehab-farm where a group of men are recovering from addiction and aggression. Led by the charismatic Žanas\, a former addict\, the community follows a strict routine—praying\, tending to animals\, and making cheese—all to escape the troubled cycles of the past. As they work to heal from within\, the men must also take responsibility for the boy\, slowly but surely becoming problematic and complicated role models. Struggling with his own demons—abandonment\, violence and loneliness—Matas evokes their own unresolved emotions\, particularly for those who share a similar history. As dynamics shift\, the fractured group slowly works through anger to become  a dysfunctional family\, bound by their shared struggles. Together\, they face the challenge of holding together a community\, clinging to the hope of brighter days ahead. \nThe winner of the Young Europeans Award at International Festival of Audiovisual Programmes (FIPADOC)\, Murmuring Hearts provides a candid glimpse into masculinity\, trauma\, and what it takes to heal. (80 min. In Lithuanian with English subtitles) \n“A raw portrait of addiction” – Annika Pham\, Variety \nPurchase Tickets
URL:https://www.scandinaviahouse.org/event/murmuring-hearts/
LOCATION:Scandinavia House\, 58 Park Avenue\, New York\, NY\, 10016\, United States
CATEGORIES:Films
ATTACH;FMTTYPE=image/jpeg:https://www.scandinaviahouse.org/wp-content/uploads/2025/09/4_murmuring_hearts-scaled.jpg
END:VEVENT
BEGIN:VEVENT
DTSTART;TZID=America/New_York:20251108T151500
DTEND;TZID=America/New_York:20251108T170000
DTSTAMP:20260422T143452
CREATED:20250930T210838Z
LAST-MODIFIED:20250930T210838Z
UID:10005412-1762614900-1762621200@www.scandinaviahouse.org
SUMMARY:BECOMING ROOSI
DESCRIPTION:The 8th Annual New York Baltic Film Festival (NYBFF) presented by Scandinavia House: The Nordic Center in America returns this November with the best new films from the Baltic region! On November 8\, see the deep\, funny and provocative story of a girl navigating adolescence and climate crisis in the documentary Becoming Roosi (Siit ta tuleb\, Roosi\, dir. Margit Lillak\, Estonia/Germany\, 2025).  \nFilmed over a 10-year period\, we first meet Roosi when she is eight years old\, confronting the unusual conventions of her isolated childhood in an Estonian eco-village. Here\, her mother Liina — a dedicated activist — is the frontwoman of the commune. Eight years later\, Roosi finds herself following in her mother’s footsteps. Living far from the eco-village and fully immersed in the demands of cosmopolitan life\, Roosi grapples with climate grief and guilt. With rare intelligence and outspokenness\, she expresses raw truths about her generation’s existential concerns. She also struggles between two extremes: the pressure to inherit her mother’s battle\, and the vital need to find her own identity through art\, through her body\, and through words. As she navigates the uncertain terrain of early adulthood\, Roosi reveals the unexpected layers of growing up in today’s fluid\, globalized world. \nBecoming Roosi weaves together intimate archival moments from a singular childhood with a timeless coming-of-age story. With grace and emotional depth\, this vibrant portrait explores the weight of climate anxiety\, generational rifts and one young woman’s search for identity. (96 min. In Estonian/English with English subtitles) \nPurchase Tickets
URL:https://www.scandinaviahouse.org/event/becoming-roosi/
LOCATION:Scandinavia House\, 58 Park Avenue\, New York\, NY\, 10016\, United States
CATEGORIES:Films
ATTACH;FMTTYPE=image/jpeg:https://www.scandinaviahouse.org/wp-content/uploads/2025/09/Becoming-Roosi_00_21_09_16.Still012-scaled.jpg
END:VEVENT
BEGIN:VEVENT
DTSTART;TZID=America/New_York:20251108T171500
DTEND;TZID=America/New_York:20251108T184500
DTSTAMP:20260422T143452
CREATED:20250930T212342Z
LAST-MODIFIED:20250930T212415Z
UID:10005415-1762622100-1762627500@www.scandinaviahouse.org
SUMMARY:RENOVATION
DESCRIPTION:The 8th Annual New York Baltic Film Festival (NYBFF) presented by Scandinavia House: The Nordic Center in America returns this November with the best new films from the Baltic region! On November 6\, see the New York Premiere of the sharp\, wistful relationship drama Renovation / Renovacija\, (dir. Gabrielė Urbonaitė\, Lithuania/Latvia/Belgium\, 2025).  \nThe feature directorial debut of Lithuanian writer-director Gabriele Urbonaite follows 29-year-old perfectionist Ilona (Žygimantė Elena Jakštaitė) as she faces mounting pressure to feel successful and settled by age 30. A work-from home journalist in Vilnius\, things are getting serious with her boyfriend boyfriend Matas (Šarūnas Zenkevičius). And they’ve just moved into what seems like an idyllic apartment — until a massive\, noisy bout of renovation work begins. In the midst of repairs to the building’s Soviet-era façade\, cracks reveal themselves in Ilona’s seemingly perfect life\, particularly as she hits it off with Ukrainian construction worker Oleg (Roman Lutskyi). Their connection leads to new discoveries —after spontaneously telling him she’s a poet\, she actually begins to write poetry. But it also deepens her uncertainty. Does she really want to settle down and start a family? (90 min. In Lithuanian with English subtitles) \nA “satisfying relationship dramedy that jumps into the nuances of having one’s status quo shaken up\,” Renovation shows millennials exposed to endless possibilities and the pressure to perform\, while wrestling with lingering legacy of Russian oppression and the nearby war in Ukraine. \n“Renovation is a curious\, delightful beast” – Olivia Popp\, Cineuropa \nPurchase Tickets
URL:https://www.scandinaviahouse.org/event/renovation/
LOCATION:Scandinavia House\, 58 Park Avenue\, New York\, NY\, 10016\, United States
CATEGORIES:Films
ATTACH;FMTTYPE=image/jpeg:https://www.scandinaviahouse.org/wp-content/uploads/2025/09/Renovation_1.1.7_bright-web-scaled.jpg
END:VEVENT
BEGIN:VEVENT
DTSTART;TZID=America/New_York:20251108T193000
DTEND;TZID=America/New_York:20251108T213000
DTSTAMP:20260422T143452
CREATED:20250924T201439Z
LAST-MODIFIED:20251002T144057Z
UID:10005410-1762630200-1762637400@www.scandinaviahouse.org
SUMMARY:SHOWCASE FILM & FILM TALK: ROLLING PAPERS | NYBFF
DESCRIPTION:The 8th Annual New York Baltic Film Festival (NYBFF) presented by Scandinavia House: The Nordic Center in America returns this November with the best new films from the Baltic region! On Saturday\, November 8\, director Meel Paliale‘s “disarming” youth-centered comedy-drama Rolling Papers (Pikad Paberid\, Estonia\, 2024) makes its NYC Premiere. *The screening will be followed by a film talk with director Meel Paliale.* \nRolling Papers follows Sebastian (Mihkel Kuusk)\, who leads a monotonous life as a store clerk. He finds his ordinary workday shaken up when he meets Silo (Karl Birnbaum)\, a free-spirited wanderer. Together\, they smoke weed\, drift through the ephemeral Estonian summer\, and dream of a one-way ticket to Brazil. Rolling Papers explores the complex lives of young adults\, united by their uncertainty about the future and a shared longing for a purposeful existence. Rolling Papers confidently explores the universal themes of a coming-of-age film—struggling with the gap between adolescence and adulthood\, trying to figure out where you belong\, and the ever-present allure of escapism—while careening away from the typical rudderlessness of the stoner comedy. Instead\, the film becomes a tender exploration of fleeting youthful connections and the spark of possibility. The winner of the Audience Award at Tallinn Black Nights Film Festival (PÖFF)\, Rolling Papers is Estonia’s official entry for Best International Feature Film at the 98th Academy Awards. \n\nPurchase Tickets
URL:https://www.scandinaviahouse.org/event/showcase-film-rolling-papers-nybff/
LOCATION:Scandinavia House\, 58 Park Avenue\, New York\, NY\, 10016\, United States
CATEGORIES:Films
ATTACH;FMTTYPE=image/jpeg:https://www.scandinaviahouse.org/wp-content/uploads/2025/09/PP_STILL1-scaled.jpg
END:VEVENT
BEGIN:VEVENT
DTSTART;TZID=America/New_York:20251109T140000
DTEND;TZID=America/New_York:20251109T154500
DTSTAMP:20260422T143452
CREATED:20250930T205537Z
LAST-MODIFIED:20250930T205537Z
UID:10005433-1762696800-1762703100@www.scandinaviahouse.org
SUMMARY:TO BE CONTINUED: TEENHOOD
DESCRIPTION:The 8th Annual New York Baltic Film Festival (NYBFF) presented by Scandinavia House: The Nordic Center in America returns this November with the best new films from the Baltic region! On November 9\, see the North American Premiere of the intimate documentary To Be Continued: Teenhood (Turpinājums: Pieaugšana\, dir. Ivars Seleckis and Armands Zacs\, Latvia\, 2024). \nThe long-awaited sequel to the 2015 documentary To Be Continued\, Latvian directors Ivars Seleckis and Armands Začs reunite with the five children featured in the original film—now 14 years old and on the cusp of adolescence. Zane\, Kārlis\, Anastasia\, Gleb\, and Anete—each from vastly different backgrounds across Latvia—find themselves at pivotal moments\, navigating unique paths toward adulthood. Their everyday experiences reveal striking contrasts: while Zane’s only household duty is to tidy up her room\, Anastasia is charged with stewarding the livestock and taking her little brother to kindergarten. While Kārlis’s mother checks his homework each evening and Gleb’s parents plan his daily routine\, Anete spends an entire week alone in her family’s Riga apartment. \nAs the children grow up\, the lives of the film’s protagonists increasingly reflect an intimate cross-section of Latvian society\, highlighting ever-greater differences between city and countryside\, between the wealthy and the less fortunate\, and between the confident and the insecure. “A layered portrait of adolescence\,” To Be Continued: Teenhood captures the world through the eyes of teenagers and observes how it also shapes their destinies. (96 min. In Latvian with English subtitles) \nPurchase Tickets
URL:https://www.scandinaviahouse.org/event/to-be-continued-teenhood/
LOCATION:Scandinavia House\, 58 Park Avenue\, New York\, NY\, 10016\, United States
CATEGORIES:Films
ATTACH;FMTTYPE=image/jpeg:https://www.scandinaviahouse.org/wp-content/uploads/2025/09/Anastasija-2_WEB-scaled.jpg
END:VEVENT
BEGIN:VEVENT
DTSTART;TZID=America/New_York:20251109T161500
DTEND;TZID=America/New_York:20251109T180000
DTSTAMP:20260422T143452
CREATED:20250930T214601Z
LAST-MODIFIED:20251104T185049Z
UID:10005438-1762704900-1762711200@www.scandinaviahouse.org
SUMMARY:SHORT FILMS | NYBFF 2025
DESCRIPTION:The 8th Annual New York Baltic Film Festival (NYBFF) presented by Scandinavia House: The Nordic Center in America returns this November with the best new films from the Baltic region! This year’s lineup includes a Short Films Session with screenings of six short films\, two from each of the Baltic countries. Read the full lineup here. \nPurchase Tickets
URL:https://www.scandinaviahouse.org/event/short-films-nybff-2025/
LOCATION:Scandinavia House\, 58 Park Avenue\, New York\, NY\, 10016\, United States
CATEGORIES:Films
ATTACH;FMTTYPE=image/jpeg:https://www.scandinaviahouse.org/wp-content/uploads/2025/09/17.SAUNA-DAY_Still-4_1920x1080-1.jpeg
END:VEVENT
BEGIN:VEVENT
DTSTART;TZID=America/New_York:20251109T190000
DTEND;TZID=America/New_York:20251109T210000
DTSTAMP:20260422T143452
CREATED:20250924T201430Z
LAST-MODIFIED:20251028T164304Z
UID:10005409-1762714800-1762722000@www.scandinaviahouse.org
SUMMARY:CLOSING NIGHT: THE VISITOR | NYBFF
DESCRIPTION:The 8th Annual New York Baltic Film Festival (NYBFF) presented by Scandinavia House: The Nordic Center in America returns this November with the best new films from the Baltic region! The festival’s grand finale takes place on Sunday\, November 9 with the U.S. premiere of The Visitor (Svečias\, dir. Vytautas Katkus\, Lithuania/Norway/Sweden\, 2025). \n\nThirty-year-old Danielius has been living in Norway for over a decade. He has everything he needs — a job\, a family\, and friends. But when his father passes away\, he is forced to return to his hometown in Lithuania to sell his childhood flat. Arriving at the end of summer\, the small resort town feels like a temporary retreat\, until he realizes that everything has changed. As Danielius reconnects with familiar places\, old friends\, and lingering memories\, he is confronted by a quiet sense of loneliness\, which he chooses to explore rather than resist. Between farewells and fleeting moments\, Danielius embraces the present — immersing himself in the town one last time before finally letting go. \nPraised as “an appealingly offbeat debut” (Guy Lodge\, Variety) and “a cinematic meditation on solitude” (Georg Szalai\, THR)\, The Visitor offers an unhurried\, gentle journey through the strange comforts of nostalgia and the meaning of home. \n“The theme of migration is so thoroughly mined in arthouse cinema\, it is unusual to find a picture that has something fresh to say. But The Visitor… finds both a new angle and an original means of exploring it” —Wendy Ide\, ScreenDaily \n\n\nPurchase Tickets
URL:https://www.scandinaviahouse.org/event/closing-night-the-visitor-nybff/
LOCATION:Scandinavia House\, 58 Park Avenue\, New York\, NY\, 10016\, United States
CATEGORIES:Films
ATTACH;FMTTYPE=image/jpeg:https://www.scandinaviahouse.org/wp-content/uploads/2025/09/TheVisitor_still5-scaled.jpg
END:VEVENT
END:VCALENDAR