BEGIN:VCALENDAR
VERSION:2.0
PRODID:-//Scandinavia House - ECPv6.15.3//NONSGML v1.0//EN
CALSCALE:GREGORIAN
METHOD:PUBLISH
X-ORIGINAL-URL:https://www.scandinaviahouse.org
X-WR-CALDESC:Events for Scandinavia House
REFRESH-INTERVAL;VALUE=DURATION:PT1H
X-Robots-Tag:noindex
X-PUBLISHED-TTL:PT1H
BEGIN:VTIMEZONE
TZID:America/New_York
BEGIN:DAYLIGHT
TZOFFSETFROM:-0500
TZOFFSETTO:-0400
TZNAME:EDT
DTSTART:20260308T070000
END:DAYLIGHT
BEGIN:STANDARD
TZOFFSETFROM:-0400
TZOFFSETTO:-0500
TZNAME:EST
DTSTART:20261101T060000
END:STANDARD
END:VTIMEZONE
BEGIN:VEVENT
DTSTART;TZID=America/New_York:20260318T190000
DTEND;TZID=America/New_York:20260318T210000
DTSTAMP:20260419T163644
CREATED:20260220T161116Z
LAST-MODIFIED:20260220T161116Z
UID:10005695-1773860400-1773867600@www.scandinaviahouse.org
SUMMARY:MOTHER OF SNOW CRANES
DESCRIPTION:On March 18\, see Mother of Snow Cranes\, Finnish director Iiris Härmä’s stirring documentary following a strong\, adventurous ornithologist whose journey from love to tragedy to revolution earned her the title “The Mother of Snow Cranes.” Director and producer Iiris Härmä and cinematographer Visa Koiso-Kanttila will be present for a film talk following the screening. \n“Ellen\, why are you staying here?” Iiris Härmä’s film begins with this question before following the remarkable life of Ellen Vuosalo (1931–2025)\, who was born in Toronto to Finnish immigrants\, studied zoology in the United States\, and married an Iranian man. Ellen’s situation changed drastically after she decided to travel to Iran to seek custody of her children following her divorce. What started as a personal journey brought her to the wetlands of northern Iran where she stayed for five decades\, dedicating her life to studying and protecting the last flocks of the critically endangered Siberian crane. \nThis heartfelt and inspiring documentary captures a lifetime of conservation\, blending scientific research with community involvement and challenging cultural and gender norms along the way. It’s a gentle portrait of one woman’s unwavering commitment to wildlife and a reflection on resilience\, belonging\, and connections across nature\, humanity\, and cultural borders. \nPhotos: Visa Koiso-Kanttila  \nPurchase Tickets \n 
URL:https://www.scandinaviahouse.org/event/mother-of-snow-cranes/
LOCATION:Scandinavia House\, 58 Park Avenue\, New York\, NY\, 10016\, United States
CATEGORIES:Films
ATTACH;FMTTYPE=image/jpeg:https://www.scandinaviahouse.org/wp-content/uploads/2026/02/MotherOfSnowCranes-1-2-scaled.jpg
END:VEVENT
END:VCALENDAR