BEGIN:VCALENDAR
VERSION:2.0
PRODID:-//Scandinavia House - ECPv6.15.3//NONSGML v1.0//EN
CALSCALE:GREGORIAN
METHOD:PUBLISH
X-ORIGINAL-URL:https://www.scandinaviahouse.org
X-WR-CALDESC:Events for Scandinavia House
REFRESH-INTERVAL;VALUE=DURATION:PT1H
X-Robots-Tag:noindex
X-PUBLISHED-TTL:PT1H
BEGIN:VTIMEZONE
TZID:America/New_York
BEGIN:DAYLIGHT
TZOFFSETFROM:-0500
TZOFFSETTO:-0400
TZNAME:EDT
DTSTART:20240310T070000
END:DAYLIGHT
BEGIN:STANDARD
TZOFFSETFROM:-0400
TZOFFSETTO:-0500
TZNAME:EST
DTSTART:20241103T060000
END:STANDARD
END:VTIMEZONE
BEGIN:VEVENT
DTSTART;TZID=America/New_York:20240703T173000
DTEND;TZID=America/New_York:20240703T180500
DTSTAMP:20260423T064405
CREATED:20240507T213831Z
LAST-MODIFIED:20240611T202344Z
UID:10003268-1720027800-1720029900@www.scandinaviahouse.org
SUMMARY:GALLERY TOURS: FOG SWEPT CARGO
DESCRIPTION:*Please note that the exhibition tour on June 12\, 2024 has been canceled.*\nOn view from April 13\, 2024 to July 6\, 2024 at Scandinavia House\, Fog Swept Cargo features the striking diversity of contemporary art from the Faroe Islands. In this guided tour by Emily Stoddart\, ASF’s Manager of Exhibitions & Community Programs\, learn about the artists in this exhibition and their works. \nThese free\, 35-minute public tours meet in the Gallery elevator lobby. Gallery tours are subject to change; please check with the Scandinavia House front desk or email info@amscan.org. \nRegister
URL:https://www.scandinaviahouse.org/event/gallery-tours-fog-swept-cargo/2024-07-03/
LOCATION:Scandinavia House\, 58 Park Avenue\, New York\, NY\, 10016\, United States
ATTACH;FMTTYPE=image/jpeg:https://www.scandinaviahouse.org/wp-content/uploads/2024/04/Fog-Swept-1-scaled.jpg
END:VEVENT
BEGIN:VEVENT
DTSTART;TZID=America/New_York:20240704T080000
DTEND;TZID=America/New_York:20240704T210000
DTSTAMP:20260423T064405
CREATED:20240626T222359Z
LAST-MODIFIED:20240703T182748Z
UID:10003282-1720080000-1720126800@www.scandinaviahouse.org
SUMMARY:HOLIDAY CLOSURE
DESCRIPTION:Scandinavia House will be closed on Thursday\, July 4 for Independence Day. This includes Björk Café and Bistro\, the Shop at Scandinavia House\, and Offices at Scandinavia House. We will reopen with normal hours for all spaces\, including the Children’s Center and Galleries\, on Friday\, July 5. \nSee you after the holiday!
URL:https://www.scandinaviahouse.org/event/holiday-closure-3/
LOCATION:Scandinavia House\, 58 Park Avenue\, New York\, NY\, 10016\, United States
ATTACH;FMTTYPE=image/jpeg:https://www.scandinaviahouse.org/wp-content/uploads/2018/06/Fireworks_Pixababy.jpg
END:VEVENT
BEGIN:VEVENT
DTSTART;TZID=America/New_York:20240709T120000
DTEND;TZID=America/New_York:20240709T133000
DTSTAMP:20260423T064405
CREATED:20240522T182306Z
LAST-MODIFIED:20240522T182427Z
UID:10003272-1720526400-1720531800@www.scandinaviahouse.org
SUMMARY:THE DANISH SECRET TO HAPPY KIDS | VIRTUAL BOOK TALK WITH HELEN RUSSELL
DESCRIPTION:Join us July 9 with a virtual discussion with Helen Russell to celebrate the launch of The Danish Secret to Happy Kids! She’ll join us for a talk and Q&A on her deeply-researched guide to the Danish way of parenting\, out today from Source Books. \nWhat do Vikings know about raising children? Turns out\, quite a bit. After a decade of living and raising her family in Denmark\, Russell noticed important differences in Danish kids. They eat differently\, learn differently\, and even sleep differently. They’re out in nature for hours a day\, though it’s dark October through March. And then they grow up to be some of the happiest adults on the planet. So her question was: how? \nThe Danish Secret to Happy Kids shares what author Helen Russell has learned first-hand and through talking to Nordic psychologists\, sociologists and teachers about rearing well-balanced children. In doing so\, she dives into the parenting culture of Denmark and other Nordic nations\, from parental leave to school structure to screen time. Combining intellectual curiosity and research with observation\, this is a positive\, thought-provoking parenting book for readers curious about cultural differences. \nRegister
URL:https://www.scandinaviahouse.org/event/the-danish-secret-to-happy-kids-virtual-book-talk-with-helen-russell/
LOCATION:NY
ATTACH;FMTTYPE=image/jpeg:https://www.scandinaviahouse.org/wp-content/uploads/2024/05/Helen-Web-Image_Event-scaled.jpg
END:VEVENT
BEGIN:VEVENT
DTSTART;TZID=America/New_York:20240709T190000
DTEND;TZID=America/New_York:20240709T210000
DTSTAMP:20260423T064405
CREATED:20240529T184758Z
LAST-MODIFIED:20240709T225320Z
UID:10002476-1720551600-1720558800@www.scandinaviahouse.org
SUMMARY:TOUCH
DESCRIPTION:On July 9 & 10\, see Baltasar Kormákur’s Touch\, a thrilling love story spanning decades and continents\, in theaters on July 12! \nBased on the bestselling novel of Ólafur J. Ólafsson\, Touch follows a widower’s emotional journey to find his first love before his time runs out. When Icelandic restaurateur Kristófer receives startling news\, he sets out to track down a woman he knew long ago — Miko\, who abruptly disappeared from London 50 years ago. The journey that unfolds reveals what may have been and may be yet to come. \nSpecial thanks to Focus Features. \nPhoto by Lilja Jonsdottir \nPurchase Tickets
URL:https://www.scandinaviahouse.org/event/touch/2024-07-09/
LOCATION:Scandinavia House\, 58 Park Avenue\, New York\, NY\, 10016\, United States
ATTACH;FMTTYPE=image/jpeg:https://www.scandinaviahouse.org/wp-content/uploads/2024/05/4166_D037_00006_R_Web-scaled.jpg
END:VEVENT
BEGIN:VEVENT
DTSTART;TZID=America/New_York:20240710T190000
DTEND;TZID=America/New_York:20240710T210000
DTSTAMP:20260423T064405
CREATED:20240529T184758Z
LAST-MODIFIED:20240709T225320Z
UID:10002477-1720638000-1720645200@www.scandinaviahouse.org
SUMMARY:TOUCH
DESCRIPTION:On July 9 & 10\, see Baltasar Kormákur’s Touch\, a thrilling love story spanning decades and continents\, in theaters on July 12! \nBased on the bestselling novel of Ólafur J. Ólafsson\, Touch follows a widower’s emotional journey to find his first love before his time runs out. When Icelandic restaurateur Kristófer receives startling news\, he sets out to track down a woman he knew long ago — Miko\, who abruptly disappeared from London 50 years ago. The journey that unfolds reveals what may have been and may be yet to come. \nSpecial thanks to Focus Features. \nPhoto by Lilja Jonsdottir \nPurchase Tickets
URL:https://www.scandinaviahouse.org/event/touch/2024-07-10/
LOCATION:Scandinavia House\, 58 Park Avenue\, New York\, NY\, 10016\, United States
ATTACH;FMTTYPE=image/jpeg:https://www.scandinaviahouse.org/wp-content/uploads/2024/05/4166_D037_00006_R_Web-scaled.jpg
END:VEVENT
BEGIN:VEVENT
DTSTART;TZID=America/New_York:20240716T180000
DTEND;TZID=America/New_York:20240716T190000
DTSTAMP:20260423T064405
CREATED:20240515T223406Z
LAST-MODIFIED:20240523T182713Z
UID:10003270-1721152800-1721156400@www.scandinaviahouse.org
SUMMARY:FISHING FOR THE LITTLE PIKE BY JUHANI KARILA | NORDIC BOOK CLUB ONLINE
DESCRIPTION:Read and discuss literature with our Nordic Book Club Online! On July 16\, translator Lola Rogers will be present as a special guest for a discussion of Finnish author Juhani Karila’s English-language debut Fishing for the Little Pike\, a genre-defying tale of a young woman’s pilgrimage to her home in Lapland. *The program will begin with a short discussion with Lola Rogers on the book and her translation\, followed by a Q&A with Nordic Book Club attendees.* \nWhen Elina makes her annual summer trip to her remote family farm in Lapland\, she has an important mission: catch the pike in their local pond in three days\, or she and the love of her life will die. Despite her usual success\, this year’s trip grows difficult when deadly supernatural creatures intervene\, and a murder detective arrives. Can Elina catch the pike and end the curse that began when a youthful love affair turned sour? Will Sergeant Janatuinen make it back to civilization in one piece? And why is Lapland in summer so weird? \nFishing for the Little Pike is an audacious\, satisfying blend of fantasy\, folk tale\, and nature writing. \n“Karila keeps things fanciful and funny even as the story’s folklore elements descend into the dark and disturbing\, thanks to his exuberant embrace of the godforsaken landscape and its inhabitants. This twisted love letter to the rural region leaves a lasting impression.”— Publishers Weekly \nREGISTER
URL:https://www.scandinaviahouse.org/event/fishing-for-the-little-pike-by-juhani-karila-nordic-book-club-online/
LOCATION:Scandinavia House\, 58 Park Avenue\, New York\, NY\, 10016\, United States
ATTACH;FMTTYPE=image/jpeg:https://www.scandinaviahouse.org/wp-content/uploads/2024/05/Pike_Book-Club_Web-scaled.jpg
END:VEVENT
BEGIN:VEVENT
DTSTART;TZID=America/New_York:20240716T190000
DTEND;TZID=America/New_York:20240716T213000
DTSTAMP:20260423T064405
CREATED:20240530T190822Z
LAST-MODIFIED:20240531T184413Z
UID:10002475-1721156400-1721165400@www.scandinaviahouse.org
SUMMARY:FREYDÍS AND GUDRID
DESCRIPTION:On July 16\, join us for a screening and film talk on Freydís and Gudrid\, an epic musical based on the Icelandic Vinland sagas\, with director/writer/composer and ASF Fellow Jeffrey Leiser! \nWritten in the 13th century\, the Saga of the Greenlanders and Eirik the Red’s Saga contain the first-ever descriptions of North America through seafaring adventures amid storms\, disease and navigational mishaps. Written\, directed\, and composed by Leiser\, this operatic adaptation follows a group of merchants on a journey to reclaim ancestral lands\, as two women — Freydís (Kirsten Chambers) and Gudrid (Micaëla Oeste) — face a brutal reckoning. Created with the support of ASF\, Freydís and Gudrid will also be available as an opera album on iTunes and Spotify on July 7. \nPurchase Tickets
URL:https://www.scandinaviahouse.org/event/freydis-and-gudrid/
LOCATION:Scandinavia House\, 58 Park Avenue\, New York\, NY\, 10016\, United States
CATEGORIES:Films
ATTACH;FMTTYPE=image/png:https://www.scandinaviahouse.org/wp-content/uploads/2024/05/FG24_New-Micaela-Still-Poster-Full-Frame_WEB.png
END:VEVENT
BEGIN:VEVENT
DTSTART;TZID=America/New_York:20240731T195000
DTEND;TZID=America/New_York:20240731T213000
DTSTAMP:20260423T064405
CREATED:20240618T214835Z
LAST-MODIFIED:20240620T172743Z
UID:10003273-1722455400-1722461400@www.scandinaviahouse.org
SUMMARY:SWEDISH INTERMEDIATE 1
DESCRIPTION:Learn the Nordic languages in classes offered this summer at Scandinavia House! In this course\, the focus will be primarily on conversation. Students will discuss various subjects brought up in each chapter via informative texts\, with topics spanning subjects such as Swedish cultural and social life\, wild animals\, historical figures\, politics and more. The grammar is overall a comprehensive repetition of the beginner levels\, while also introducing a few new things like reflexive pronouns\, the present participle and the conditional. Several books will be assigned over the course of the semester. Intermediate 1 runs over three semesters and courses can be taken in any order. \nThis class will take place on Wednesday evenings. Because of elevator maintenance work at Scandinavia House all July and August classes will be held online. \nPre-requisite: completion of beginner levels or equivalent. Instructions for remote learning will be emailed upon registration. For questions about language levels\, please contact Malin Tybahl. Tuition is $499 ($449.10 ASF Members); 15 hours total class time over 9 weeks. \nRegister
URL:https://www.scandinaviahouse.org/event/swedish-intermediate-1-4/2024-07-31/
LOCATION:Scandinavia House\, 58 Park Avenue\, New York\, NY\, 10016\, United States
END:VEVENT
END:VCALENDAR