BEGIN:VCALENDAR
VERSION:2.0
PRODID:-//Scandinavia House - ECPv6.15.3//NONSGML v1.0//EN
CALSCALE:GREGORIAN
METHOD:PUBLISH
X-ORIGINAL-URL:https://www.scandinaviahouse.org
X-WR-CALDESC:Events for Scandinavia House
REFRESH-INTERVAL;VALUE=DURATION:PT1H
X-Robots-Tag:noindex
X-PUBLISHED-TTL:PT1H
BEGIN:VTIMEZONE
TZID:America/New_York
BEGIN:DAYLIGHT
TZOFFSETFROM:-0500
TZOFFSETTO:-0400
TZNAME:EDT
DTSTART:20240310T070000
END:DAYLIGHT
BEGIN:STANDARD
TZOFFSETFROM:-0400
TZOFFSETTO:-0500
TZNAME:EST
DTSTART:20241103T060000
END:STANDARD
END:VTIMEZONE
BEGIN:VEVENT
DTSTART;TZID=America/New_York:20240904T195000
DTEND;TZID=America/New_York:20240904T213000
DTSTAMP:20260422T212717
CREATED:20240618T214835Z
LAST-MODIFIED:20240620T172743Z
UID:10003278-1725479400-1725485400@www.scandinaviahouse.org
SUMMARY:SWEDISH INTERMEDIATE 1
DESCRIPTION:Learn the Nordic languages in classes offered this summer at Scandinavia House! In this course\, the focus will be primarily on conversation. Students will discuss various subjects brought up in each chapter via informative texts\, with topics spanning subjects such as Swedish cultural and social life\, wild animals\, historical figures\, politics and more. The grammar is overall a comprehensive repetition of the beginner levels\, while also introducing a few new things like reflexive pronouns\, the present participle and the conditional. Several books will be assigned over the course of the semester. Intermediate 1 runs over three semesters and courses can be taken in any order. \nThis class will take place on Wednesday evenings. Because of elevator maintenance work at Scandinavia House all July and August classes will be held online. \nPre-requisite: completion of beginner levels or equivalent. Instructions for remote learning will be emailed upon registration. For questions about language levels\, please contact Malin Tybahl. Tuition is $499 ($449.10 ASF Members); 15 hours total class time over 9 weeks. \nRegister
URL:https://www.scandinaviahouse.org/event/swedish-intermediate-1-4/2024-09-04/
LOCATION:Scandinavia House\, 58 Park Avenue\, New York\, NY\, 10016\, United States
END:VEVENT
BEGIN:VEVENT
DTSTART;TZID=America/New_York:20240905T160000
DTEND;TZID=America/New_York:20240905T180000
DTSTAMP:20260422T212717
CREATED:20240813T011301Z
LAST-MODIFIED:20240813T175151Z
UID:10002524-1725552000-1725559200@www.scandinaviahouse.org
SUMMARY:DESIGNING WITH NATURE | PANEL WITH BLUE LAGOON ICELAND
DESCRIPTION:Join us for A Taste of Iceland New York this September\, organized by Inspired by Iceland! On September 5 at Scandinavia House\, Blue Lagoon Iceland will present a discussion about emergency design and its role during times of seismic activity\, held in collaboration with Iceland Design and Architecture and DesignMarch. \nTumultuous events have greatly influenced Icelandic companies over the past decades. The economic collapse\, the 2010 Eyjafjallajökull Volcano eruption\, the COVID pandemic\, and now seismic activity on the Reykjanes Peninsula have forced Icelanders to repeatedly adapt and adjust. Thanks to the Icelandic can-do attitude\, our society has met these challenges with optimism and creative thinking at the forefront. \nAt Blue Lagoon\, design and design thinking have been a cornerstone from the beginning. The company has applied design thinking to learn from each tumultuous event and utilized that knowledge when necessary. At the same time\, Blue Lagoon has worked on defining new ways to coexist with nature. \nThis event aims to put the dialogue about emergency design on the agenda and share knowledge about the role design can play in uncertain times. \nHost: Halla Helgadóttir\, managing director of Iceland Design and Architecture \nSpeakers: \nSigurður Þorsteinsson\, Head of Brand\, Marketing\, Design and Construction at Blue Lagoon.\nArnhildur Pálmadóttir\, Owner of s.ap Architects and Lendager in Iceland.\nRobert Kirkbride\, Ph.D\, Parsons School of Design on Creating Design Solutions for Natural Disasters. \nRegister
URL:https://www.scandinaviahouse.org/event/designing-with-nature-panel-with-blue-lagoon-iceland/
LOCATION:Scandinavia House\, 58 Park Avenue\, New York\, NY\, 10016\, United States
ATTACH;FMTTYPE=image/jpeg:https://www.scandinaviahouse.org/wp-content/uploads/2024/08/Screenshot_8-8-2024_131020_www.inspiredbyiceland.com_-scaled.jpg
END:VEVENT
BEGIN:VEVENT
DTSTART;TZID=America/New_York:20240907T130000
DTEND;TZID=America/New_York:20240907T143000
DTSTAMP:20260422T212717
CREATED:20240813T010633Z
LAST-MODIFIED:20240813T175538Z
UID:10003290-1725714000-1725719400@www.scandinaviahouse.org
SUMMARY:ICELAND'S CRIME FICTION ROYALTY | RAGNAR JÓNASSON & YRSA SIGURÐARDÓTTIR
DESCRIPTION:Join us for A Taste of Iceland in New York this September\, organized by Inspired by Iceland! On September 7 at Scandinavia House\, bestselling authors Ragnar Jónasson and Yrsa Sigurðardóttir\, known as the Queen and King of Icelandic crime fiction\, will be joined for a conversation moderated by Anna-Sigga Nicolazzi\, a former NYC homicide prosecutor and creator of the “Anatomy of Murder” podcast. \nIn this program\, the authors will discuss their novels\, as well as the literature festival they run as a side hustle. Ragnar Jónasson’s Reykjavík\, a crime novel he co-authored with former Icelandic Prime Minister Katrín Jakobsdóttir\, involves the disappearance of a young woman from picturesque Viðey island and the ensuing investigation spanning decades. The story is set in part during the 200th anniversary of the city of Reykjavík in 1986\, allowing the reader a glimpse into a world gone by. Jónasson will also discuss this as well as his latest book\, Death at the Sanatorium\, which will be released in the U.S. on September 10. \nYrsa Sigurðardóttir will discuss The Legacy\, the first book in the Huldar and Freyja series with child psychologist Freyja and policeman Huldar\, who must set aside their differences to solve a highly oddly executed murder of a young mother\, witnessed only by her silent young daughter. The Legacy was awarded the Blooddrop award for best crime novel in Iceland the year it came out and also includes one of the most innovative murder methods in recent crime novel publications. \nCopies of Reykjavík\, The Legacy and Death at the Sanatorium will all be available for purchase and signing after the event. \nRegister
URL:https://www.scandinaviahouse.org/event/icelands-crime-fiction-royalty-ragnar-jonasson-yrsa-sigurdardottir/
LOCATION:Scandinavia House\, 58 Park Avenue\, New York\, NY\, 10016\, United States
ATTACH;FMTTYPE=image/jpeg:https://www.scandinaviahouse.org/wp-content/uploads/2024/08/Screenshot_8-8-2024_13950_www.inspiredbyiceland.com_-scaled.jpg
END:VEVENT
BEGIN:VEVENT
DTSTART;TZID=America/New_York:20240910T180000
DTEND;TZID=America/New_York:20240910T190000
DTSTAMP:20260422T212717
CREATED:20240717T222017Z
LAST-MODIFIED:20240717T224213Z
UID:10003284-1725991200-1725994800@www.scandinaviahouse.org
SUMMARY:HEROSTORIES | NORDIC BOOK CLUB ONLINE
DESCRIPTION:Read and discuss literature with our Nordic Book Club Online! On September 10 in coordination with this month’s Taste of Iceland festival\, we’ll be discussing Herostories\, a work from Icelandic poet-historian Kristín Svava Tómasdóttir composed from the memoirs and biographies of 100 Icelandic midwives\, out now in translation by K.B. Thors from Deep Vellum. \nHerostories reveals tales untold by most history books: the harrowing journeys and vital triumphs of 19th- and 20th-century midwifery in the vast landscape of Iceland. Forgoing traditional sagas of androcentric conquest\, these poems center the adventures of ljósmæður\, “mothers of light.” Tómasdóttir leverages epic elements—dashing mountain treks\, rivers forded on horseback\, unyielding compassion—to challenge how and by whom stories become legend. Beyond archival recognition\, the text’s formally ambitious poetics render gender-based battles for literacy and education alongside narratives of selfless womanly caretaking\, pressurizing the fundamental tensions between feminine self-actualization and the romanticized service of these trailblazing figures. \nThe follow-up to Tómasdóttir and Thors’ award-winning\, PEN-nominated Stormwarning\, Herostories documents the professional achievements of Iceland’s first women to work outside the home\, precursors to today’s midwives who remain central to contemporary health care on the island. \nRegister
URL:https://www.scandinaviahouse.org/event/herostories-nordic-book-club-online/
LOCATION:NY
ATTACH;FMTTYPE=image/jpeg:https://www.scandinaviahouse.org/wp-content/uploads/2024/07/Book-Club-Test-Herostories-scaled.jpg
END:VEVENT
BEGIN:VEVENT
DTSTART;TZID=America/New_York:20240910T190000
DTEND;TZID=America/New_York:20240910T210000
DTSTAMP:20260422T212717
CREATED:20240820T191323Z
LAST-MODIFIED:20240827T225122Z
UID:10002537-1725994800-1726002000@www.scandinaviahouse.org
SUMMARY:"TOUCHING MAGIC" WITH FINLANDIA FOUNDATION | SIBELIUS ACADEMY & THE JUILLIARD SCHOOL
DESCRIPTION:Join us for  an evening of “Touching Magic” with Finlandia Foundation on September 10! An artistically unique transatlantic music project featuring students from Sibelius Academy at the University of the Arts Helsinki and the Ellen and James S. Marcus Institute for Vocal Arts at The Juilliard School\, “Touching Magic” has brought together young vocalists and pianists from both institutions to perform classical Nordic and contemporary American pieces in Helsinki and NYC. \nTonight’s program will comprise a presentation of the project by Brian Zeger (Artistic Director of the Ellen and James S. Marcus Institute for Vocal Arts\, The Juilliard School) and Markus Lehtinen (Professor of Opera and Vocal Music\, Sibelius Academy\, University of the Arts Helsinki)\, as well as a performance of American and Finnish songs with students from both schools: Francesco Barfoed\, Jack Hicks\, Kiia Nordlund\, Gabriel Kivivuori Sereno\, Adelia Spångberg and Abla Benzemroun. It will conclude with a student panel discussion. \nThis event has been organized by Scandinavia House with Finlandia Foundation National. Join us to celebrate the connecting power of music! \nRegister
URL:https://www.scandinaviahouse.org/event/touching-magic-with-finlandia-foundation-performance-with-sibelius-academy-the-juilliard-school/
LOCATION:Scandinavia House\, 58 Park Avenue\, New York\, NY\, 10016\, United States
ATTACH;FMTTYPE=image/jpeg:https://www.scandinaviahouse.org/wp-content/uploads/2024/08/b5959a56-1920-lehtinen-zeger-1200x675_WEB-scaled.jpg
END:VEVENT
BEGIN:VEVENT
DTSTART;TZID=America/New_York:20240911T195000
DTEND;TZID=America/New_York:20240911T213000
DTSTAMP:20260422T212717
CREATED:20240618T214835Z
LAST-MODIFIED:20240620T172743Z
UID:10003279-1726084200-1726090200@www.scandinaviahouse.org
SUMMARY:SWEDISH INTERMEDIATE 1
DESCRIPTION:Learn the Nordic languages in classes offered this summer at Scandinavia House! In this course\, the focus will be primarily on conversation. Students will discuss various subjects brought up in each chapter via informative texts\, with topics spanning subjects such as Swedish cultural and social life\, wild animals\, historical figures\, politics and more. The grammar is overall a comprehensive repetition of the beginner levels\, while also introducing a few new things like reflexive pronouns\, the present participle and the conditional. Several books will be assigned over the course of the semester. Intermediate 1 runs over three semesters and courses can be taken in any order. \nThis class will take place on Wednesday evenings. Because of elevator maintenance work at Scandinavia House all July and August classes will be held online. \nPre-requisite: completion of beginner levels or equivalent. Instructions for remote learning will be emailed upon registration. For questions about language levels\, please contact Malin Tybahl. Tuition is $499 ($449.10 ASF Members); 15 hours total class time over 9 weeks. \nRegister
URL:https://www.scandinaviahouse.org/event/swedish-intermediate-1-4/2024-09-11/
LOCATION:Scandinavia House\, 58 Park Avenue\, New York\, NY\, 10016\, United States
END:VEVENT
BEGIN:VEVENT
DTSTART;TZID=America/New_York:20240914T140000
DTEND;TZID=America/New_York:20240914T160000
DTSTAMP:20260422T212717
CREATED:20240827T165210Z
LAST-MODIFIED:20240903T180246Z
UID:10002541-1726322400-1726329600@www.scandinaviahouse.org
SUMMARY:TEXTILE TAKEOVER: ARTIST TALKS\, PANEL & RECEPTION
DESCRIPTION:Join us on Saturday\, September 14 for a program and opening reception for TEXTILE TAKEOVER. Featuring an artist & curator-led walkthrough of the exhibition in the Scandinavia House Galleries\, the tour will be followed by “Nordic Movements in Contemporary Textiles” a presentation by Evelina Hedin\, international coordinator at the Swedish Crafts Centre in Stockholm. Following a short break\, a panel discussion featuring artists Isabel Berglund (DK)\, Mariana Silva Varela (SE)\, Ingunn Fjola Ingthorsdottir (IS)\, Evelina Hedin (SE) and Kathy Halfin (US)\, moderated by Emily Stoddart\, will discuss themes and concerns related to contemporary Nordic textiles and craft today. An opening reception will round out the afternoon. Presented in partnership with New York Textile Month\, and the Swedish Craft Centre. \nTEXTILE TAKEOVER is presented in partnership with New York Textile Month. \nPurchase Tickets
URL:https://www.scandinaviahouse.org/event/textile-takeover-artist-talks-panel-reception/
LOCATION:Scandinavia House\, 58 Park Avenue\, New York\, NY\, 10016\, United States
ATTACH;FMTTYPE=image/jpeg:https://www.scandinaviahouse.org/wp-content/uploads/2024/08/mariana_silva_varela_press_photo_WEB-scaled.jpg
END:VEVENT
BEGIN:VEVENT
DTSTART;TZID=America/New_York:20240914T170000
DTEND;TZID=America/New_York:20240914T190000
DTSTAMP:20260422T212717
CREATED:20240821T221125Z
LAST-MODIFIED:20240821T221125Z
UID:10002539-1726333200-1726340400@www.scandinaviahouse.org
SUMMARY:FAMILY DINNER | BJÖRK CAFE & BISTRO
DESCRIPTION:Join us for a family dinner at Björk Cafe & Bistro! Tonight’s dining from 5-7 PM will feature a supervised craft table for kids\, with a special kids menu of $30 per child. \n  \nRESERVATIONS
URL:https://www.scandinaviahouse.org/event/family-dinner-bjork-cafe-bistro/
LOCATION:Björk Cafe & Bistro at Scandinavia House\, 58 Park Ave\, New York\, NY\, 10016\, United States
ATTACH;FMTTYPE=image/jpeg:https://www.scandinaviahouse.org/wp-content/uploads/2024/08/70_Edit-scaled.jpg
END:VEVENT
BEGIN:VEVENT
DTSTART;TZID=America/New_York:20240915T130000
DTEND;TZID=America/New_York:20240915T160000
DTSTAMP:20260422T212717
CREATED:20240812T203400Z
LAST-MODIFIED:20240903T175642Z
UID:10003289-1726405200-1726416000@www.scandinaviahouse.org
SUMMARY:TEXTILE TAKEOVER | WORKSHOP WITH ISABEL BERGLUND
DESCRIPTION:Presented in TEXTILE TAKEOVER\, a weekend-long showcase of innovation in Nordic textile art at Scandinavia House\, join us for an adult art workshop with Danish artist Isabel Berglund! In this three-hour workshop\, participants will join Berglund in creating a performance-piece\, “People’s Paper Puff Jumper\,” a work knitted by hand in paper yarn. The participants in the workshop will hand knit puff sleeves in light gray paper yarn with a colored edge that emphasizes the puff sleeve. The puff sleeve will be added to a larger hand-knitted piece\, which will eventually become a large textile installation in the form of a communal paper sweater. The viewer will be able to enter the work and stick their arms through the pouffe arms and thereby become part of the work. The craft of “knitting” is set aside for a process where the work is created by the handprints of many different people. \nAll materials will be provided. TEXTILE TAKEOVER is presented in partnership with New York Textile Month. \nRegister
URL:https://www.scandinaviahouse.org/event/textile-takeover-workshop-with-isabel-berglund/
LOCATION:Scandinavia House\, 58 Park Avenue\, New York\, NY\, 10016\, United States
ATTACH;FMTTYPE=image/jpeg:https://www.scandinaviahouse.org/wp-content/uploads/2024/08/20EE7383-9490-4FCE-8E55-C78D4BB5963B_Web-scaled.jpg
END:VEVENT
BEGIN:VEVENT
DTSTART;TZID=America/New_York:20240918T190000
DTEND;TZID=America/New_York:20240918T210000
DTSTAMP:20260422T212717
CREATED:20240829T205448Z
LAST-MODIFIED:20240913T163027Z
UID:10003321-1726686000-1726693200@www.scandinaviahouse.org
SUMMARY:SUMMERLIGHT AND THEN COMES THE NIGHT
DESCRIPTION:“Adalsteins’ eye for detail and the picture’s persuasive sense of place and of community carries us along for the leisurely\, meandering ride” (ScreenDaily). \nOn September 18\, join us for a screening of Summerlight and Then Comes the Night\, based on the popular novel by Icelandic author Jón Kalman Stefánsson. *The screening will be followed by a panel with Stefánsson\, film director Elfar Adalsteins\, and actress Anna Maria Pitt\, moderated by author Sigridur Hagalin Bjornsdottir* \nThis little Icelandic village is brimming with stories\, and if you listen closely\, it might tell you a few tales. Perhaps the one about the prominent businessman who dreams in Latin and sacrifices a promising career for astronomy and old books. Or perhaps you’ll hear the one about the policeman’s son\, a sensitive boy who paints and carves birds and dreams of being an artist. Or maybe the one about the wild\, open-air sex with explosive consequences. Or the one about the big rock that can break the finely woven thread running between life and death… Starring Heida Reed\, Ólafur Darri Ólafsson\, Svandis Dora Einarsdottir\, and others\, Summerlight and Then Comes the Night (Sumarljós og svo kemur nóttin\, dir. Elfar Adalsteins\, Iceland/Belgium/Sweden\, 2022) takes us on an intimate journey through a small town with great magic. \nPurchase Tickets
URL:https://www.scandinaviahouse.org/event/summerlight-and-then-comes-the-night/
LOCATION:Scandinavia House\, 58 Park Avenue\, New York\, NY\, 10016\, United States
ATTACH;FMTTYPE=image/jpeg:https://www.scandinaviahouse.org/wp-content/uploads/2024/08/still1-1_WEB-scaled.jpg
END:VEVENT
BEGIN:VEVENT
DTSTART;TZID=America/New_York:20240918T195000
DTEND;TZID=America/New_York:20240918T213000
DTSTAMP:20260422T212717
CREATED:20240618T214835Z
LAST-MODIFIED:20240620T172743Z
UID:10003280-1726689000-1726695000@www.scandinaviahouse.org
SUMMARY:SWEDISH INTERMEDIATE 1
DESCRIPTION:Learn the Nordic languages in classes offered this summer at Scandinavia House! In this course\, the focus will be primarily on conversation. Students will discuss various subjects brought up in each chapter via informative texts\, with topics spanning subjects such as Swedish cultural and social life\, wild animals\, historical figures\, politics and more. The grammar is overall a comprehensive repetition of the beginner levels\, while also introducing a few new things like reflexive pronouns\, the present participle and the conditional. Several books will be assigned over the course of the semester. Intermediate 1 runs over three semesters and courses can be taken in any order. \nThis class will take place on Wednesday evenings. Because of elevator maintenance work at Scandinavia House all July and August classes will be held online. \nPre-requisite: completion of beginner levels or equivalent. Instructions for remote learning will be emailed upon registration. For questions about language levels\, please contact Malin Tybahl. Tuition is $499 ($449.10 ASF Members); 15 hours total class time over 9 weeks. \nRegister
URL:https://www.scandinaviahouse.org/event/swedish-intermediate-1-4/2024-09-18/
LOCATION:Scandinavia House\, 58 Park Avenue\, New York\, NY\, 10016\, United States
END:VEVENT
BEGIN:VEVENT
DTSTART;TZID=America/New_York:20240920T183000
DTEND;TZID=America/New_York:20240920T203000
DTSTAMP:20260422T212717
CREATED:20240911T192004Z
LAST-MODIFIED:20240916T133420Z
UID:10003392-1726857000-1726864200@www.scandinaviahouse.org
SUMMARY:HACKING HATE | SCREENING & FILM TALK WITH SIMON KLOSE
DESCRIPTION:Join us on Friday\, September 20 for a special screening and film talk on Hacking Hate\, Simon Klose’s kinetic and socially-pressing documentary following award-winning Swedish journalist My Vingren as she goes undercover online to expose a network of neo-Nazis and far-right organizations fostering hate speech and extremism on a global scale. \nSocial media has become a major vehicle for spreading hate speech and a safe harbor for authoritarian agendas. With the U.S. elections on the doorstep\, this screening of Hacking Hate is essential to understand the reasons for the rise of hateful content and disinformation as well as ways to hold social media companies accountable for their role in proliferating hate online. This event is a special impact screening co-hosted by Think-Film Impact Production and includes a post-screening Q&A with director Simon Klose. \nWinner of Best Documentary Feature at Tribeca Film Festival. “Hacking Hate provides a bracing insider’s look at the grossness that proliferates throughout [social media’s] right-wing regions” (Nick Schager\, The Daily Beast). \nRegister
URL:https://www.scandinaviahouse.org/event/hacking-hate-screening-film-talk-with-simon-klose/
LOCATION:Scandinavia House\, 58 Park Avenue\, New York\, NY\, 10016\, United States
ATTACH;FMTTYPE=image/jpeg:https://www.scandinaviahouse.org/wp-content/uploads/2024/08/1-MAIN-IMAGE_My-Vingren_Photographer-Simon-Klose_WEB-scaled.jpg
END:VEVENT
BEGIN:VEVENT
DTSTART;TZID=America/New_York:20240925T195000
DTEND;TZID=America/New_York:20240925T213000
DTSTAMP:20260422T212717
CREATED:20240618T214835Z
LAST-MODIFIED:20240620T172743Z
UID:10003281-1727293800-1727299800@www.scandinaviahouse.org
SUMMARY:SWEDISH INTERMEDIATE 1
DESCRIPTION:Learn the Nordic languages in classes offered this summer at Scandinavia House! In this course\, the focus will be primarily on conversation. Students will discuss various subjects brought up in each chapter via informative texts\, with topics spanning subjects such as Swedish cultural and social life\, wild animals\, historical figures\, politics and more. The grammar is overall a comprehensive repetition of the beginner levels\, while also introducing a few new things like reflexive pronouns\, the present participle and the conditional. Several books will be assigned over the course of the semester. Intermediate 1 runs over three semesters and courses can be taken in any order. \nThis class will take place on Wednesday evenings. Because of elevator maintenance work at Scandinavia House all July and August classes will be held online. \nPre-requisite: completion of beginner levels or equivalent. Instructions for remote learning will be emailed upon registration. For questions about language levels\, please contact Malin Tybahl. Tuition is $499 ($449.10 ASF Members); 15 hours total class time over 9 weeks. \nRegister
URL:https://www.scandinaviahouse.org/event/swedish-intermediate-1-4/2024-09-25/
LOCATION:Scandinavia House\, 58 Park Avenue\, New York\, NY\, 10016\, United States
END:VEVENT
BEGIN:VEVENT
DTSTART;TZID=America/New_York:20240929T140000
DTEND;TZID=America/New_York:20240929T173000
DTSTAMP:20260422T212717
CREATED:20240821T200824Z
LAST-MODIFIED:20240911T222348Z
UID:10002538-1727618400-1727631000@www.scandinaviahouse.org
SUMMARY:SOLD OUT: NORDIC NIGHT WITH EINAR SELVIK OF WARDRUNA
DESCRIPTION:Join us on September 29 for an exclusive U.S. music event with composer Einar Selvik of Wardruna! Having written songs and scores for HBO’s hit series Vikings and the game Assasins Creed Valhalla\, the music of the Norwegian group has received worldwide recognition. Wardruna’s last record\, Kvitrafn\, charted in 13 countries\, including #1 in Canada and Austria\, and #2 in Germany. During this Nordic Night event held in advance of a major upcoming performance at Red Rocks in Colorado\, Selvik will guide the attendees into Wardruna’s universe in word and sound\, exploring nature and animism\, myths\, Norse spiritual concepts and more. Fans will also get a very exclusive preview and premiere of a recently recorded show. \nThe full program will be announced shortly; stay tuned for more details.
URL:https://www.scandinaviahouse.org/event/nordic-night-with-einar-selvik-of-wardruna/
LOCATION:Scandinavia House\, 58 Park Avenue\, New York\, NY\, 10016\, United States
ATTACH;FMTTYPE=image/jpeg:https://www.scandinaviahouse.org/wp-content/uploads/2024/08/World-Tour-24-25-Plain_WEB-scaled.jpg
END:VEVENT
END:VCALENDAR