BEGIN:VCALENDAR
VERSION:2.0
PRODID:-//Scandinavia House - ECPv6.15.3//NONSGML v1.0//EN
CALSCALE:GREGORIAN
METHOD:PUBLISH
X-ORIGINAL-URL:https://www.scandinaviahouse.org
X-WR-CALDESC:Events for Scandinavia House
REFRESH-INTERVAL;VALUE=DURATION:PT1H
X-Robots-Tag:noindex
X-PUBLISHED-TTL:PT1H
BEGIN:VTIMEZONE
TZID:America/New_York
BEGIN:DAYLIGHT
TZOFFSETFROM:-0500
TZOFFSETTO:-0400
TZNAME:EDT
DTSTART:20230312T070000
END:DAYLIGHT
BEGIN:STANDARD
TZOFFSETFROM:-0400
TZOFFSETTO:-0500
TZNAME:EST
DTSTART:20231105T060000
END:STANDARD
END:VTIMEZONE
BEGIN:VEVENT
DTSTART;TZID=America/New_York:20230706T190000
DTEND;TZID=America/New_York:20230706T190000
DTSTAMP:20260420T061617
CREATED:20230706T104237Z
LAST-MODIFIED:20230706T104237Z
UID:10002825-1688670000-1688670000@www.scandinaviahouse.org
SUMMARY:TIMOTHY JOHNSON
DESCRIPTION:Our popular Summer Jazz Series returns to Scandinavia House! This summer we’re presenting performances from some of Scandinavia’s most talented young jazz musicians\, composers\, and singers on Thursday evenings in June and July. \n\n\nOn July 6\, see  a performance by Norwegian guitarist\, composer\, and educator Timothy Johnson with Matt Wong (piano)\, Kanoa Mendenhall (bass)\, and Jongkuk Kim (drums). \nPURCHASE TICKETS
URL:https://www.scandinaviahouse.org/event/timothy-johnson-2/
LOCATION:NY
ATTACH;FMTTYPE=image/jpeg:https://www.scandinaviahouse.org/wp-content/uploads/2023/06/Timothy-Johnson_Elevent.jpg
END:VEVENT
BEGIN:VEVENT
DTSTART;TZID=America/New_York:20230708T130000
DTEND;TZID=America/New_York:20230708T150000
DTSTAMP:20260420T061617
CREATED:20230706T104237Z
LAST-MODIFIED:20230706T104237Z
UID:10002280-1688821200-1688828400@www.scandinaviahouse.org
SUMMARY:PATTERNS\, PATTERNS\, PATTERNS!
DESCRIPTION:Join us at Scandinavia House for a family-friendly art workshop on Nordic pattern design! In this activity for children ages 5-12 and their families\, participants will learn about Swedish and Finnish patterns by Marimekko\, Hilma af Klint\, and more. \n\n\nKids will then learn how to collage patterns of their own under the guidance of Icelandic Teaching Artist Melkorka Helgasdottir\, also known as Korka. \nAll materials are provided. \nPURCHASE TICKETS
URL:https://www.scandinaviahouse.org/event/patterns-patterns-patterns/
LOCATION:NY
ATTACH;FMTTYPE=image/png:https://www.scandinaviahouse.org/wp-content/uploads/2023/06/cf4a28119819153.60a5588fdfe10.png
END:VEVENT
END:VCALENDAR