BEGIN:VCALENDAR
VERSION:2.0
PRODID:-//Scandinavia House - ECPv6.15.3//NONSGML v1.0//EN
CALSCALE:GREGORIAN
METHOD:PUBLISH
X-ORIGINAL-URL:https://www.scandinaviahouse.org
X-WR-CALDESC:Events for Scandinavia House
REFRESH-INTERVAL;VALUE=DURATION:PT1H
X-Robots-Tag:noindex
X-PUBLISHED-TTL:PT1H
BEGIN:VTIMEZONE
TZID:America/New_York
BEGIN:DAYLIGHT
TZOFFSETFROM:-0500
TZOFFSETTO:-0400
TZNAME:EDT
DTSTART:20240310T070000
END:DAYLIGHT
BEGIN:STANDARD
TZOFFSETFROM:-0400
TZOFFSETTO:-0500
TZNAME:EST
DTSTART:20241103T060000
END:STANDARD
END:VTIMEZONE
BEGIN:VEVENT
DTSTART;TZID=America/New_York:20240116T181000
DTEND;TZID=America/New_York:20240116T195000
DTSTAMP:20260419T104302
CREATED:20231130T190237Z
LAST-MODIFIED:20231130T190237Z
UID:10002366-1705428600-1705434600@www.scandinaviahouse.org
SUMMARY:SWEDISH ADVANCED INTERMEDIATE
DESCRIPTION:Learn the Nordic languages in classes offered at Scandinavia House! This course is for students who are slightly more advanced in Swedish\, and are able to speak the language without too much effort\, as well as easily read novels. Students will engage in conversation and discussions\, and themes will be of a more philosophical nature\, involving global questions and fiction. Grammatically\, various structures and conjugations will be reviewed so students can refine their speech and writing. Students will be assigned a book to read during the semester. \nThis class will take place as hybrid learning on Tuesday evenings with classes offered at Scandinavia House and online via Zoom. \nRegister
URL:https://www.scandinaviahouse.org/event/swedish-advanced-intermediate/2024-01-16/
LOCATION:Scandinavia House\, 58 Park Avenue\, New York\, NY\, 10016\, United States
ATTACH;FMTTYPE=image/jpeg:https://www.scandinaviahouse.org/wp-content/uploads/2023/09/simon_paulin-New-Web-scaled.jpg
END:VEVENT
BEGIN:VEVENT
DTSTART;TZID=America/New_York:20240116T200000
DTEND;TZID=America/New_York:20240116T210000
DTSTAMP:20260419T104302
CREATED:20231130T184045Z
LAST-MODIFIED:20231130T184045Z
UID:10003058-1705435200-1705438800@www.scandinaviahouse.org
SUMMARY:SWEDISH ADVANCED BEGINNER 2
DESCRIPTION:Learn the Nordic languages in classes offered this semester at Scandinavia House! In Swedish Advanced Beginner 2\, students will now be ready to work more in depth with structure in various sub-clauses. They will learn how to use the reflexive possessive pronoun and more specific ways to express future tense while slightly more fact-based texts are introduced. The course also includes cultural elements in regards to social and family life\, as well as education. Students will read assigned literary books over the course of the semester. \nThis class will take place as hybrid learning on Tuesdays with classes offered at Scandinavia House and online via Zoom\, and online-only on Thursdays. \nRegister
URL:https://www.scandinaviahouse.org/event/swedish-advanced-beginner-2-3/2024-01-16/
LOCATION:Scandinavia House\, 58 Park Avenue\, New York\, NY\, 10016\, United States
ATTACH;FMTTYPE=image/jpeg:https://www.scandinaviahouse.org/wp-content/uploads/2022/11/emelie_asplund-celebration-5435-2-scaled.jpg
END:VEVENT
BEGIN:VEVENT
DTSTART;TZID=America/New_York:20240117T184000
DTEND;TZID=America/New_York:20240117T194000
DTSTAMP:20260419T104302
CREATED:20241120T193155Z
LAST-MODIFIED:20241120T193155Z
UID:10003035-1705516800-1705520400@www.scandinaviahouse.org
SUMMARY:SWEDISH BEGINNER 2
DESCRIPTION:Learn the Nordic languages in classes offered this winter at Scandinavia House! This course is for those who are still new to Swedish but perhaps have studied some on their own using apps or through other means. Students will have a basic knowledge of sentence structure\, greetings\, know their numbers\, how to tell time and already possess a small but basic vocabulary. This semester the students will move beyond themselves and explore how to buy and order things\, talk about what they do in their spare time\, and read about an historical figure. Grammatically they will expand into other tenses and learn how adjectives and nouns inform each other. Various facets of Swedish life may be discussed during the course. \nThis class will take place as hybrid learning on Mondays with classes offered at Scandinavia House and online via Zoom\, and online-only on Wednesdays. \nRegister
URL:https://www.scandinaviahouse.org/event/swedish-beginner-2-2/2024-01-17/
LOCATION:Scandinavia House\, 58 Park Avenue\, New York\, NY\, 10016\, United States
ATTACH;FMTTYPE=image/jpeg:https://www.scandinaviahouse.org/wp-content/uploads/2022/08/Lars-Lundqvist_Flickr-new-website-scaled.jpg
END:VEVENT
BEGIN:VEVENT
DTSTART;TZID=America/New_York:20240117T190000
DTEND;TZID=America/New_York:20240117T210000
DTSTAMP:20260419T104302
CREATED:20240105T203242Z
LAST-MODIFIED:20240109T200827Z
UID:10003080-1705518000-1705525200@www.scandinaviahouse.org
SUMMARY:BAND
DESCRIPTION:On January 17\, see the riotous new Icelandic documentary Band (dir. Álfrún Örnólfsdóttir\, Iceland\, 2022)! \nA rockumentary in the vein of This is Spinal Tap and Leningrad Cowboys Go America\, Band tells the story of three electro punk musicians who give themselves a deadline by which to go hard or go home. Director Álfrún Örnólfsdóttir and her bandmates Saga and Hrefna of the Post Performance Blues Band are tired of getting paid in beer at hole-in-the-wall venues. Staring down 40 and juggling motherhood with their artistic pursuits\, the three friends give themselves a year to either achieve stardom or break up for good. \nA rollicking but serious parable about ambition\, artmaking\, and gender roles\, Band shows what happens to women with talent but not time in a youth-obsessed industry. \n“Meet Your New Cult Favorites”\n—POV Magazine \n“It’s hilarious. The PPBB [Post Performance Blues Band] exists\, heavens be praised.”\n—Cineuropa\n\nPurchase Tickets
URL:https://www.scandinaviahouse.org/event/band/
LOCATION:Scandinavia House\, 58 Park Avenue\, New York\, NY\, 10016\, United States
ATTACH;FMTTYPE=image/webp:https://www.scandinaviahouse.org/wp-content/uploads/2023/12/BAND_1761.webp
END:VEVENT
BEGIN:VEVENT
DTSTART;TZID=America/New_York:20240117T195000
DTEND;TZID=America/New_York:20240117T205000
DTSTAMP:20260419T104302
CREATED:20241120T193156Z
LAST-MODIFIED:20241120T193156Z
UID:10003050-1705521000-1705524600@www.scandinaviahouse.org
SUMMARY:SWEDISH BEGINNER 3
DESCRIPTION:Learn the Nordic languages in classes offered this semester at Scandinavia House! This course continues to build on our basic skills by deepening the work with adjective conjugation\, prepositions\, modality verbs and the past tense\, while also introducing another verb tense. Various cultural aspects will be highlighted during the course. Students will also begin to read assigned easy-to-read books over the course of the semester. \nThis class will take place as hybrid learning on Mondays with classes offered at Scandinavia House and online via Zoom\, and online-only on Wednesdays. \nRegister
URL:https://www.scandinaviahouse.org/event/swedish-beginner-3/2024-01-17/
LOCATION:Scandinavia House\, 58 Park Avenue\, New York\, NY\, 10016\, United States
ATTACH;FMTTYPE=image/png:https://www.scandinaviahouse.org/wp-content/uploads/2023/08/Screen-Shot-2023-08-31-at-3.30.12-PM.png
END:VEVENT
BEGIN:VEVENT
DTSTART;TZID=America/New_York:20240118T180000
DTEND;TZID=America/New_York:20240118T200000
DTSTAMP:20260419T104302
CREATED:20231222T162907Z
LAST-MODIFIED:20231227T211148Z
UID:10003076-1705600800-1705608000@www.scandinaviahouse.org
SUMMARY:NATURE'S LIGHT — NARRATIVE THREADS ADULT ART WORKSHOP WITH MELKORKA HELGADOTTIR
DESCRIPTION:Join us at Scandinavia House for an adult art workshop and tour of our current exhibition\, Narrative Threads. Inspired by the work of artist Astrid Krogh\, workshop participants will create a light sheet and a found-materials collage. Guided by teaching artist Korka\, participants will use markers\, alcohol\, vegetation\, and plexiglass to create two works of art in a relaxed atmosphere. All materials are provided. \nPurchase Tickets
URL:https://www.scandinaviahouse.org/event/natures-light-narrative-threads-adult-art-workshop-with-melkorka-helgadottir/
LOCATION:Scandinavia House\, 58 Park Avenue\, New York\, NY\, 10016\, United States
ATTACH;FMTTYPE=image/jpeg:https://www.scandinaviahouse.org/wp-content/uploads/2023/12/Astrid_Krogh_09.jpg
END:VEVENT
BEGIN:VEVENT
DTSTART;TZID=America/New_York:20240118T181000
DTEND;TZID=America/New_York:20240118T191000
DTSTAMP:20260419T104302
CREATED:20241120T193158Z
LAST-MODIFIED:20241120T193158Z
UID:10003067-1705601400-1705605000@www.scandinaviahouse.org
SUMMARY:SWEDISH ADVANCED BEGINNER 2
DESCRIPTION:Learn the Nordic languages in classes offered this semester at Scandinavia House! In Swedish Advanced Beginner 2\, students will now be ready to work more in depth with structure in various sub-clauses. They will learn how to use the reflexive possessive pronoun and more specific ways to express future tense while slightly more fact-based texts are introduced. The course also includes cultural elements in regards to social and family life\, as well as education. Students will read assigned literary books over the course of the semester. \nThis class will take place as hybrid learning on Tuesdays with classes offered at Scandinavia House and online via Zoom\, and online-only on Thursdays. \nRegister
URL:https://www.scandinaviahouse.org/event/swedish-advanced-beginner-2-3/2024-01-18/
LOCATION:Scandinavia House\, 58 Park Avenue\, New York\, NY\, 10016\, United States
ATTACH;FMTTYPE=image/jpeg:https://www.scandinaviahouse.org/wp-content/uploads/2022/11/emelie_asplund-celebration-5435-2-scaled.jpg
END:VEVENT
BEGIN:VEVENT
DTSTART;TZID=America/New_York:20240118T192000
DTEND;TZID=America/New_York:20240118T210000
DTSTAMP:20260419T104302
CREATED:20231130T185708Z
LAST-MODIFIED:20231130T185708Z
UID:10002356-1705605600-1705611600@www.scandinaviahouse.org
SUMMARY:SWEDISH INTERMEDIATE 1
DESCRIPTION:Learn the Nordic languages in classes offered at Scandinavia House! In this course held online only\, the focus will be primarily on conversation. Students will discuss various subjects brought up in each chapter via the informative texts\, with topics spanning subjects such as Swedish cultural and social life\, wild animals\, historical figures\, politics and others. The grammar is overall a comprehensive repetition of the beginner levels\, while also introducing a few new things like reflexive pronouns\, the present participle and the conditional. Students will be required to read assigned books over the course of the semester. Intermediate 1 runs over three semesters and can be taken in any order. \nThis class will take place on Thursday evenings (online only). \nRegister
URL:https://www.scandinaviahouse.org/event/swedish-intermediate-1-2/2024-01-18/
LOCATION:NY
ATTACH;FMTTYPE=image/jpeg:https://www.scandinaviahouse.org/wp-content/uploads/2016/07/language-courses-swedish-5.jpg
END:VEVENT
END:VCALENDAR