BEGIN:VCALENDAR
VERSION:2.0
PRODID:-//Scandinavia House - ECPv6.15.3//NONSGML v1.0//EN
CALSCALE:GREGORIAN
METHOD:PUBLISH
X-ORIGINAL-URL:https://www.scandinaviahouse.org
X-WR-CALDESC:Events for Scandinavia House
REFRESH-INTERVAL;VALUE=DURATION:PT1H
X-Robots-Tag:noindex
X-PUBLISHED-TTL:PT1H
BEGIN:VTIMEZONE
TZID:America/New_York
BEGIN:DAYLIGHT
TZOFFSETFROM:-0500
TZOFFSETTO:-0400
TZNAME:EDT
DTSTART:20240310T070000
END:DAYLIGHT
BEGIN:STANDARD
TZOFFSETFROM:-0400
TZOFFSETTO:-0500
TZNAME:EST
DTSTART:20241103T060000
END:STANDARD
END:VTIMEZONE
BEGIN:VEVENT
DTSTART;TZID=America/New_York:20240212T180000
DTEND;TZID=America/New_York:20240212T193000
DTSTAMP:20260419T170852
CREATED:20240117T211005Z
LAST-MODIFIED:20240521T201351Z
UID:10003089-1707760800-1707766200@www.scandinaviahouse.org
SUMMARY:SOLD OUT: HÅKAN | TASTING  & RECEPTION
DESCRIPTION:*This event is now sold out* \nJoin us for a special celebration of the Swedish-American documentary HÅKAN – A Documentary about Chocolate\, Creativity\, and Passion\, an intimate portrait of the legendary chocolatier Håkan Mårtensson\, at Scandinavia House with Björk Cafe & Bistro! Just in time for Valentine’s Day\, this event will begin with a screening of director Charlie Bennet’s highly anticipated film exploring Mårtensson’s life as he opens up about his experiences building HÅKAN Chocolatier during the midst of the COVID-19 pandemic\, and shares why his love for his family and the passion for his craft are the cornerstones of his success. \nMårtensson will be present with director Charlie Bennet following the screening for a chocolate tasting and a conversation with Björk Cafe’s Ulrika Bengtsson. The evening will conclude with a reception featuring Nordic delights from Björk Cafe & Bistro\, and the opportunity to purchase Håkan’s crafted chocolates at a discounted rate.’
URL:https://www.scandinaviahouse.org/event/hakan-a-documentary-about-chocolate-creativity-and-passion-world-premiere-tasting-reception/
LOCATION:Scandinavia House\, 58 Park Avenue\, New York\, NY\, 10016\, United States
CATEGORIES:Films
ATTACH;FMTTYPE=image/jpeg:https://www.scandinaviahouse.org/wp-content/uploads/2024/01/Hakan-WEB-scaled.jpg
END:VEVENT
BEGIN:VEVENT
DTSTART;TZID=America/New_York:20240212T181000
DTEND;TZID=America/New_York:20240212T191000
DTSTAMP:20260419T170852
CREATED:20231130T182951Z
LAST-MODIFIED:20231130T183919Z
UID:10003046-1707761400-1707765000@www.scandinaviahouse.org
SUMMARY:SWEDISH BEGINNER 3
DESCRIPTION:Learn the Nordic languages in classes offered this semester at Scandinavia House! This course continues to build on our basic skills by deepening the work with adjective conjugation\, prepositions\, modality verbs and the past tense\, while also introducing another verb tense. Various cultural aspects will be highlighted during the course. Students will also begin to read assigned easy-to-read books over the course of the semester. \nThis class will take place as hybrid learning on Mondays with classes offered at Scandinavia House and online via Zoom\, and online-only on Wednesdays. \nRegister
URL:https://www.scandinaviahouse.org/event/swedish-beginner-3/2024-02-12/
LOCATION:Scandinavia House\, 58 Park Avenue\, New York\, NY\, 10016\, United States
ATTACH;FMTTYPE=image/png:https://www.scandinaviahouse.org/wp-content/uploads/2023/08/Screen-Shot-2023-08-31-at-3.30.12-PM.png
END:VEVENT
BEGIN:VEVENT
DTSTART;TZID=America/New_York:20240212T192000
DTEND;TZID=America/New_York:20240212T202000
DTSTAMP:20260419T170852
CREATED:20231130T180657Z
LAST-MODIFIED:20231130T183754Z
UID:10003031-1707765600-1707769200@www.scandinaviahouse.org
SUMMARY:SWEDISH BEGINNER 2
DESCRIPTION:Learn the Nordic languages in classes offered this winter at Scandinavia House! This course is for those who are still new to Swedish but perhaps have studied some on their own using apps or through other means. Students will have a basic knowledge of sentence structure\, greetings\, know their numbers\, how to tell time and already possess a small but basic vocabulary. This semester the students will move beyond themselves and explore how to buy and order things\, talk about what they do in their spare time\, and read about an historical figure. Grammatically they will expand into other tenses and learn how adjectives and nouns inform each other. Various facets of Swedish life may be discussed during the course. \nThis class will take place as hybrid learning on Mondays with classes offered at Scandinavia House and online via Zoom\, and online-only on Wednesdays. \nRegister
URL:https://www.scandinaviahouse.org/event/swedish-beginner-2-2/2024-02-12/
LOCATION:Scandinavia House\, 58 Park Avenue\, New York\, NY\, 10016\, United States
ATTACH;FMTTYPE=image/jpeg:https://www.scandinaviahouse.org/wp-content/uploads/2022/08/Lars-Lundqvist_Flickr-new-website-scaled.jpg
END:VEVENT
BEGIN:VEVENT
DTSTART;TZID=America/New_York:20240213T130000
DTEND;TZID=America/New_York:20240213T140000
DTSTAMP:20260419T170852
CREATED:20240125T202559Z
LAST-MODIFIED:20240125T202747Z
UID:10003093-1707829200-1707832800@www.scandinaviahouse.org
SUMMARY:ÆDNAN — VIRTUAL BOOK TALK WITH LINNEA AXELSSON & MATILDE AUGUSTA HUSEBY
DESCRIPTION:On February 13\, join us for a book talk with Sámi-Swedish author Linnea Axelsson on Ædnan\, her epic\, August Prize-winning multigenerational novel-in-verse about two Sámi families and their quest to stay together across a century of migration\, violence\, and colonial trauma. In coordination with our monthly Nordic Book Club Online\, which will discuss Ædnan later today at 6 PM\, the author will be joined by moderator Matilde Augusta Huseby for a virtual talk about the writing of the novel. \nIn Northern Sámi\, the word Ædnan means the land\, the earth\, and my mother. These are all crucial forces within the lives of the Indigenous families that animate this groundbreaking book: an astonishing verse novel that chronicles a hundred years of change\, beginning with in the 1910s as Ristin and her family migrate their herd of reindeer to summer grounds. When they are forced to separate due to the newly formed border between Sweden and Norway\, Ristin loses one of her sons in an accident\, leaving her struggling to manage her family and community as a result. \nIn the 1970s\, Lise\, as part of a new generation of Sámi grappling with questions of identity and inheritance\, reflects on her traumatic childhood\, when she was forced to leave her parents and was placed in a Nomad School to be stripped of the language of her ancestors. Finally\, in the 2010s we meet Lise’s daughter\, Sandra\, an activist fighting for reparations in a highly publicized land rights trial\, in a time when the Sámi language is all but lost. Weaving together the voices of half a dozen characters\, from elders to young people unsure of their heritage\, Ædnan is a powerful reminder of how durable language can be\, even when it is borrowed — especially when it has to hold what no longer remains. \n\n\n\n“An epic poem\, much honored in Sweden since its publication in 2018\, that charts the fortunes of a Sámi community against opposing nationalisms… A sharp-edged tale in verse of colonial suppression\, resistance\, and survival” (Kirkus Reviews).
URL:https://www.scandinaviahouse.org/event/aednan-virtual-book-talk-with-linnea-axelsson-matilde-augusta-huseby/
LOCATION:Scandinavia House\, 58 Park Avenue\, New York\, NY\, 10016\, United States
ATTACH;FMTTYPE=image/jpeg:https://www.scandinaviahouse.org/wp-content/uploads/2024/01/Linnea-Axelsson-Author-Photo-Credit-to-Daniel-Pedersen815_WEB-scaled.jpg
END:VEVENT
BEGIN:VEVENT
DTSTART;TZID=America/New_York:20240213T180000
DTEND;TZID=America/New_York:20240213T190000
DTSTAMP:20260419T170852
CREATED:20231116T185406Z
LAST-MODIFIED:20240521T202833Z
UID:10003026-1707847200-1707850800@www.scandinaviahouse.org
SUMMARY:ÆDNAN BY LINNEA AXELSSON — NORDIC BOOK CLUB ONLINE
DESCRIPTION:Read and discuss literature with our Nordic Book Club Online! On February 13\, we’ll be discussing Ædnan by Sámi-Swedish author Linnea Axelsson\, an epic\, multigenerational novel-in-verse about two Sámi families and their quest to stay together across migration and colonial trauma\, a winner of the 2018 August Prize. \nIn Northern Sámi\, the word Ædnan means the land\, the earth\, and my mother. These are all crucial forces within the lives of the Indigenous families that animate this groundbreaking book: an astonishing verse novel that chronicles a hundred years of change\, beginning with in the 1910s as Ristin and her family migrate their herd of reindeer to summer grounds. When they are forced to separate due to the newly formed border between Sweden and Norway\, Ristin loses one of her sons in an accident\, leaving her struggling to manage her family and community as a result. \nIn the 1970s\, Lise\, as part of a new generation of Sámi grappling with questions of identity and inheritance\, reflects on her traumatic childhood\, when she was forced to leave her parents and was placed in a Nomad School to be stripped of the language of her ancestors. Finally\, in the 2010s we meet Lise’s daughter\, Sandra\, an activist fighting for reparations in a highly publicized land rights trial\, in a time when the Sámi language is all but lost. Weaving together the voices of half a dozen characters\, from elders to young people unsure of their heritage\, Ædnan is a powerful reminder of how durable language can be\, even when it is borrowed — especially when it has to hold what no longer remains. \nRegister
URL:https://www.scandinaviahouse.org/event/aednan-by-linnea-axelsson-nordic-book-club-online/
LOCATION:NY
ATTACH;FMTTYPE=image/jpeg:https://www.scandinaviahouse.org/wp-content/uploads/2023/11/Aednan-Book-Club-New-scaled.jpg
END:VEVENT
BEGIN:VEVENT
DTSTART;TZID=America/New_York:20240213T181000
DTEND;TZID=America/New_York:20240213T195000
DTSTAMP:20260419T170852
CREATED:20231130T190237Z
LAST-MODIFIED:20231130T190237Z
UID:10002370-1707847800-1707853800@www.scandinaviahouse.org
SUMMARY:SWEDISH ADVANCED INTERMEDIATE
DESCRIPTION:Learn the Nordic languages in classes offered at Scandinavia House! This course is for students who are slightly more advanced in Swedish\, and are able to speak the language without too much effort\, as well as easily read novels. Students will engage in conversation and discussions\, and themes will be of a more philosophical nature\, involving global questions and fiction. Grammatically\, various structures and conjugations will be reviewed so students can refine their speech and writing. Students will be assigned a book to read during the semester. \nThis class will take place as hybrid learning on Tuesday evenings with classes offered at Scandinavia House and online via Zoom. \nRegister
URL:https://www.scandinaviahouse.org/event/swedish-advanced-intermediate/2024-02-13/
LOCATION:Scandinavia House\, 58 Park Avenue\, New York\, NY\, 10016\, United States
ATTACH;FMTTYPE=image/jpeg:https://www.scandinaviahouse.org/wp-content/uploads/2023/09/simon_paulin-New-Web-scaled.jpg
END:VEVENT
BEGIN:VEVENT
DTSTART;TZID=America/New_York:20240213T193000
DTEND;TZID=America/New_York:20240213T210000
DTSTAMP:20260419T170852
CREATED:20230901T205227Z
LAST-MODIFIED:20231222T193839Z
UID:10002907-1707852600-1707858000@www.scandinaviahouse.org
SUMMARY:A FRENCH MUSICAL FEAST: KEYBOARD CONVERSATIONS® WITH JEFFREY SIEGEL
DESCRIPTION:Internationally acclaimed pianist Jeffrey Siegel returns this winter for his ever-popular Keyboard Conversations® series at Scandinavia House. Each evening comprises an informal commentary on the music and its composers\, a full performance of each work\, and a short Q & A session. The engaging format both makes friends of classical music and enriches the listening experience for avid music lovers. \nIn February’s performance\, Siegel performs Debussy’s “Clair de Lune\,” Ravel’s “Sonatine\,” Saint-Saëns’s “Dance Macabre\,” and a French-inspired work of the Danish composer Carl Nielsen. \n\n\nThe 2023/24 series will continue with “Chopin and Liszt” on March 19 and “Three Great Romantics” on April 30\, 2024. \nThanks to a generous loan by Victor Borge’s grandson Finn\, concerts will be performed on Victor Borge’s personal Steinway piano. \nPurchase Tickets
URL:https://www.scandinaviahouse.org/event/a-french-musical-feast-keyboard-conversations-with-jeffrey-siegel/
LOCATION:Scandinavia House\, 58 Park Avenue\, New York\, NY\, 10016\, United States
ATTACH;FMTTYPE=image/jpeg:https://www.scandinaviahouse.org/wp-content/uploads/2023/08/Photo-Jeffrey-Siegel-at-the-piano-1_NEW-WEB-scaled.jpg
END:VEVENT
BEGIN:VEVENT
DTSTART;TZID=America/New_York:20240213T200000
DTEND;TZID=America/New_York:20240213T210000
DTSTAMP:20260419T170852
CREATED:20231130T184045Z
LAST-MODIFIED:20231130T184045Z
UID:10003062-1707854400-1707858000@www.scandinaviahouse.org
SUMMARY:SWEDISH ADVANCED BEGINNER 2
DESCRIPTION:Learn the Nordic languages in classes offered this semester at Scandinavia House! In Swedish Advanced Beginner 2\, students will now be ready to work more in depth with structure in various sub-clauses. They will learn how to use the reflexive possessive pronoun and more specific ways to express future tense while slightly more fact-based texts are introduced. The course also includes cultural elements in regards to social and family life\, as well as education. Students will read assigned literary books over the course of the semester. \nThis class will take place as hybrid learning on Tuesdays with classes offered at Scandinavia House and online via Zoom\, and online-only on Thursdays. \nRegister
URL:https://www.scandinaviahouse.org/event/swedish-advanced-beginner-2-3/2024-02-13/
LOCATION:Scandinavia House\, 58 Park Avenue\, New York\, NY\, 10016\, United States
ATTACH;FMTTYPE=image/jpeg:https://www.scandinaviahouse.org/wp-content/uploads/2022/11/emelie_asplund-celebration-5435-2-scaled.jpg
END:VEVENT
BEGIN:VEVENT
DTSTART;TZID=America/New_York:20240214T173000
DTEND;TZID=America/New_York:20240214T193000
DTSTAMP:20260419T170852
CREATED:20240130T173619Z
LAST-MODIFIED:20240516T170547Z
UID:10002400-1707931800-1707939000@www.scandinaviahouse.org
SUMMARY:VALENTINE'S PRIX-FIXE AT BJÖRK CAFE & BISTRO
DESCRIPTION:Celebrate Valentine’s Day with a “Feast for Two” at Björk Café & Bistro! A special tasting menu takes diners through a Scandinavian taste journey through the Nordic countries with cold-water Nordic shrimp\, Icelandic cod\, Norwegian salmon\, Finnish caviar\, Danish smørrebrød\, Swedish meatballs\, and (of course) the world-famous Princess Cake! The prix-fixe menu includes complimentary glasses of a sparkling Nordic mimosa. \nReservations
URL:https://www.scandinaviahouse.org/event/valentines-prix-fixe-at-bjork-cafe-bistro/
LOCATION:Björk Cafe & Bistro at Scandinavia House\, 58 Park Ave\, New York\, NY\, 10016\, United States
ATTACH;FMTTYPE=image/jpeg:https://www.scandinaviahouse.org/wp-content/uploads/2024/01/candles-2000135-1_WEB-scaled.jpg
END:VEVENT
BEGIN:VEVENT
DTSTART;TZID=America/New_York:20240214T184000
DTEND;TZID=America/New_York:20240214T194000
DTSTAMP:20260419T170852
CREATED:20241120T193155Z
LAST-MODIFIED:20241120T193155Z
UID:10003039-1707936000-1707939600@www.scandinaviahouse.org
SUMMARY:SWEDISH BEGINNER 2
DESCRIPTION:Learn the Nordic languages in classes offered this winter at Scandinavia House! This course is for those who are still new to Swedish but perhaps have studied some on their own using apps or through other means. Students will have a basic knowledge of sentence structure\, greetings\, know their numbers\, how to tell time and already possess a small but basic vocabulary. This semester the students will move beyond themselves and explore how to buy and order things\, talk about what they do in their spare time\, and read about an historical figure. Grammatically they will expand into other tenses and learn how adjectives and nouns inform each other. Various facets of Swedish life may be discussed during the course. \nThis class will take place as hybrid learning on Mondays with classes offered at Scandinavia House and online via Zoom\, and online-only on Wednesdays. \nRegister
URL:https://www.scandinaviahouse.org/event/swedish-beginner-2-2/2024-02-14/
LOCATION:Scandinavia House\, 58 Park Avenue\, New York\, NY\, 10016\, United States
ATTACH;FMTTYPE=image/jpeg:https://www.scandinaviahouse.org/wp-content/uploads/2022/08/Lars-Lundqvist_Flickr-new-website-scaled.jpg
END:VEVENT
BEGIN:VEVENT
DTSTART;TZID=America/New_York:20240214T190000
DTEND;TZID=America/New_York:20240214T210000
DTSTAMP:20260419T170852
CREATED:20240129T231423Z
LAST-MODIFIED:20240131T202625Z
UID:10003096-1707937200-1707944400@www.scandinaviahouse.org
SUMMARY:FALLEN LEAVES
DESCRIPTION:Celebrate Valentine’s Day Finnish-style at Scandinavia House with Fallen Leaves (Kuolleet lehdet\, Finland\, 2023)\, award-winning director Aki Kaurismäki’s triumphant new film about love\, chance and fate! \nKaurismäki (Le Havre\, The Other Side of Hope) makes a masterful return with Fallen Leaves\, a timeless\, hopeful and satisfying love story that won the Jury Prize at the 2023 Cannes Film Festival. Set in present-day Helsinki\, the film tells the story of Ansa (Alma Pöysti) and Holappa (Jussi Vatanen)\, two lonely souls whose chance meeting at a local karaoke bar is beset by numerous hurdles. From lost phone numbers to mistaken addresses\, alcoholism and a charming stray dog\, the pair’s path to happiness is as bittersweet as it is ultimately delightful. \nShot through with Kaurismäki’s typically playful\, idiosyncratic style and deadpan sense of humor\, this tender romantic tragicomedy is both a loving tribute to the filmmaker’s beloved contemporaries and a timely reminder of the potency of movie-going from one of cinema’s living legends.  \n“Aki Kaurismäki’s almost feelgood romance is a droll delight” (The Guardian) \nPurchase Tickets
URL:https://www.scandinaviahouse.org/event/fallen-leaves-screening-film-talk/
LOCATION:Scandinavia House\, 58 Park Avenue\, New York\, NY\, 10016\, United States
CATEGORIES:Films
ATTACH;FMTTYPE=image/jpeg:https://www.scandinaviahouse.org/wp-content/uploads/2024/01/FallenLeaves_Still_MallaHukkanen_©Sputnik_1-scaled.jpg
END:VEVENT
BEGIN:VEVENT
DTSTART;TZID=America/New_York:20240214T195000
DTEND;TZID=America/New_York:20240214T205000
DTSTAMP:20260419T170852
CREATED:20241120T193156Z
LAST-MODIFIED:20241120T193156Z
UID:10003054-1707940200-1707943800@www.scandinaviahouse.org
SUMMARY:SWEDISH BEGINNER 3
DESCRIPTION:Learn the Nordic languages in classes offered this semester at Scandinavia House! This course continues to build on our basic skills by deepening the work with adjective conjugation\, prepositions\, modality verbs and the past tense\, while also introducing another verb tense. Various cultural aspects will be highlighted during the course. Students will also begin to read assigned easy-to-read books over the course of the semester. \nThis class will take place as hybrid learning on Mondays with classes offered at Scandinavia House and online via Zoom\, and online-only on Wednesdays. \nRegister
URL:https://www.scandinaviahouse.org/event/swedish-beginner-3/2024-02-14/
LOCATION:Scandinavia House\, 58 Park Avenue\, New York\, NY\, 10016\, United States
ATTACH;FMTTYPE=image/png:https://www.scandinaviahouse.org/wp-content/uploads/2023/08/Screen-Shot-2023-08-31-at-3.30.12-PM.png
END:VEVENT
BEGIN:VEVENT
DTSTART;TZID=America/New_York:20240215T181000
DTEND;TZID=America/New_York:20240215T191000
DTSTAMP:20260419T170852
CREATED:20241120T193158Z
LAST-MODIFIED:20241120T193158Z
UID:10003071-1708020600-1708024200@www.scandinaviahouse.org
SUMMARY:SWEDISH ADVANCED BEGINNER 2
DESCRIPTION:Learn the Nordic languages in classes offered this semester at Scandinavia House! In Swedish Advanced Beginner 2\, students will now be ready to work more in depth with structure in various sub-clauses. They will learn how to use the reflexive possessive pronoun and more specific ways to express future tense while slightly more fact-based texts are introduced. The course also includes cultural elements in regards to social and family life\, as well as education. Students will read assigned literary books over the course of the semester. \nThis class will take place as hybrid learning on Tuesdays with classes offered at Scandinavia House and online via Zoom\, and online-only on Thursdays. \nRegister
URL:https://www.scandinaviahouse.org/event/swedish-advanced-beginner-2-3/2024-02-15/
LOCATION:Scandinavia House\, 58 Park Avenue\, New York\, NY\, 10016\, United States
ATTACH;FMTTYPE=image/jpeg:https://www.scandinaviahouse.org/wp-content/uploads/2022/11/emelie_asplund-celebration-5435-2-scaled.jpg
END:VEVENT
BEGIN:VEVENT
DTSTART;TZID=America/New_York:20240215T190000
DTEND;TZID=America/New_York:20240215T203000
DTSTAMP:20260419T170852
CREATED:20240122T163529Z
LAST-MODIFIED:20240214T225109Z
UID:10003088-1708023600-1708029000@www.scandinaviahouse.org
SUMMARY:DR. NICHOLSON AND THE BLUE DIAMOND: THE ART OF EARLY EUROPEAN CINEMA
DESCRIPTION:Join us for a screening of Dr. Nicholson og den Blaa Diamant (Dr. Nicholson and the Blue Diamond; 1913)\, an exhilarating Danish heist film of the silent era set to live musical accompaniment\, with an introduction and book talk from Professor Vito Adriaensens on the event of the publication of his new book\, Velvet Curtains and Gilded Frames: The Art of Early European Cinema. In Velvet Curtains and Gilded Frames\, Adriaensens looks at Europe’s first feature films through the lens of an art historian. He focuses on how internationally influential Danish\, French and Swedish companies first created cinematic form by mirroring popular genre painting\, social stage melodrama\, and Pictorialist photography. These were the first “art films.” \nDr. Nicholson og den blaa Diamant (Dr. Nicholson and the Blue Diamond; 1913). 56 min.\nWhen the Danish crime caper Dr. Nicholson and the Blue Diamond hit U.S. screens in 1913\, Moving Picture News called it “chock-a-block [full of scenes] of the kind which send thrills cavorting up and down our spines.” Beautifully tinted and toned\, Dr. Nicholson presents us with sensational thrills—cheap\, yet extremely expensive to pull off on film at the time—wrapped in an art-film jacket that suited most European films of the period. A French Count seeks better luck in America but collides with an evil\, hookah-smoking genius who calls himself Doctor. This is a story involving kidnapping\, cocaine\, explosions. a wild chase scene on the roof of a moving train\, and a sprinkle of modern dance. The film will screen with live musical accompaniment. \nWith Holger Reenberg\, Edith Buemann Psilander\, Anton de Verdier\, and Viggo Wiehe. Written by Mogens Falck. Director unknown. Produced by Kinografen. \nPurchase Tickets
URL:https://www.scandinaviahouse.org/event/dr-nicholson-and-the-blue-diamond-the-art-of-early-european-cinema/
LOCATION:Scandinavia House\, 58 Park Avenue\, New York\, NY\, 10016\, United States
CATEGORIES:Films
ATTACH;FMTTYPE=image/png:https://www.scandinaviahouse.org/wp-content/uploads/2024/01/Dr.-Nicholson-4-1.png
END:VEVENT
BEGIN:VEVENT
DTSTART;TZID=America/New_York:20240215T192000
DTEND;TZID=America/New_York:20240215T210000
DTSTAMP:20260419T170852
CREATED:20231130T185708Z
LAST-MODIFIED:20231130T185708Z
UID:10002360-1708024800-1708030800@www.scandinaviahouse.org
SUMMARY:SWEDISH INTERMEDIATE 1
DESCRIPTION:Learn the Nordic languages in classes offered at Scandinavia House! In this course held online only\, the focus will be primarily on conversation. Students will discuss various subjects brought up in each chapter via the informative texts\, with topics spanning subjects such as Swedish cultural and social life\, wild animals\, historical figures\, politics and others. The grammar is overall a comprehensive repetition of the beginner levels\, while also introducing a few new things like reflexive pronouns\, the present participle and the conditional. Students will be required to read assigned books over the course of the semester. Intermediate 1 runs over three semesters and can be taken in any order. \nThis class will take place on Thursday evenings (online only). \nRegister
URL:https://www.scandinaviahouse.org/event/swedish-intermediate-1-2/2024-02-15/
LOCATION:NY
ATTACH;FMTTYPE=image/jpeg:https://www.scandinaviahouse.org/wp-content/uploads/2016/07/language-courses-swedish-5.jpg
END:VEVENT
END:VCALENDAR