BEGIN:VCALENDAR
VERSION:2.0
PRODID:-//Scandinavia House - ECPv6.15.3//NONSGML v1.0//EN
CALSCALE:GREGORIAN
METHOD:PUBLISH
X-ORIGINAL-URL:https://www.scandinaviahouse.org
X-WR-CALDESC:Events for Scandinavia House
REFRESH-INTERVAL;VALUE=DURATION:PT1H
X-Robots-Tag:noindex
X-PUBLISHED-TTL:PT1H
BEGIN:VTIMEZONE
TZID:America/New_York
BEGIN:DAYLIGHT
TZOFFSETFROM:-0500
TZOFFSETTO:-0400
TZNAME:EDT
DTSTART:20240310T070000
END:DAYLIGHT
BEGIN:STANDARD
TZOFFSETFROM:-0400
TZOFFSETTO:-0500
TZNAME:EST
DTSTART:20241103T060000
END:STANDARD
END:VTIMEZONE
BEGIN:VEVENT
DTSTART;TZID=America/New_York:20240226T181000
DTEND;TZID=America/New_York:20240226T191000
DTSTAMP:20260422T054023
CREATED:20231130T182951Z
LAST-MODIFIED:20231130T183919Z
UID:10003047-1708971000-1708974600@www.scandinaviahouse.org
SUMMARY:SWEDISH BEGINNER 3
DESCRIPTION:Learn the Nordic languages in classes offered this semester at Scandinavia House! This course continues to build on our basic skills by deepening the work with adjective conjugation\, prepositions\, modality verbs and the past tense\, while also introducing another verb tense. Various cultural aspects will be highlighted during the course. Students will also begin to read assigned easy-to-read books over the course of the semester. \nThis class will take place as hybrid learning on Mondays with classes offered at Scandinavia House and online via Zoom\, and online-only on Wednesdays. \nRegister
URL:https://www.scandinaviahouse.org/event/swedish-beginner-3/2024-02-26/
LOCATION:Scandinavia House\, 58 Park Avenue\, New York\, NY\, 10016\, United States
ATTACH;FMTTYPE=image/png:https://www.scandinaviahouse.org/wp-content/uploads/2023/08/Screen-Shot-2023-08-31-at-3.30.12-PM.png
END:VEVENT
BEGIN:VEVENT
DTSTART;TZID=America/New_York:20240226T192000
DTEND;TZID=America/New_York:20240226T202000
DTSTAMP:20260422T054023
CREATED:20231130T180657Z
LAST-MODIFIED:20231130T183754Z
UID:10003032-1708975200-1708978800@www.scandinaviahouse.org
SUMMARY:SWEDISH BEGINNER 2
DESCRIPTION:Learn the Nordic languages in classes offered this winter at Scandinavia House! This course is for those who are still new to Swedish but perhaps have studied some on their own using apps or through other means. Students will have a basic knowledge of sentence structure\, greetings\, know their numbers\, how to tell time and already possess a small but basic vocabulary. This semester the students will move beyond themselves and explore how to buy and order things\, talk about what they do in their spare time\, and read about an historical figure. Grammatically they will expand into other tenses and learn how adjectives and nouns inform each other. Various facets of Swedish life may be discussed during the course. \nThis class will take place as hybrid learning on Mondays with classes offered at Scandinavia House and online via Zoom\, and online-only on Wednesdays. \nRegister
URL:https://www.scandinaviahouse.org/event/swedish-beginner-2-2/2024-02-26/
LOCATION:Scandinavia House\, 58 Park Avenue\, New York\, NY\, 10016\, United States
ATTACH;FMTTYPE=image/jpeg:https://www.scandinaviahouse.org/wp-content/uploads/2022/08/Lars-Lundqvist_Flickr-new-website-scaled.jpg
END:VEVENT
BEGIN:VEVENT
DTSTART;TZID=America/New_York:20240227T181000
DTEND;TZID=America/New_York:20240227T195000
DTSTAMP:20260422T054023
CREATED:20231130T190237Z
LAST-MODIFIED:20231130T190237Z
UID:10002372-1709057400-1709063400@www.scandinaviahouse.org
SUMMARY:SWEDISH ADVANCED INTERMEDIATE
DESCRIPTION:Learn the Nordic languages in classes offered at Scandinavia House! This course is for students who are slightly more advanced in Swedish\, and are able to speak the language without too much effort\, as well as easily read novels. Students will engage in conversation and discussions\, and themes will be of a more philosophical nature\, involving global questions and fiction. Grammatically\, various structures and conjugations will be reviewed so students can refine their speech and writing. Students will be assigned a book to read during the semester. \nThis class will take place as hybrid learning on Tuesday evenings with classes offered at Scandinavia House and online via Zoom. \nRegister
URL:https://www.scandinaviahouse.org/event/swedish-advanced-intermediate/2024-02-27/
LOCATION:Scandinavia House\, 58 Park Avenue\, New York\, NY\, 10016\, United States
ATTACH;FMTTYPE=image/jpeg:https://www.scandinaviahouse.org/wp-content/uploads/2023/09/simon_paulin-New-Web-scaled.jpg
END:VEVENT
BEGIN:VEVENT
DTSTART;TZID=America/New_York:20240227T200000
DTEND;TZID=America/New_York:20240227T210000
DTSTAMP:20260422T054023
CREATED:20231130T184045Z
LAST-MODIFIED:20231130T184045Z
UID:10003064-1709064000-1709067600@www.scandinaviahouse.org
SUMMARY:SWEDISH ADVANCED BEGINNER 2
DESCRIPTION:Learn the Nordic languages in classes offered this semester at Scandinavia House! In Swedish Advanced Beginner 2\, students will now be ready to work more in depth with structure in various sub-clauses. They will learn how to use the reflexive possessive pronoun and more specific ways to express future tense while slightly more fact-based texts are introduced. The course also includes cultural elements in regards to social and family life\, as well as education. Students will read assigned literary books over the course of the semester. \nThis class will take place as hybrid learning on Tuesdays with classes offered at Scandinavia House and online via Zoom\, and online-only on Thursdays. \nRegister
URL:https://www.scandinaviahouse.org/event/swedish-advanced-beginner-2-3/2024-02-27/
LOCATION:Scandinavia House\, 58 Park Avenue\, New York\, NY\, 10016\, United States
ATTACH;FMTTYPE=image/jpeg:https://www.scandinaviahouse.org/wp-content/uploads/2022/11/emelie_asplund-celebration-5435-2-scaled.jpg
END:VEVENT
BEGIN:VEVENT
DTSTART;TZID=America/New_York:20240228T184000
DTEND;TZID=America/New_York:20240228T194000
DTSTAMP:20260422T054023
CREATED:20241120T193155Z
LAST-MODIFIED:20241120T193155Z
UID:10003040-1709145600-1709149200@www.scandinaviahouse.org
SUMMARY:SWEDISH BEGINNER 2
DESCRIPTION:Learn the Nordic languages in classes offered this winter at Scandinavia House! This course is for those who are still new to Swedish but perhaps have studied some on their own using apps or through other means. Students will have a basic knowledge of sentence structure\, greetings\, know their numbers\, how to tell time and already possess a small but basic vocabulary. This semester the students will move beyond themselves and explore how to buy and order things\, talk about what they do in their spare time\, and read about an historical figure. Grammatically they will expand into other tenses and learn how adjectives and nouns inform each other. Various facets of Swedish life may be discussed during the course. \nThis class will take place as hybrid learning on Mondays with classes offered at Scandinavia House and online via Zoom\, and online-only on Wednesdays. \nRegister
URL:https://www.scandinaviahouse.org/event/swedish-beginner-2-2/2024-02-28/
LOCATION:Scandinavia House\, 58 Park Avenue\, New York\, NY\, 10016\, United States
ATTACH;FMTTYPE=image/jpeg:https://www.scandinaviahouse.org/wp-content/uploads/2022/08/Lars-Lundqvist_Flickr-new-website-scaled.jpg
END:VEVENT
BEGIN:VEVENT
DTSTART;TZID=America/New_York:20240228T190000
DTEND;TZID=America/New_York:20240228T210000
DTSTAMP:20260422T054023
CREATED:20240207T193101Z
LAST-MODIFIED:20240226T184929Z
UID:10002406-1709146800-1709154000@www.scandinaviahouse.org
SUMMARY:100 SEASONS | SCREENING
DESCRIPTION:“Skillfully blending fiction and real footage taken from his own life\, Bucchieri has gifted viewers a powerful\, moving melodrama” (Projektor)—on February 28\, see a screening of 100 Seasons (dir. Giovanni Bucchieri\, Sweden\, 2023)\, a moving new drama centered on a chaotic\, passionate first love. *Please note that due to travel issues director Giovanni Bucchieri will no longer be present at the screening.* \nInspired by real\, 30-year-old video diaries of his first love affair\, Swedish director Giovanni Bucchieri recalls a naive romance involving two artists who saw each other as soulmates. The intense relationship between these “twin flames” is challenged by a bipolar diagnosis\, their ambitious personalities\, and their insecure attachment styles. An inspiring and heartfelt film about dreams\, failure and the kind of love that can never die\, 100 Seasons is a tender look at the beautiful but chaotic tension between creative and romantic passion. \nPurchase Tickets
URL:https://www.scandinaviahouse.org/event/100-seasons/
LOCATION:Scandinavia House\, 58 Park Avenue\, New York\, NY\, 10016\, United States
CATEGORIES:Films
ATTACH;FMTTYPE=image/jpeg:https://www.scandinaviahouse.org/wp-content/uploads/2024/02/1673654321_hlkido3k_WEB-scaled.jpg
END:VEVENT
BEGIN:VEVENT
DTSTART;TZID=America/New_York:20240228T195000
DTEND;TZID=America/New_York:20240228T205000
DTSTAMP:20260422T054023
CREATED:20241120T193156Z
LAST-MODIFIED:20241120T193156Z
UID:10003055-1709149800-1709153400@www.scandinaviahouse.org
SUMMARY:SWEDISH BEGINNER 3
DESCRIPTION:Learn the Nordic languages in classes offered this semester at Scandinavia House! This course continues to build on our basic skills by deepening the work with adjective conjugation\, prepositions\, modality verbs and the past tense\, while also introducing another verb tense. Various cultural aspects will be highlighted during the course. Students will also begin to read assigned easy-to-read books over the course of the semester. \nThis class will take place as hybrid learning on Mondays with classes offered at Scandinavia House and online via Zoom\, and online-only on Wednesdays. \nRegister
URL:https://www.scandinaviahouse.org/event/swedish-beginner-3/2024-02-28/
LOCATION:Scandinavia House\, 58 Park Avenue\, New York\, NY\, 10016\, United States
ATTACH;FMTTYPE=image/png:https://www.scandinaviahouse.org/wp-content/uploads/2023/08/Screen-Shot-2023-08-31-at-3.30.12-PM.png
END:VEVENT
BEGIN:VEVENT
DTSTART;TZID=America/New_York:20240229T181000
DTEND;TZID=America/New_York:20240229T191000
DTSTAMP:20260422T054023
CREATED:20241120T193158Z
LAST-MODIFIED:20241120T193158Z
UID:10003073-1709230200-1709233800@www.scandinaviahouse.org
SUMMARY:SWEDISH ADVANCED BEGINNER 2
DESCRIPTION:Learn the Nordic languages in classes offered this semester at Scandinavia House! In Swedish Advanced Beginner 2\, students will now be ready to work more in depth with structure in various sub-clauses. They will learn how to use the reflexive possessive pronoun and more specific ways to express future tense while slightly more fact-based texts are introduced. The course also includes cultural elements in regards to social and family life\, as well as education. Students will read assigned literary books over the course of the semester. \nThis class will take place as hybrid learning on Tuesdays with classes offered at Scandinavia House and online via Zoom\, and online-only on Thursdays. \nRegister
URL:https://www.scandinaviahouse.org/event/swedish-advanced-beginner-2-3/2024-02-29/
LOCATION:Scandinavia House\, 58 Park Avenue\, New York\, NY\, 10016\, United States
ATTACH;FMTTYPE=image/jpeg:https://www.scandinaviahouse.org/wp-content/uploads/2022/11/emelie_asplund-celebration-5435-2-scaled.jpg
END:VEVENT
BEGIN:VEVENT
DTSTART;TZID=America/New_York:20240229T192000
DTEND;TZID=America/New_York:20240229T210000
DTSTAMP:20260422T054023
CREATED:20231130T185708Z
LAST-MODIFIED:20231130T185708Z
UID:10002361-1709234400-1709240400@www.scandinaviahouse.org
SUMMARY:SWEDISH INTERMEDIATE 1
DESCRIPTION:Learn the Nordic languages in classes offered at Scandinavia House! In this course held online only\, the focus will be primarily on conversation. Students will discuss various subjects brought up in each chapter via the informative texts\, with topics spanning subjects such as Swedish cultural and social life\, wild animals\, historical figures\, politics and others. The grammar is overall a comprehensive repetition of the beginner levels\, while also introducing a few new things like reflexive pronouns\, the present participle and the conditional. Students will be required to read assigned books over the course of the semester. Intermediate 1 runs over three semesters and can be taken in any order. \nThis class will take place on Thursday evenings (online only). \nRegister
URL:https://www.scandinaviahouse.org/event/swedish-intermediate-1-2/2024-02-29/
LOCATION:NY
ATTACH;FMTTYPE=image/jpeg:https://www.scandinaviahouse.org/wp-content/uploads/2016/07/language-courses-swedish-5.jpg
END:VEVENT
BEGIN:VEVENT
DTSTART;TZID=America/New_York:20240302T110000
DTEND;TZID=America/New_York:20240302T123000
DTSTAMP:20260422T054023
CREATED:20240207T235223Z
LAST-MODIFIED:20240214T215544Z
UID:10002412-1709377200-1709382600@www.scandinaviahouse.org
SUMMARY:NYICFF | COCO FARM
DESCRIPTION:Explore the world without leaving New York! The New York International Children’s Film Festival takes place March 2-17 throughout New York City in 2024\, with 10 screenings at Scandinavia House. \nIn Coco Farm /Coco Ferme\, Max\, an enterprising 12-year-old\, is crestfallen when he must close up shop on his garage-based “business” and move to the countryside. Though he’s now closer to his cousins\, the bustling life of a farm family is a shock to his quiet\, city-kid existence. But not all hope is lost: when he discovers free range chickens in his cousin Charles’ abandoned barn\, a new business plan is born. And with the help of their social media savvy neighbor\, Alice\, their animal-friendly egg farm takes off and brings the whole community together. (89 min. Ages 8+ | Dir. Sébastien Gagné | Canada\, 2023 | East Coast Premiere\, in French with English subtitles) \nPurchase Tickets
URL:https://www.scandinaviahouse.org/event/nyicff-coco-farm/
LOCATION:Scandinavia House\, 58 Park Avenue\, New York\, NY\, 10016\, United States
CATEGORIES:Films
ATTACH;FMTTYPE=image/jpeg:https://www.scandinaviahouse.org/wp-content/uploads/2024/02/coco_web-scaled.jpg
END:VEVENT
BEGIN:VEVENT
DTSTART;TZID=America/New_York:20240302T154500
DTEND;TZID=America/New_York:20240302T171500
DTSTAMP:20260422T054023
CREATED:20240214T220304Z
LAST-MODIFIED:20240214T220304Z
UID:10003167-1709394300-1709399700@www.scandinaviahouse.org
SUMMARY:NYICFF | SHORT FILMS 3
DESCRIPTION:Explore the world without leaving New York! The New York International Children’s Film Festival takes place March 2-17 throughout New York City in 2024\, with 10 screenings at Scandinavia House. \nThe program SHORT FILMS THREE includes shorts for our older crowd — teens and grownups only. Shorts include the French animation Yuck! (dir. Loïc Espuche\, 2024\, 8 min.\, in French with English subtitles)\, and others; see the full lineup for this program here.  \nPurchase Tickets
URL:https://www.scandinaviahouse.org/event/nyicff-short-films-3/2024-03-02/
LOCATION:Scandinavia House\, 58 Park Avenue\, New York\, NY\, 10016\, United States
CATEGORIES:Films
ATTACH;FMTTYPE=image/jpeg:https://www.scandinaviahouse.org/wp-content/uploads/2024/02/Beurk_03-scaled.jpg
END:VEVENT
END:VCALENDAR