BEGIN:VCALENDAR
VERSION:2.0
PRODID:-//Scandinavia House - ECPv6.15.3//NONSGML v1.0//EN
CALSCALE:GREGORIAN
METHOD:PUBLISH
X-WR-CALNAME:Scandinavia House
X-ORIGINAL-URL:https://www.scandinaviahouse.org
X-WR-CALDESC:Events for Scandinavia House
REFRESH-INTERVAL;VALUE=DURATION:PT1H
X-Robots-Tag:noindex
X-PUBLISHED-TTL:PT1H
BEGIN:VTIMEZONE
TZID:America/New_York
BEGIN:DAYLIGHT
TZOFFSETFROM:-0500
TZOFFSETTO:-0400
TZNAME:EDT
DTSTART:20240310T070000
END:DAYLIGHT
BEGIN:STANDARD
TZOFFSETFROM:-0400
TZOFFSETTO:-0500
TZNAME:EST
DTSTART:20241103T060000
END:STANDARD
END:VTIMEZONE
BEGIN:VEVENT
DTSTART;TZID=America/New_York:20240312T180000
DTEND;TZID=America/New_York:20240312T190000
DTSTAMP:20260422T125222
CREATED:20240123T181136Z
LAST-MODIFIED:20240123T181136Z
UID:10003090-1710266400-1710270000@www.scandinaviahouse.org
SUMMARY:NORDIC BOOK CLUB ONLINE: THIRTY DAYS OF DARKNESS
DESCRIPTION:Read and discuss literature with our Nordic Book Club Online! On March 12\, we’ll be exploring Thirty Days Of Darkness by Jenny Lund Madsen\, an atmospheric\, darkly funny and twisty debut thriller now out in translation by Megan E. Turney about a Danish author who must write a crime novel in 30 days — while solving a murder along the way. \nCopenhagen author Hannah is the darling of the literary community and her novels have achieved massive critical acclaim — but no one ever actually reads them. When the acerbic and snobbish writer is publicly challenged to write a crime novel in the span of the month\, her editor sends her to Húsafjöður for inspiration\, a quiet\, tight-knit village in Iceland filled with colorful local characters. \nBut two days after her arrival\, the body of a fisherman’s young son is pulled from the water … and what begins as a search for plot material quickly turns into a messy and dangerous investigation that threatens to put everything at risk\, including Hannah. Can she solve the murder and bring peace to the victim’s loved ones\, while turning out a bestseller at the same time? \nRegister
URL:https://www.scandinaviahouse.org/event/nordic-book-club-online-thirty-days-of-darkness/
LOCATION:NY
ATTACH;FMTTYPE=image/jpeg:https://www.scandinaviahouse.org/wp-content/uploads/2024/01/Thirty-Days-of-Night_Web-scaled.jpg
END:VEVENT
BEGIN:VEVENT
DTSTART;TZID=America/New_York:20240312T181000
DTEND;TZID=America/New_York:20240312T195000
DTSTAMP:20260422T125222
CREATED:20231130T190237Z
LAST-MODIFIED:20231130T190237Z
UID:10002374-1710267000-1710273000@www.scandinaviahouse.org
SUMMARY:SWEDISH ADVANCED INTERMEDIATE
DESCRIPTION:Learn the Nordic languages in classes offered at Scandinavia House! This course is for students who are slightly more advanced in Swedish\, and are able to speak the language without too much effort\, as well as easily read novels. Students will engage in conversation and discussions\, and themes will be of a more philosophical nature\, involving global questions and fiction. Grammatically\, various structures and conjugations will be reviewed so students can refine their speech and writing. Students will be assigned a book to read during the semester. \nThis class will take place as hybrid learning on Tuesday evenings with classes offered at Scandinavia House and online via Zoom. \nRegister
URL:https://www.scandinaviahouse.org/event/swedish-advanced-intermediate/2024-03-12/
LOCATION:Scandinavia House\, 58 Park Avenue\, New York\, NY\, 10016\, United States
ATTACH;FMTTYPE=image/jpeg:https://www.scandinaviahouse.org/wp-content/uploads/2023/09/simon_paulin-New-Web-scaled.jpg
END:VEVENT
BEGIN:VEVENT
DTSTART;TZID=America/New_York:20240313T190000
DTEND;TZID=America/New_York:20240313T211500
DTSTAMP:20260422T125222
CREATED:20240214T201959Z
LAST-MODIFIED:20240222T184735Z
UID:10003098-1710356400-1710364500@www.scandinaviahouse.org
SUMMARY:UNRULY | NEW NORDIC CINEMA
DESCRIPTION:On March 13\, join us for a screening of Unruly (dir. Malou Reymann\, Denmark\, 2022)\, a new Danish historical drama about a woman’s struggle to escape forced institutionalization in the 1930s. \nIn conservative early twentieth-century Denmark\, strong-minded Maren is widely considered to be ill-mannered and promiscuous. Amid growing concerns that her “unruly” behavior will infect others\, she is sent away to a women’s institution on the small island of Sprogø\, where she’s to learn to behave properly. Marin shares a room with Sørine\, who has already accepted the conventional narrative that she is unwell and adjusted her behavior accordingly to fit in with society. Sørine is tasked with guiding Maren through Sprogø to help facilitate her rehabilitation\, but Maren’s refusal to comply with the system leads to terrible consequences for both women. Inspired by real historical events\, Unruly is a powerful reminder of misogyny’s psychic toll. \nPurchase Tickets
URL:https://www.scandinaviahouse.org/event/unruly/
LOCATION:Scandinavia House\, 58 Park Avenue\, New York\, NY\, 10016\, United States
CATEGORIES:Films
ATTACH;FMTTYPE=image/jpeg:https://www.scandinaviahouse.org/wp-content/uploads/2024/01/UNRULY_by_Sverre_Soerdal_2000x1200px_WEB-scaled.jpg
END:VEVENT
BEGIN:VEVENT
DTSTART;TZID=America/New_York:20240314T192000
DTEND;TZID=America/New_York:20240314T210000
DTSTAMP:20260422T125222
CREATED:20231130T185708Z
LAST-MODIFIED:20231130T185708Z
UID:10002363-1710444000-1710450000@www.scandinaviahouse.org
SUMMARY:SWEDISH INTERMEDIATE 1
DESCRIPTION:Learn the Nordic languages in classes offered at Scandinavia House! In this course held online only\, the focus will be primarily on conversation. Students will discuss various subjects brought up in each chapter via the informative texts\, with topics spanning subjects such as Swedish cultural and social life\, wild animals\, historical figures\, politics and others. The grammar is overall a comprehensive repetition of the beginner levels\, while also introducing a few new things like reflexive pronouns\, the present participle and the conditional. Students will be required to read assigned books over the course of the semester. Intermediate 1 runs over three semesters and can be taken in any order. \nThis class will take place on Thursday evenings (online only). \nRegister
URL:https://www.scandinaviahouse.org/event/swedish-intermediate-1-2/2024-03-14/
LOCATION:NY
ATTACH;FMTTYPE=image/jpeg:https://www.scandinaviahouse.org/wp-content/uploads/2016/07/language-courses-swedish-5.jpg
END:VEVENT
BEGIN:VEVENT
DTSTART;TZID=America/New_York:20240316T110000
DTEND;TZID=America/New_York:20240316T121500
DTSTAMP:20260422T125222
CREATED:20240214T223713Z
LAST-MODIFIED:20240214T223713Z
UID:10003172-1710586800-1710591300@www.scandinaviahouse.org
SUMMARY:NYICFF | ROSA AND THE STONE TROLL
DESCRIPTION:Explore the world without leaving New York! The New York International Children’s Film Festival takes place March 2-17 throughout New York City in 2024\, with 10 screenings at Scandinavia House. \nIn Rosa and the Stone Troll /Roselil og stentrolden\, Rosa is an adorable flower fairy who plays by the rules in her brightly colored\, Marimekko-inspired world\, where she happily gets by in her little rosebush. She’s also eager to spread her wings\, but while she dreams of having a friend\, going farther afield can be a little scary — and traversing Summerland would be a very tall order! But when she makes friends with the butterfly Silk\, they hit it off immediately\, even though Silk is as cheeky and curious as Rosa is timid and cautious. So when Silk is kidnapped by an evil Stone Troll\, Rosa has to let go of her fears and set out on a dangerous journey to save her new best friend. (75 min. Ages 6+ | Dir. Karla Nor Holmbäck | Denmark\, 2023 | New York Premiere\, in English) \nPurchase Tickets
URL:https://www.scandinaviahouse.org/event/nyicff-rosa-stone-troll/
LOCATION:Scandinavia House\, 58 Park Avenue\, New York\, NY\, 10016\, United States
CATEGORIES:Films
ATTACH;FMTTYPE=image/jpeg:https://www.scandinaviahouse.org/wp-content/uploads/2024/02/RosaAndTheStoneTroll_MainStill_©DanskTegnefilm_WEB-scaled.jpg
END:VEVENT
BEGIN:VEVENT
DTSTART;TZID=America/New_York:20240316T130000
DTEND;TZID=America/New_York:20240316T140600
DTSTAMP:20260422T125222
CREATED:20240214T225703Z
LAST-MODIFIED:20240516T175458Z
UID:10003173-1710594000-1710597960@www.scandinaviahouse.org
SUMMARY:NYICFF | MOOMINVALLEY
DESCRIPTION:Explore the world without leaving New York! The New York International Children’s Film Festival takes place March 2-17 throughout New York City in 2024\, with 10 screenings at Scandinavia House. \nIn Moominvalley\, rejoin our adventures with the adorable Moomintrolls and their whimsical and harebrained schemes! In Homecoming\, the Moomins find the community at odds and under the spell of a charismatic leader denouncing all rules. The road to friendship is not always they straightest route when Moomintroll tries to help the valley’s latest resident\, Snork (new character alert!)\, make friends in Inventing Snork. Finally\, when Moomintroll learns of Moominmamma’s love of hot air ballooning\, he’s determined to see her wildest dreams take flight in Moominmamma’s Flying Dream. Featuring the voices of Rosamund Pike\, Matt Berry\, Warwick Davis\, Rhys Darby\, and Bel Powley. (66 min. Ages 6+ | Dir. Jay Grace & Darren Robbie | United Kingdom\, 2023 | North American Premiere\, in English) \nPurchase Tickets
URL:https://www.scandinaviahouse.org/event/nyicff-moominvalley/
LOCATION:Scandinavia House\, 58 Park Avenue\, New York\, NY\, 10016\, United States
CATEGORIES:Films
ATTACH;FMTTYPE=image/jpeg:https://www.scandinaviahouse.org/wp-content/uploads/2024/02/EP312_8-1-scaled.jpg
END:VEVENT
BEGIN:VEVENT
DTSTART;TZID=America/New_York:20240316T144500
DTEND;TZID=America/New_York:20240316T160000
DTSTAMP:20260422T125222
CREATED:20240214T230047Z
LAST-MODIFIED:20240214T230047Z
UID:10003174-1710600300-1710604800@www.scandinaviahouse.org
SUMMARY:NYICFF | TOBY ALONE
DESCRIPTION:Explore the world without leaving New York! The New York International Children’s Film Festival takes place March 2-17 throughout New York City in 2024\, with 10 screenings at Scandinavia House. \nIn Toby Alone /Tobi Lolness\, 13-year-old Toby Lolness is only 1.5 millimeters tall\, living in The Great Oak Tree with his father Sim\, Treetop Village’s most promising inventor. When Sim discovers he can use the tree’s sap to power his latest contraption\, he vows to keep it a secret in order to protect their beloved home — but when word gets out\, wealthy bigwig Joe Mitch uses his influence to imprison Toby’s parents\, sending Toby running for the Lower Branches. But though he might be tiny\, don’t count Toby Lolness out just yet! Awash in beautiful water color foliage and based on the novel by Timothée de Fombelle\, Toby Alone reminds us it’s the little ones who can protect our planet. (68 min. Ages 7+ | Dir. Camille-Elvis Théry & Florian Thoure | France/Germany/Belgium\, 2023 | North American Premiere\, in English) \nPurchase Tickets
URL:https://www.scandinaviahouse.org/event/nyicff-toby-alone/
LOCATION:Scandinavia House\, 58 Park Avenue\, New York\, NY\, 10016\, United States
CATEGORIES:Films
ATTACH;FMTTYPE=image/png:https://www.scandinaviahouse.org/wp-content/uploads/2024/02/STILL_EPI_1920x1080_TobieLolness_S01E02A_sh025.png
END:VEVENT
BEGIN:VEVENT
DTSTART;TZID=America/New_York:20240316T163000
DTEND;TZID=America/New_York:20240316T180000
DTSTAMP:20260422T125222
CREATED:20240214T220304Z
LAST-MODIFIED:20240214T220304Z
UID:10003168-1710606600-1710612000@www.scandinaviahouse.org
SUMMARY:NYICFF | SHORT FILMS 3
DESCRIPTION:Explore the world without leaving New York! The New York International Children’s Film Festival takes place March 2-17 throughout New York City in 2024\, with 10 screenings at Scandinavia House. \nThe program SHORT FILMS THREE includes shorts for our older crowd — teens and grownups only. Shorts include the French animation Yuck! (dir. Loïc Espuche\, 2024\, 8 min.\, in French with English subtitles)\, and others; see the full lineup for this program here.  \nPurchase Tickets
URL:https://www.scandinaviahouse.org/event/nyicff-short-films-3/2024-03-16/
LOCATION:Scandinavia House\, 58 Park Avenue\, New York\, NY\, 10016\, United States
CATEGORIES:Films
ATTACH;FMTTYPE=image/jpeg:https://www.scandinaviahouse.org/wp-content/uploads/2024/02/Beurk_03-scaled.jpg
END:VEVENT
END:VCALENDAR