BEGIN:VCALENDAR
VERSION:2.0
PRODID:-//Scandinavia House - ECPv6.15.3//NONSGML v1.0//EN
CALSCALE:GREGORIAN
METHOD:PUBLISH
X-WR-CALNAME:Scandinavia House
X-ORIGINAL-URL:https://www.scandinaviahouse.org
X-WR-CALDESC:Events for Scandinavia House
REFRESH-INTERVAL;VALUE=DURATION:PT1H
X-Robots-Tag:noindex
X-PUBLISHED-TTL:PT1H
BEGIN:VTIMEZONE
TZID:America/New_York
BEGIN:DAYLIGHT
TZOFFSETFROM:-0500
TZOFFSETTO:-0400
TZNAME:EDT
DTSTART:20240310T070000
END:DAYLIGHT
BEGIN:STANDARD
TZOFFSETFROM:-0400
TZOFFSETTO:-0500
TZNAME:EST
DTSTART:20241103T060000
END:STANDARD
END:VTIMEZONE
BEGIN:VEVENT
DTSTART;TZID=America/New_York:20240422T120000
DTEND;TZID=America/New_York:20240422T235900
DTSTAMP:20260422T150606
CREATED:20240327T203030Z
LAST-MODIFIED:20240516T170213Z
UID:10003237-1713787200-1713830340@www.scandinaviahouse.org
SUMMARY:FILMS FROM THE FAROE ISLANDS  — VIRTUAL SCREENINGS
DESCRIPTION:Presented in Faroe Islands Culture Days\, see virtual screenings of some of the best contemporary film from the Faroe Islands in “Fog-Swept Cinema”! \nFrom April 19 through May 5\, 2024\, a virtual screening package will be available with three feature films — the coming-of-age drama Dreams by the Sea\, the surrealist feature 111 Good Days\, and the documentary Skál — as well as four short films\, showcasing today’s leading filmmakers from the North Atlantic archipelago. \nVirtual screening packages are available throughout the U.S. \nRead the full lineup here. \nPurchase tickets. 
URL:https://www.scandinaviahouse.org/event/films-from-the-faroe-islands-virtual-screenings/2024-04-22/
LOCATION:NY
CATEGORIES:Films
ATTACH;FMTTYPE=image/jpeg:https://www.scandinaviahouse.org/wp-content/uploads/2024/03/Brother-Troll-26_WEB_FSC_SCREAMER-scaled.jpg
END:VEVENT
BEGIN:VEVENT
DTSTART;TZID=America/New_York:20240423T120000
DTEND;TZID=America/New_York:20240423T235900
DTSTAMP:20260422T150606
CREATED:20240327T203030Z
LAST-MODIFIED:20240516T170213Z
UID:10003238-1713873600-1713916740@www.scandinaviahouse.org
SUMMARY:FILMS FROM THE FAROE ISLANDS  — VIRTUAL SCREENINGS
DESCRIPTION:Presented in Faroe Islands Culture Days\, see virtual screenings of some of the best contemporary film from the Faroe Islands in “Fog-Swept Cinema”! \nFrom April 19 through May 5\, 2024\, a virtual screening package will be available with three feature films — the coming-of-age drama Dreams by the Sea\, the surrealist feature 111 Good Days\, and the documentary Skál — as well as four short films\, showcasing today’s leading filmmakers from the North Atlantic archipelago. \nVirtual screening packages are available throughout the U.S. \nRead the full lineup here. \nPurchase tickets. 
URL:https://www.scandinaviahouse.org/event/films-from-the-faroe-islands-virtual-screenings/2024-04-23/
LOCATION:NY
CATEGORIES:Films
ATTACH;FMTTYPE=image/jpeg:https://www.scandinaviahouse.org/wp-content/uploads/2024/03/Brother-Troll-26_WEB_FSC_SCREAMER-scaled.jpg
END:VEVENT
BEGIN:VEVENT
DTSTART;TZID=America/New_York:20240423T174500
DTEND;TZID=America/New_York:20240423T184500
DTSTAMP:20260422T150606
CREATED:20240221T220322Z
LAST-MODIFIED:20240514T224335Z
UID:10003198-1713894300-1713897900@www.scandinaviahouse.org
SUMMARY:NORWEGIAN 1
DESCRIPTION:Learn the Nordic languages in classes offered this spring at Scandinavia House! In this beginner’s course\, you will build your Norwegian vocabulary\, pronunciation\, and grammar skills\, while also learning about Norwegian culture and life. By the course’s end\, you should be able to conduct simple conversations in Norwegian. \nYou will get to practice conversations and reading in class\, and there will be a focus on pronunciation\, and Norwegian vowels and sounds\, which may be new to your ear. Students are welcome to bring personal experiences\, anecdotes\, and facts about Norway into class discussions. There will also be at-home assignments focusing on reading\, writing\, and grammar\, as well as an optional end-of-semester presentation. \nOutside of class\, students are encouraged to watch Norwegian shows\, and movies\, read simple text\, and have Norwegian podcasts on in the background. \nThe required text will be provided via pdf\, before the first class. \nIdeal for: \n\nAbsolute beginners\nThose seeking a solid foundation in the Norwegian language\nThose interested in traveling to Norway\n\nYou will develop: \n\nBeginner-level conversational skills in Norwegian\nProficiency in basic Norwegian grammar\n\nThis hybrid class will be held both in-person and via Zoom; in-person attendance for the first four classes is highly recommended. Classes take place on Tuesday and Wednesday from 5:45-6:45 PM beginning Tuesday\, March 19. \nNo prerequisites required; instructions for remote learning will be emailed upon registration. For questions about language levels\, please contact Marie-Therese Bjornerud. Tuition is $675 ($607.50 ASF Members); 20 hours total class time. \nRequired & Recommended Material\nRequired:\nTextbook: PA VEI TEKSTBOK\, ELLINGSEN\, 2012 – ISBN: 9788202340940\nWorkbook: PA VEI ARBEIDSBOK\, ELLINGSEN\, 2012 – ISBN: 9788202343163 \nHighly Recommended:\nWord List: PA VEI Norsk-Engelsk Ordliste\, ELLINGSEN\, 2012 – ISBN: 9788202372255\nCD-set: PA VEI ELEV-CD til tekstbok\, ELLINGSEN\, 2012 – ISBN: 9788202371869 \nAlso Recommended:\nOnline exercises (both oral and written) following the textbook\nNotebooks for vocabulary as well as notes\nDuolingo (Android\, Apple) and other language apps to expand vocabulary and support the learning process \nRegister
URL:https://www.scandinaviahouse.org/event/norwegian-1/2024-04-23/
LOCATION:Scandinavia House\, 58 Park Avenue\, New York\, NY\, 10016\, United States
ATTACH;FMTTYPE=image/jpeg:https://www.scandinaviahouse.org/wp-content/uploads/2022/09/peter-hansen-TR8X68ILkGA-unsplash-new-website-scaled.jpg
END:VEVENT
BEGIN:VEVENT
DTSTART;TZID=America/New_York:20240424T120000
DTEND;TZID=America/New_York:20240424T235900
DTSTAMP:20260422T150606
CREATED:20240327T203030Z
LAST-MODIFIED:20240516T170213Z
UID:10003239-1713960000-1714003140@www.scandinaviahouse.org
SUMMARY:FILMS FROM THE FAROE ISLANDS  — VIRTUAL SCREENINGS
DESCRIPTION:Presented in Faroe Islands Culture Days\, see virtual screenings of some of the best contemporary film from the Faroe Islands in “Fog-Swept Cinema”! \nFrom April 19 through May 5\, 2024\, a virtual screening package will be available with three feature films — the coming-of-age drama Dreams by the Sea\, the surrealist feature 111 Good Days\, and the documentary Skál — as well as four short films\, showcasing today’s leading filmmakers from the North Atlantic archipelago. \nVirtual screening packages are available throughout the U.S. \nRead the full lineup here. \nPurchase tickets. 
URL:https://www.scandinaviahouse.org/event/films-from-the-faroe-islands-virtual-screenings/2024-04-24/
LOCATION:NY
CATEGORIES:Films
ATTACH;FMTTYPE=image/jpeg:https://www.scandinaviahouse.org/wp-content/uploads/2024/03/Brother-Troll-26_WEB_FSC_SCREAMER-scaled.jpg
END:VEVENT
BEGIN:VEVENT
DTSTART;TZID=America/New_York:20240424T174500
DTEND;TZID=America/New_York:20240424T184500
DTSTAMP:20260422T150606
CREATED:20240221T220322Z
LAST-MODIFIED:20240514T224335Z
UID:10003199-1713980700-1713984300@www.scandinaviahouse.org
SUMMARY:NORWEGIAN 1
DESCRIPTION:Learn the Nordic languages in classes offered this spring at Scandinavia House! In this beginner’s course\, you will build your Norwegian vocabulary\, pronunciation\, and grammar skills\, while also learning about Norwegian culture and life. By the course’s end\, you should be able to conduct simple conversations in Norwegian. \nYou will get to practice conversations and reading in class\, and there will be a focus on pronunciation\, and Norwegian vowels and sounds\, which may be new to your ear. Students are welcome to bring personal experiences\, anecdotes\, and facts about Norway into class discussions. There will also be at-home assignments focusing on reading\, writing\, and grammar\, as well as an optional end-of-semester presentation. \nOutside of class\, students are encouraged to watch Norwegian shows\, and movies\, read simple text\, and have Norwegian podcasts on in the background. \nThe required text will be provided via pdf\, before the first class. \nIdeal for: \n\nAbsolute beginners\nThose seeking a solid foundation in the Norwegian language\nThose interested in traveling to Norway\n\nYou will develop: \n\nBeginner-level conversational skills in Norwegian\nProficiency in basic Norwegian grammar\n\nThis hybrid class will be held both in-person and via Zoom; in-person attendance for the first four classes is highly recommended. Classes take place on Tuesday and Wednesday from 5:45-6:45 PM beginning Tuesday\, March 19. \nNo prerequisites required; instructions for remote learning will be emailed upon registration. For questions about language levels\, please contact Marie-Therese Bjornerud. Tuition is $675 ($607.50 ASF Members); 20 hours total class time. \nRequired & Recommended Material\nRequired:\nTextbook: PA VEI TEKSTBOK\, ELLINGSEN\, 2012 – ISBN: 9788202340940\nWorkbook: PA VEI ARBEIDSBOK\, ELLINGSEN\, 2012 – ISBN: 9788202343163 \nHighly Recommended:\nWord List: PA VEI Norsk-Engelsk Ordliste\, ELLINGSEN\, 2012 – ISBN: 9788202372255\nCD-set: PA VEI ELEV-CD til tekstbok\, ELLINGSEN\, 2012 – ISBN: 9788202371869 \nAlso Recommended:\nOnline exercises (both oral and written) following the textbook\nNotebooks for vocabulary as well as notes\nDuolingo (Android\, Apple) and other language apps to expand vocabulary and support the learning process \nRegister
URL:https://www.scandinaviahouse.org/event/norwegian-1/2024-04-24/
LOCATION:Scandinavia House\, 58 Park Avenue\, New York\, NY\, 10016\, United States
ATTACH;FMTTYPE=image/jpeg:https://www.scandinaviahouse.org/wp-content/uploads/2022/09/peter-hansen-TR8X68ILkGA-unsplash-new-website-scaled.jpg
END:VEVENT
BEGIN:VEVENT
DTSTART;TZID=America/New_York:20240424T190000
DTEND;TZID=America/New_York:20240424T203000
DTSTAMP:20260422T150606
CREATED:20240228T205447Z
LAST-MODIFIED:20240514T220340Z
UID:10002447-1713985200-1713990600@www.scandinaviahouse.org
SUMMARY:PRACTICE
DESCRIPTION:See an Earth Day screening of Practice (dir. Laurens Pérol\, Norway\, 2023)\, a coming-of-age film about an eighteen-year-old musician whose environmentalism is tested when her refusal to fly jeopardizes an audition that will make or break her career\, on April 24 at Scandinavia House! \nLike Greta Thunberg\, the talented but stubborn trumpet player Trine refuses to fly. Idealism threatens the climate activist’s promising musical career when she lands a last-minute audition in Oslo—1500 kilometers south of her home in Northern Norway. Rather than abandon her morals\, Trine decides to hitchhike her way to the capital. Practice is an unlikely road movie about passion\, righteousness and youth\, and a tender exploration of what it means to listen to ourselves. \nPurchase Tickets
URL:https://www.scandinaviahouse.org/event/practice/
LOCATION:Scandinavia House\, 58 Park Avenue\, New York\, NY\, 10016\, United States
CATEGORIES:Films
ATTACH;FMTTYPE=image/png:https://www.scandinaviahouse.org/wp-content/uploads/2024/02/NEW_Practice_scaled_WEB.png
END:VEVENT
BEGIN:VEVENT
DTSTART;TZID=America/New_York:20240425T120000
DTEND;TZID=America/New_York:20240425T235900
DTSTAMP:20260422T150606
CREATED:20240327T203030Z
LAST-MODIFIED:20240516T170213Z
UID:10003240-1714046400-1714089540@www.scandinaviahouse.org
SUMMARY:FILMS FROM THE FAROE ISLANDS  — VIRTUAL SCREENINGS
DESCRIPTION:Presented in Faroe Islands Culture Days\, see virtual screenings of some of the best contemporary film from the Faroe Islands in “Fog-Swept Cinema”! \nFrom April 19 through May 5\, 2024\, a virtual screening package will be available with three feature films — the coming-of-age drama Dreams by the Sea\, the surrealist feature 111 Good Days\, and the documentary Skál — as well as four short films\, showcasing today’s leading filmmakers from the North Atlantic archipelago. \nVirtual screening packages are available throughout the U.S. \nRead the full lineup here. \nPurchase tickets. 
URL:https://www.scandinaviahouse.org/event/films-from-the-faroe-islands-virtual-screenings/2024-04-25/
LOCATION:NY
CATEGORIES:Films
ATTACH;FMTTYPE=image/jpeg:https://www.scandinaviahouse.org/wp-content/uploads/2024/03/Brother-Troll-26_WEB_FSC_SCREAMER-scaled.jpg
END:VEVENT
BEGIN:VEVENT
DTSTART;TZID=America/New_York:20240425T180000
DTEND;TZID=America/New_York:20240425T200000
DTSTAMP:20260422T150606
CREATED:20240430T161816Z
LAST-MODIFIED:20240514T211306Z
UID:10003256-1714068000-1714075200@www.scandinaviahouse.org
SUMMARY:FOG SWEPT MANHATTAN — ADULT ART WORKSHOP WITH MELKORKA HELGADOTTIR
DESCRIPTION:Join us at Scandinavia House for an adult art workshop and tour of our current exhibition\, Fog Swept Cargo: Art from the Faroe Islands. Inspired by the work of artist Hanni Bjartalið\, workshop participants will create mixed media collages. Guided by teaching artist Korka\, participants will use patterns\, magazine images\, and various colored paper to create a view of an interior in a relaxed atmosphere. All materials are provided. \nPurchase Tickets \n 
URL:https://www.scandinaviahouse.org/event/fog-swept-manhattan-adult-art-workshop-with-melkorka-helgadottir_1/
LOCATION:Scandinavia House\, 58 Park Avenue\, New York\, NY\, 10016\, United States
ATTACH;FMTTYPE=image/png:https://www.scandinaviahouse.org/wp-content/uploads/2024/03/Korka-workshop_HANNI-BJARTALID-for-web.png
END:VEVENT
BEGIN:VEVENT
DTSTART;TZID=America/New_York:20240425T190000
DTEND;TZID=America/New_York:20240425T203000
DTSTAMP:20260422T150606
CREATED:20240306T215204Z
LAST-MODIFIED:20240514T222712Z
UID:10003223-1714071600-1714077000@www.scandinaviahouse.org
SUMMARY:HEROSTORIES | BOOK TALK WITH KRISTÍN SVAVA TÓMASDÓTTIR\, K.B. THORS & LARISSA KYZER
DESCRIPTION:Join us for a book talk with Icelandic poet and historian Kristín Svava Tómasdóttir and translator and ASF Translation Prizewinner K.B. Thors on Herostories! With moderator Larissa Kyzer (also an ASF Translation Prizewinner)\, Tómasdóttir and Thors will discuss this new work out now from Vellum Press revealing tales untold by most history books: the harrowing journeys and vital triumphs of 19th- and 20th-century midwifery in the vast landscape of Iceland. \nComposed from the memoirs and biographies of 100 Icelandic midwives\, poet-historian Kristín Svava Tómasdóttir’s found poems illuminate the dangers and valor of birthwork. Forgoing traditional sagas of androcentric conquest\, these poems center the adventures of ljósmæður\, “mothers of light.” Tómasdóttir leverages epic elements—dashing mountain treks\, rivers forded on horseback\, unyielding compassion—to challenge how and by whom stories become legend. Beyond archival recognition\, the text’s formally ambitious poetics render gender-based battles for literacy and education alongside narratives of selfless womanly caretaking\, pressurizing the fundamental tensions between feminine self-actualization and the romanticized service of these trailblazing figures. \nThe follow-up to Tómasdóttir and Thors’ award-winning\, PEN-nominated Stormwarning\, Herostories documents the professional achievements of Iceland’s first women to work outside the home\, precursors to today’s midwives who remain central to contemporary health care on the island. \nRegister
URL:https://www.scandinaviahouse.org/event/herostories-book-talk-with-kristin-svava-tomasdottir-k-b-thors-larissa-kyzer/
LOCATION:Scandinavia House\, 58 Park Avenue\, New York\, NY\, 10016\, United States
ATTACH;FMTTYPE=image/jpeg:https://www.scandinaviahouse.org/wp-content/uploads/2024/02/Herostories_WEB-scaled.jpg
END:VEVENT
BEGIN:VEVENT
DTSTART;TZID=America/New_York:20240426T120000
DTEND;TZID=America/New_York:20240426T235900
DTSTAMP:20260422T150606
CREATED:20240327T203030Z
LAST-MODIFIED:20240516T170213Z
UID:10003241-1714132800-1714175940@www.scandinaviahouse.org
SUMMARY:FILMS FROM THE FAROE ISLANDS  — VIRTUAL SCREENINGS
DESCRIPTION:Presented in Faroe Islands Culture Days\, see virtual screenings of some of the best contemporary film from the Faroe Islands in “Fog-Swept Cinema”! \nFrom April 19 through May 5\, 2024\, a virtual screening package will be available with three feature films — the coming-of-age drama Dreams by the Sea\, the surrealist feature 111 Good Days\, and the documentary Skál — as well as four short films\, showcasing today’s leading filmmakers from the North Atlantic archipelago. \nVirtual screening packages are available throughout the U.S. \nRead the full lineup here. \nPurchase tickets. 
URL:https://www.scandinaviahouse.org/event/films-from-the-faroe-islands-virtual-screenings/2024-04-26/
LOCATION:NY
CATEGORIES:Films
ATTACH;FMTTYPE=image/jpeg:https://www.scandinaviahouse.org/wp-content/uploads/2024/03/Brother-Troll-26_WEB_FSC_SCREAMER-scaled.jpg
END:VEVENT
BEGIN:VEVENT
DTSTART;TZID=America/New_York:20240427T120000
DTEND;TZID=America/New_York:20240427T235900
DTSTAMP:20260422T150606
CREATED:20240327T203030Z
LAST-MODIFIED:20240516T170213Z
UID:10003242-1714219200-1714262340@www.scandinaviahouse.org
SUMMARY:FILMS FROM THE FAROE ISLANDS  — VIRTUAL SCREENINGS
DESCRIPTION:Presented in Faroe Islands Culture Days\, see virtual screenings of some of the best contemporary film from the Faroe Islands in “Fog-Swept Cinema”! \nFrom April 19 through May 5\, 2024\, a virtual screening package will be available with three feature films — the coming-of-age drama Dreams by the Sea\, the surrealist feature 111 Good Days\, and the documentary Skál — as well as four short films\, showcasing today’s leading filmmakers from the North Atlantic archipelago. \nVirtual screening packages are available throughout the U.S. \nRead the full lineup here. \nPurchase tickets. 
URL:https://www.scandinaviahouse.org/event/films-from-the-faroe-islands-virtual-screenings/2024-04-27/
LOCATION:NY
CATEGORIES:Films
ATTACH;FMTTYPE=image/jpeg:https://www.scandinaviahouse.org/wp-content/uploads/2024/03/Brother-Troll-26_WEB_FSC_SCREAMER-scaled.jpg
END:VEVENT
BEGIN:VEVENT
DTSTART;TZID=America/New_York:20240427T140000
DTEND;TZID=America/New_York:20240427T153000
DTSTAMP:20260422T150606
CREATED:20240320T175244Z
LAST-MODIFIED:20240514T212358Z
UID:10003231-1714226400-1714231800@www.scandinaviahouse.org
SUMMARY:D FOR DAUGHTER | BOOK TALK WITH ELINA BIRKEHAG
DESCRIPTION:Join us April 27 to celebrate the book launch of D For Daughter\, a new photobook by Stockholm-based artist Elina Birkehag out now from D.A.P./Artbooks! \nDeep in Dalarna\, Sweden\, scattered amongst stumps and newer growth trees\, stand Scotch pine trees\, hundreds of years old—thick\, gnarled\, and covered with carvings. The messages inscribed into their trunks were made by female shepherds from the 17th- to 20th-centuries who left their villages to live and work together on the fäbod (summer farm)\, and lead their families’ cattle to graze. Out in the pastures\, these young women carved dates\, their initials\, and notes to each other. The trunks became inscribed with a kind of frenetic teenage scrawl\, a coded language\, an assertion of their existence: HERE WE CARVE OUR NAMES. \nThe artist Elina Birkehag grew up in a village not far from these woods. She has searched and documented the carved messages on the trees—a “living” archive that will also die\, decompose\, and eventually disappear. D For Daughter collects these written notes\, drawings\, photographs\, and other findings\, connecting readers with the female shepherds and allow them to read the trees. \nWith contributions by Quinn Latimer\, Meg Miller\, Matilda Kenttä & Linnea Rutz\, Jungmyung Lee\, Jennie Tiderman-Österberg\, and Amelia Groom & M. Ty\, as well as graphic design and co-editing by Laslo Strong\, D For Daughter forms a dialogue with this barely-studied writing system and relate it to contemporary themes of knowledge sharing\, gossip\, ecology\, labor and art. \nRegister
URL:https://www.scandinaviahouse.org/event/d-is-for-daughter-book-talk-with-elina-birkehag/
LOCATION:Scandinavia House\, 58 Park Avenue\, New York\, NY\, 10016\, United States
ATTACH;FMTTYPE=image/jpeg:https://www.scandinaviahouse.org/wp-content/uploads/2024/03/05-our-polite-society-2023-d-for-daugther-elina-birkehag_WEB-scaled.jpg
END:VEVENT
BEGIN:VEVENT
DTSTART;TZID=America/New_York:20240428T120000
DTEND;TZID=America/New_York:20240428T235900
DTSTAMP:20260422T150606
CREATED:20240327T203030Z
LAST-MODIFIED:20240516T170213Z
UID:10003243-1714305600-1714348740@www.scandinaviahouse.org
SUMMARY:FILMS FROM THE FAROE ISLANDS  — VIRTUAL SCREENINGS
DESCRIPTION:Presented in Faroe Islands Culture Days\, see virtual screenings of some of the best contemporary film from the Faroe Islands in “Fog-Swept Cinema”! \nFrom April 19 through May 5\, 2024\, a virtual screening package will be available with three feature films — the coming-of-age drama Dreams by the Sea\, the surrealist feature 111 Good Days\, and the documentary Skál — as well as four short films\, showcasing today’s leading filmmakers from the North Atlantic archipelago. \nVirtual screening packages are available throughout the U.S. \nRead the full lineup here. \nPurchase tickets. 
URL:https://www.scandinaviahouse.org/event/films-from-the-faroe-islands-virtual-screenings/2024-04-28/
LOCATION:NY
CATEGORIES:Films
ATTACH;FMTTYPE=image/jpeg:https://www.scandinaviahouse.org/wp-content/uploads/2024/03/Brother-Troll-26_WEB_FSC_SCREAMER-scaled.jpg
END:VEVENT
END:VCALENDAR